Workbook

Sheet Laboratory A
A1: Hund (Dog) | B1: Wiesenknäuelgras (Dactylis glomerata) | E1: Wiesenlieschgras (Phleum pratense) | H1: Englisches Ryegras (Lolium perenne) | K1: Wiesenrispengras (Poa pratensis) | N1: Hundszahngras (Cynodon dactylon) | Q1: Saat-Hafer (Avena sativa) | T1: Roggen (Secale cereale) | W1: Speisemilbe (Tyrophagus putrescentiae) | Z1: Am. Hausstaubmilbe (D. farinae) | AC1: Heumilbe (Lepidoglyphus destructor) | AF1: Eur. Hausstaubmilbe (D. pteronyssinus) | AI1: Mehlmilbe (Acarus siro) | AL1: Floh (Flea) | AO1: Birke (Betula) | AR1: Hasel (Corylus) | AU1: Plantane (Platanus) | AX1: Ulme (Ulmus) | BA1: Korb-Weide (Salix viminalis) | BD1: Gemeine Beifuß (Artemisia spp.) | BG1: Brennessel (Urtica dioica) | BJ1: Spitzwegerich (Plantago lanceolata) | BM1: Weißer Gänsefuß (Chenopodium spp.) | BP1: Löwenzahn (Taraxacum) | BS1: Kleiner Sauerampfer (Rumex acetosa) | BV1: Beifuß-Ambrosie (Ambrosia artemisiifolia) | BY1: Alternaria alternata | CB1: Aspergillus fumigatus | CE1: Cladosporium herbarum | CH1: Malassezia
A2: Valic "Eric" | B2: 51 | C2: 215 | D2: 49 | E2: 88 | F2: 36 | G2: 65 | H2: 30 | I2: 52 | J2: 44 | K2: 94 | L2: 162 | M2: 36 | N2: 50 | O2: 56 | P2: 52 | Q2: 48 | R2: 56 | S2: 47 | T2: 44 | U2: 25 | V2: 88 | W2: 61 | X2: 212 | Y2: 176 | Z2: 28 | AA2: 48 | AB2: 38 | AC2: 56 | AD2: 43 | AE2: 29 | AF2: 21 | AG2: 67 | AH2: 20 | AI2: 26 | AJ2: 265 | AK2: 156 | AL2: 59 | AM2: 29 | AN2: 63 | AO2: 40 | AP2: 91 | AQ2: 59 | AR2: 43 | AS2: 54 | AT2: 26 | AU2: 59 | AV2: 35 | AW2: 38 | AX2: 47 | AY2: 55 | AZ2: 25 | BA2: 78 | BB2: 188 | BC2: 172 | BD2: 27 | BE2: 82 | BF2: 35 | BG2: 38 | BH2: 60 | BI2: 30 | BJ2: 30 | BK2: 66 | BL2: 23 | BM2: 57 | BN2: 221 | BO2: 34 | BP2: 30 | BQ2: 60 | BR2: 30 | BS2: 93 | BT2: 49 | BU2: 35 | BV2: 58 | BW2: 34 | BX2: 29 | BY2: 52 | BZ2: 75 | CA2: 48 | CB2: 59 | CC2: 43 | CD2: 29 | CE2: 33 | CF2: 30 | CG2: 45 | CH2: 23 | CI2: 22 | CJ2: 28
A3: Klenk "Fiete" | B3: 61 | C3: 21 | D3: 54 | E3: 30 | F3: 22 | G3: 70 | H3: 228 | I3: 54 | J3: 255 | K3: 229 | L3: 76 | M3: 167 | N3: 69 | O3: 60 | P3: 253 | Q3: 10 | R3: 59 | S3: 59 | T3: 34 | U3: 63 | V3: 77 | W3: 51 | X3: 56 | Y3: 72 | Z3: 32 | AA3: 41 | AB3: 77 | AC3: 29 | AD3: 24 | AE3: 47 | AF3: 44 | AG3: 48 | AH3: 95 | AI3: 27 | AJ3: 31 | AK3: 19 | AL3: 27 | AM3: 27 | AN3: 54 | AO3: 28 | AP3: 29 | AQ3: 20 | AR3: 20 | AS3: 22 | AT3: 70 | AU3: 46 | AV3: 24 | AW3: 83 | AX3: 50 | AY3: 48 | AZ3: 83 | BA3: 59 | BB3: 56 | BC3: 50 | BD3: 22 | BE3: 22 | BF3: 74 | BG3: 26 | BH3: 29 | BI3: 64 | BJ3: 29 | BK3: 29 | BL3: 76 | BM3: 35 | BN3: 34 | BO3: 69 | BP3: 30 | BQ3: 31 | BR3: 95 | BS3: 55 | BT3: 50 | BU3: 66 | BV3: 56 | BW3: 27 | BX3: 10 | BY3: 26 | BZ3: 61 | CA3: 92 | CB3: 47 | CC3: 69 | CD3: 85 | CE3: 20 | CF3: 20 | CG3: 41 | CH3: 27 | CI3: 29 | CJ3: 18
A4: Pintsch "Lilly" | B4: 36 | C4: 23 | D4: 34 | E4: 214 | F4: 296 | G4: 286 | H4: 780 | I4: 775 | J4: 424 | K4: 329 | L4: 737 | M4: 435 | N4: 812 | O4: 763 | P4: 887 | Q4: 35 | R4: 71 | S4: 34 | T4: 82 | U4: 201 | V4: 287 | W4: 456 | X4: 500 | Y4: 447 | Z4: 199 | AA4: 207 | AB4: 275 | AC4: 29 | AD4: 29 | AE4: 82 | AF4: 81 | AG4: 47 | AH4: 55 | AI4: 599 | AJ4: 613 | AK4: 542 | AL4: 33 | AM4: 33 | AN4: 53 | AO4: 590 | AP4: 679 | AQ4: 498 | AR4: 45 | AS4: 45 | AT4: 291 | AU4: 51 | AV4: 56 | AW4: 32 | AX4: 59 | AY4: 35 | AZ4: 421 | BA4: 413 | BB4: 468 | BC4: 407 | BD4: 218 | BE4: 247 | BF4: 207 | BG4: 446 | BH4: 937 | BI4: 434 | BJ4: 175 | BK4: 65 | BL4: 171 | BM4: 406 | BN4: 703 | BO4: 422 | BP4: 358 | BQ4: 655 | BR4: 440 | BS4: 379 | BT4: 644 | BU4: 456 | BV4: 59 | BW4: 52 | BX4: 58 | BY4: 44 | BZ4: 25 | CA4: 50 | CB4: 62 | CC4: 13 | CD4: 9 | CE4: 40 | CF4: 30 | CG4: 37 | CH4: 35 | CI4: 34 | CJ4: 9
A5: Funken "Themba" | B5: 425 | C5: 407 | D5: 374 | E5: 209 | F5: 204 | G5: 353 | H5: 380 | I5: 347 | J5: 358 | K5: 955 | L5: 964 | M5: 882 | N5: 729 | O5: 725 | P5: 613 | Q5: 142 | R5: 377 | S5: 68 | T5: 278 | U5: 320 | V5: 273 | W5: 455 | X5: 494 | Y5: 421 | Z5: 281 | AA5: 279 | AB5: 279 | AC5: 39 | AD5: 40 | AE5: 38 | AF5: 46 | AG5: 45 | AH5: 41 | AI5: 264 | AJ5: 283 | AK5: 233 | AL5: 140 | AM5: 180 | AN5: 104 | AO5: 206 | AP5: 221 | AQ5: 191 | AR5: 249 | AS5: 253 | AT5: 203 | AU5: 237 | AV5: 246 | AW5: 239 | AX5: 139 | AY5: 125 | AZ5: 156 | BA5: 184 | BB5: 176 | BC5: 175 | BD5: 158 | BE5: 182 | BF5: 161 | BG5: 45 | BH5: 174 | BI5: 74 | BJ5: 32 | BK5: 28 | BL5: 249 | BM5: 186 | BN5: 170 | BO5: 374 | BP5: 155 | BQ5: 146 | BR5: 163 | BS5: 71 | BT5: 58 | BU5: 155 | BV5: 122 | BW5: 115 | BX5: 114 | BY5: 23 | BZ5: 30 | CA5: 29 | CB5: 30 | CC5: 85 | CD5: 29 | CE5: 52 | CF5: 80 | CG5: 64 | CH5: 24 | CI5: 25 | CJ5: 16
A6: Tietzen "Oscar" | B6: 154 | C6: 163 | D6: 189 | E6: 47 | F6: 50 | G6: 54 | H6: 94 | I6: 85 | J6: 87 | K6: 196 | L6: 212 | M6: 298 | N6: 219 | O6: 182 | P6: 151 | Q6: 36 | R6: 34 | S6: 33 | T6: 61 | U6: 64 | V6: 788 | W6: 411 | X6: 258 | Y6: 316 | Z6: 257 | AA6: 272 | AB6: 256 | AC6: 22 | AD6: 28 | AE6: 27 | AF6: 10 | AG6: 19 | AH6: 53 | AI6: 296 | AJ6: 317 | AK6: 299 | AL6: 51 | AM6: 47 | AN6: 42 | AO6: 95 | AP6: 327 | AQ6: 89 | AR6: 85 | AS6: 94 | AT6: 94 | AU6: 72 | AV6: 58 | AW6: 66 | AX6: 89 | AY6: 32 | AZ6: 62 | BA6: 16 | BB6: 830 | BC6: 19 | BD6: 75 | BE6: 76 | BF6: 57 | BG6: 41 | BH6: 19 | BI6: 32 | BJ6: 65 | BK6: 64 | BL6: 62 | BM6: 154 | BN6: 156 | BO6: 692 | BP6: 103 | BQ6: 113 | BR6: 72 | BS6: 182 | BT6: 22 | BU6: 23 | BV6: 29 | BW6: 34 | BX6: 27 | BY6: 21 | BZ6: 19 | CA6: 24 | CB6: 32 | CC6: 30 | CD6: 28 | CE6: 35 | CF6: 25 | CG6: 26 | CH6: 31 | CI6: 35 | CJ6: 26
A7: extern
A8: Zeitler "Pinie" | B8: 269 | C8: 170 | D8: 165 | E8: 28 | F8: 31 | G8: 34 | H8: 67 | I8: 62 | J8: 73 | K8: 523 | L8: 381 | M8: 418 | N8: 324 | O8: 178 | P8: 215 | Q8: 43 | R8: 35 | S8: 24 | T8: 158 | U8: 52 | V8: 54 | W8: 187 | X8: 908 | Y8: 202 | Z8: 27 | AA8: 302 | AB8: 210 | AC8: 17 | AD8: 23 | AE8: 22 | AF8: 435 | AG8: 24 | AH8: 28 | AI8: 52 | AJ8: 256 | AK8: 256 | AL8: 47 | AM8: 48 | AN8: 51 | AO8: 220 | AP8: 160 | AQ8: 89 | AR8: 153 | AS8: 111 | AT8: 57 | AU8: 484 | AV8: 60 | AW8: 123 | AX8: 33 | AY8: 76 | AZ8: 363 | BA8: 25 | BB8: 90 | BC8: 402 | BD8: 58 | BE8: 25 | BF8: 58 | BG8: 102 | BH8: 32 | BI8: 32 | BJ8: 64 | BK8: 65 | BL8: 49 | BM8: 34 | BN8: 104 | BO8: 139 | BP8: 156 | BQ8: 146 | BR8: 106 | BS8: 32 | BT8: 55 | BU8: 32 | BV8: 75 | BW8: 54 | BX8: 74 | BY8: 17 | BZ8: 12 | CA8: 64 | CB8: 29 | CC8: 35 | CD8: 25 | CE8: 22 | CF8: 64 | CG8: 59 | CH8: 16 | CI8: 22 | CJ8: 20
A9: Mutscheller "Mira" | B9: 172 | C9: 204 | D9: 26 | E9: 55 | F9: 78 | G9: 52 | H9: 175 | I9: 155 | J9: 81 | K9: 492 | L9: 595 | M9: 395 | N9: 522 | O9: 429 | P9: 287 | Q9: 47 | R9: 37 | S9: 30 | T9: 105 | U9: 96 | V9: 61 | W9: 618 | X9: 497 | Y9: 377 | Z9: 279 | AA9: 468 | AB9: 213 | AC9: 40 | AD9: 31 | AE9: 23 | AF9: 28 | AG9: 88 | AH9: 30 | AI9: 283 | AJ9: 290 | AK9: 222 | AL9: 80 | AM9: 67 | AN9: 66 | AO9: 159 | AP9: 172 | AQ9: 130 | AR9: 178 | AS9: 171 | AT9: 101 | AU9: 176 | AV9: 93 | AW9: 69 | AX9: 682 | AY9: 657 | AZ9: 56 | BA9: 761 | BB9: 697 | BC9: 49 | BD9: 121 | BE9: 121 | BF9: 98 | BG9: 46 | BH9: 17 | BI9: 23 | BJ9: 105 | BK9: 68 | BL9: 98 | BM9: 578 | BN9: 513 | BO9: 382 | BP9: 25 | BQ9: 36 | BR9: 32 | BS9: 163 | BT9: 156 | BU9: 153 | BV9: 83 | BW9: 89 | BX9: 77 | BY9: 17 | BZ9: 18 | CA9: 30 | CB9: 32 | CC9: 36 | CD9: 26 | CE9: 25 | CF9: 19 | CG9: 47 | CH9: 45 | CI9: 25 | CJ9: 19
A10: Kern "Wayty" | B10: 27 | C10: 107 | D10: 28 | E10: 50 | F10: 55 | G10: 44 | H10: 74 | I10: 91 | J10: 80 | K10: 83 | L10: 265 | M10: 42 | N10: 221 | O10: 278 | P10: 119 | Q10: 29 | R10: 32 | S10: 200 | T10: 147 | U10: 51 | V10: 52 | W10: 56 | X10: 52 | Y10: 45 | Z10: 34 | AA10: 35 | AB10: 33 | AC10: 66 | AD10: 19 | AE10: 27 | AF10: 26 | AG10: 26 | AH10: 37 | AI10: 89 | AJ10: 116 | AK10: 71 | AL10: 42 | AM10: 41 | AN10: 47 | AO10: 82 | AP10: 112 | AQ10: 75 | AR10: 69 | AS10: 170 | AT10: 55 | AU10: 45 | AV10: 44 | AW10: 87 | AX10: 74 | AY10: 72 | AZ10: 66 | BA10: 207 | BB10: 31 | BC10: 29 | BD10: 76 | BE10: 62 | BF10: 74 | BG10: 59 | BH10: 75 | BI10: 26 | BJ10: 23 | BK10: 190 | BL10: 69 | BM10: 83 | BN10: 45 | BO10: 88 | BP10: 81 | BQ10: 189 | BR10: 116 | BS10: 223 | BT10: 156 | BU10: 112 | BV10: 42 | BW10: 49 | BX10: 55 | BY10: 23 | BZ10: 15 | CA10: 33 | CB10: 30 | CC10: 31 | CD10: 90 | CE10: 56 | CF10: 52 | CG10: 23 | CH10: 24 | CI10: 22 | CJ10: 28
A11: Lang "Wenzl" | B11: 17 | C11: 39 | D11: 74 | E11: 18 | F11: 70 | G11: 20 | H11: 16 | I11: 20 | J11: 16 | K11: 48 | L11: 55 | M11: 49 | N11: 22 | O11: 43 | P11: 32 | Q11: 21 | R11: 19 | S11: 23 | T11: 15 | U11: 49 | V11: 25 | W11: 33 | X11: 30 | Y11: 19 | Z11: 10 | AA11: 33 | AB11: 19 | AC11: 25 | AD11: 25 | AE11: 17 | AF11: 23 | AG11: 20 | AH11: 9 | AI11: 32 | AJ11: 25 | AK11: 23 | AL11: 25 | AM11: 25 | AN11: 28 | AO11: 21 | AP11: 33 | AQ11: 39 | AR11: 15 | AS11: 15 | AT11: 15 | AU11: 12 | AV11: 15 | AW11: 16 | AX11: 36 | AY11: 35 | AZ11: 43 | BA11: 31 | BB11: 31 | BC11: 29 | BD11: 13 | BE11: 26 | BF11: 16 | BG11: 19 | BH11: 26 | BI11: 15 | BJ11: 23 | BK11: 38 | BL11: 44 | BM11: 24 | BN11: 27 | BO11: 13 | BP11: 38 | BQ11: 71 | BR11: 66 | BS11: 26 | BT11: 131 | BU11: 18 | BV11: 31 | BW11: 18 | BX11: 18 | BY11: 15 | BZ11: 18 | CA11: 17 | CB11: 29 | CC11: 27 | CD11: 32 | CE11: 25 | CF11: 30 | CG11: 14 | CH11: 28 | CI11: 23 | CJ11: 23
A12: Engelhardt "Pepa" | B12: 20 | C12: 57 | E12: 68 | F12: 39 | H12: 59 | I12: 58 | K12: 40 | L12: 33 | N12: 28 | O12: 58 | Q12: 54 | R12: 58 | T12: 56 | U12: 56 | W12: 27 | X12: 37 | Z12: 25 | AA12: 27 | AC12: 21 | AD12: 34 | AF12: 17 | AG12: 20 | AI12: 21 | AJ12: 20 | AL12: 18 | AM12: 16 | AO12: 26 | AP12: 24 | AR12: 19 | AS12: 15 | AU12: 17 | AV12: 14 | AX12: 24 | AY12: 25 | BA12: 27 | BB12: 24 | BD12: 57 | BE12: 20 | BG12: 13 | BH12: 12 | BJ12: 17 | BK12: 18 | BM12: 25 | BN12: 22 | BP12: 26 | BQ12: 21 | BS12: 19 | BT12: 15 | BV12: 13 | BW12: 22 | BY12: 23 | BZ12: 34 | CB12: 16 | CC12: 17 | CE12: 65 | CF12: 41 | CH12: 19 | CI12: 17
A16: Auswertung: | B16: < 150 = 0 | C16: 150-200 = 1 | D16: >200 = 2
A17: Valic "Eric" | B17: =IF(B2<150,0,IF(B2<200,1,IF(B2>=200,2))) -> 0 | C17: =IF(C2<150,0,IF(C2<200,1,IF(C2>=200,2))) -> 2 | D17: =IF(D2<150,0,IF(D2<200,1,IF(D2>=200,2))) -> 0 | E17: =IF(E2<150,0,IF(E2<200,1,IF(E2>=200,2))) -> 0 | F17: =IF(F2<150,0,IF(F2<200,1,IF(F2>=200,2))) -> 0 | G17: =IF(G2<150,0,IF(G2<200,1,IF(G2>=200,2))) -> 0 | H17: =IF(H2<150,0,IF(H2<200,1,IF(H2>=200,2))) -> 0 | I17: =IF(I2<150,0,IF(I2<200,1,IF(I2>=200,2))) -> 0 | ... CJ17: =IF(CJ2<150,0,IF(CJ2<200,1,IF(CJ2>=200,2))) -> 0
A18: Klenk "Fiete" | B18: =IF(B3<150,0,IF(B3<200,1,IF(B3>=200,2))) -> 0 | C18: =IF(C3<150,0,IF(C3<200,1,IF(C3>=200,2))) -> 0 | D18: =IF(D3<150,0,IF(D3<200,1,IF(D3>=200,2))) -> 0 | E18: =IF(E3<150,0,IF(E3<200,1,IF(E3>=200,2))) -> 0 | F18: =IF(F3<150,0,IF(F3<200,1,IF(F3>=200,2))) -> 0 | G18: =IF(G3<150,0,IF(G3<200,1,IF(G3>=200,2))) -> 0 | H18: =IF(H3<150,0,IF(H3<200,1,IF(H3>=200,2))) -> 2 | I18: =IF(I3<150,0,IF(I3<200,1,IF(I3>=200,2))) -> 0 | ... CJ18: =IF(CJ3<150,0,IF(CJ3<200,1,IF(CJ3>=200,2))) -> 0
A19: Pintsch "Lilly" | B19: =IF(B4<150,0,IF(B4<200,1,IF(B4>=200,2))) -> 0 | C19: =IF(C4<150,0,IF(C4<200,1,IF(C4>=200,2))) -> 0 | D19: =IF(D4<150,0,IF(D4<200,1,IF(D4>=200,2))) -> 0 | E19: =IF(E4<150,0,IF(E4<200,1,IF(E4>=200,2))) -> 2 | F19: =IF(F4<150,0,IF(F4<200,1,IF(F4>=200,2))) -> 2 | G19: =IF(G4<150,0,IF(G4<200,1,IF(G4>=200,2))) -> 2 | H19: =IF(H4<150,0,IF(H4<200,1,IF(H4>=200,2))) -> 2 | I19: =IF(I4<150,0,IF(I4<200,1,IF(I4>=200,2))) -> 2 | ... CJ19: =IF(CJ4<150,0,IF(CJ4<200,1,IF(CJ4>=200,2))) -> 0
A20: Funken "Themba" | B20: =IF(B5<150,0,IF(B5<200,1,IF(B5>=200,2))) -> 2 | C20: =IF(C5<150,0,IF(C5<200,1,IF(C5>=200,2))) -> 2 | D20: =IF(D5<150,0,IF(D5<200,1,IF(D5>=200,2))) -> 2 | E20: =IF(E5<150,0,IF(E5<200,1,IF(E5>=200,2))) -> 2 | F20: =IF(F5<150,0,IF(F5<200,1,IF(F5>=200,2))) -> 2 | G20: =IF(G5<150,0,IF(G5<200,1,IF(G5>=200,2))) -> 2 | H20: =IF(H5<150,0,IF(H5<200,1,IF(H5>=200,2))) -> 2 | I20: =IF(I5<150,0,IF(I5<200,1,IF(I5>=200,2))) -> 2 | ... CJ20: =IF(CJ5<150,0,IF(CJ5<200,1,IF(CJ5>=200,2))) -> 0
A21: Tietzen "Oscar" | B21: =IF(B6<150,0,IF(B6<200,1,IF(B6>=200,2))) -> 1 | C21: =IF(C6<150,0,IF(C6<200,1,IF(C6>=200,2))) -> 1 | D21: =IF(D6<150,0,IF(D6<200,1,IF(D6>=200,2))) -> 1 | E21: =IF(E6<150,0,IF(E6<200,1,IF(E6>=200,2))) -> 0 | F21: =IF(F6<150,0,IF(F6<200,1,IF(F6>=200,2))) -> 0 | G21: =IF(G6<150,0,IF(G6<200,1,IF(G6>=200,2))) -> 0 | H21: =IF(H6<150,0,IF(H6<200,1,IF(H6>=200,2))) -> 0 | I21: =IF(I6<150,0,IF(I6<200,1,IF(I6>=200,2))) -> 0 | ... CJ21: =IF(CJ6<150,0,IF(CJ6<200,1,IF(CJ6>=200,2))) -> 0
A22: extern
A23: Zeitler "Pinie" | B23: =IF(B8<150,0,IF(B8<200,1,IF(B8>=200,2))) -> 2 | C23: =IF(C8<150,0,IF(C8<200,1,IF(C8>=200,2))) -> 1 | D23: =IF(D8<150,0,IF(D8<200,1,IF(D8>=200,2))) -> 1 | E23: =IF(E8<150,0,IF(E8<200,1,IF(E8>=200,2))) -> 0 | F23: =IF(F8<150,0,IF(F8<200,1,IF(F8>=200,2))) -> 0 | G23: =IF(G8<150,0,IF(G8<200,1,IF(G8>=200,2))) -> 0 | H23: =IF(H8<150,0,IF(H8<200,1,IF(H8>=200,2))) -> 0 | I23: =IF(I8<150,0,IF(I8<200,1,IF(I8>=200,2))) -> 0 | ... CJ23: =IF(CJ8<150,0,IF(CJ8<200,1,IF(CJ8>=200,2))) -> 0
A24: Mutscheller "Mira" | B24: =IF(B9<150,0,IF(B9<200,1,IF(B9>=200,2))) -> 1 | C24: =IF(C9<150,0,IF(C9<200,1,IF(C9>=200,2))) -> 2 | D24: =IF(D9<150,0,IF(D9<200,1,IF(D9>=200,2))) -> 0 | E24: =IF(E9<150,0,IF(E9<200,1,IF(E9>=200,2))) -> 0 | F24: =IF(F9<150,0,IF(F9<200,1,IF(F9>=200,2))) -> 0 | G24: =IF(G9<150,0,IF(G9<200,1,IF(G9>=200,2))) -> 0 | H24: =IF(H9<150,0,IF(H9<200,1,IF(H9>=200,2))) -> 1 | I24: =IF(I9<150,0,IF(I9<200,1,IF(I9>=200,2))) -> 1 | ... CJ24: =IF(CJ9<150,0,IF(CJ9<200,1,IF(CJ9>=200,2))) -> 0
A25: Kern "Wayty" | B25: =IF(B10<150,0,IF(B10<200,1,IF(B10>=200,2))) -> 0 | C25: =IF(C10<150,0,IF(C10<200,1,IF(C10>=200,2))) -> 0 | D25: =IF(D10<150,0,IF(D10<200,1,IF(D10>=200,2))) -> 0 | E25: =IF(E10<150,0,IF(E10<200,1,IF(E10>=200,2))) -> 0 | F25: =IF(F10<150,0,IF(F10<200,1,IF(F10>=200,2))) -> 0 | G25: =IF(G10<150,0,IF(G10<200,1,IF(G10>=200,2))) -> 0 | H25: =IF(H10<150,0,IF(H10<200,1,IF(H10>=200,2))) -> 0 | I25: =IF(I10<150,0,IF(I10<200,1,IF(I10>=200,2))) -> 0 | ... CJ25: =IF(CJ10<150,0,IF(CJ10<200,1,IF(CJ10>=200,2))) -> 0
A26: Lang "Wenzl" | B26: =IF(B11<150,0,IF(B11<200,1,IF(B11>=200,2))) -> 0 | C26: =IF(C11<150,0,IF(C11<200,1,IF(C11>=200,2))) -> 0 | D26: =IF(D11<150,0,IF(D11<200,1,IF(D11>=200,2))) -> 0 | E26: =IF(E11<150,0,IF(E11<200,1,IF(E11>=200,2))) -> 0 | F26: =IF(F11<150,0,IF(F11<200,1,IF(F11>=200,2))) -> 0 | G26: =IF(G11<150,0,IF(G11<200,1,IF(G11>=200,2))) -> 0 | H26: =IF(H11<150,0,IF(H11<200,1,IF(H11>=200,2))) -> 0 | I26: =IF(I11<150,0,IF(I11<200,1,IF(I11>=200,2))) -> 0 | ... CJ26: =IF(CJ11<150,0,IF(CJ11<200,1,IF(CJ11>=200,2))) -> 0
A27: Engelhardt "Pepa" | B27: =IF(B12<150,0,IF(B12<200,1,IF(B12>=200,2))) -> 0 | C27: =IF(C12<150,0,IF(C12<200,1,IF(C12>=200,2))) -> 0 | E27: =IF(E12<150,0,IF(E12<200,1,IF(E12>=200,2))) -> 0 | F27: =IF(F12<150,0,IF(F12<200,1,IF(F12>=200,2))) -> 0 | H27: =IF(H12<150,0,IF(H12<200,1,IF(H12>=200,2))) -> 0 | I27: =IF(I12<150,0,IF(I12<200,1,IF(I12>=200,2))) -> 0 | K27: =IF(K12<150,0,IF(K12<200,1,IF(K12>=200,2))) -> 0 | L27: =IF(L12<150,0,IF(L12<200,1,IF(L12>=200,2))) -> 0 | N27: =IF(N12<150,0,IF(N12<200,1,IF(N12>=200,2))) -> 0 | O27: =IF(O12<150,0,IF(O12<200,1,IF(O12>=200,2))) -> 0 | Q27: =IF(Q12<150,0,IF(Q12<200,1,IF(Q12>=200,2))) -> 0 | R27: =IF(R12<150,0,IF(R12<200,1,IF(R12>=200,2))) -> 0 | T27: =IF(T12<150,0,IF(T12<200,1,IF(T12>=200,2))) -> 0 | U27: =IF(U12<150,0,IF(U12<200,1,IF(U12>=200,2))) -> 0 | W27: =IF(W12<150,0,IF(W12<200,1,IF(W12>=200,2))) -> 0 | X27: =IF(X12<150,0,IF(X12<200,1,IF(X12>=200,2))) -> 0 | Z27: =IF(Z12<150,0,IF(Z12<200,1,IF(Z12>=200,2))) -> 0 | AA27: =IF(AA12<150,0,IF(AA12<200,1,IF(AA12>=200,2))) -> 0 | AC27: =IF(AC12<150,0,IF(AC12<200,1,IF(AC12>=200,2))) -> 0 | AD27: =IF(AD12<150,0,IF(AD12<200,1,IF(AD12>=200,2))) -> 0 | AF27: =IF(AF12<150,0,IF(AF12<200,1,IF(AF12>=200,2))) -> 0 | AG27: =IF(AG12<150,0,IF(AG12<200,1,IF(AG12>=200,2))) -> 0 | AI27: =IF(AI12<150,0,IF(AI12<200,1,IF(AI12>=200,2))) -> 0 | AJ27: =IF(AJ12<150,0,IF(AJ12<200,1,IF(AJ12>=200,2))) -> 0 | AL27: =IF(AL12<150,0,IF(AL12<200,1,IF(AL12>=200,2))) -> 0 | AM27: =IF(AM12<150,0,IF(AM12<200,1,IF(AM12>=200,2))) -> 0 | AO27: =IF(AO12<150,0,IF(AO12<200,1,IF(AO12>=200,2))) -> 0 | AP27: =IF(AP12<150,0,IF(AP12<200,1,IF(AP12>=200,2))) -> 0 | AR27: =IF(AR12<150,0,IF(AR12<200,1,IF(AR12>=200,2))) -> 0 | AS27: =IF(AS12<150,0,IF(AS12<200,1,IF(AS12>=200,2))) -> 0 | AU27: =IF(AU12<150,0,IF(AU12<200,1,IF(AU12>=200,2))) -> 0 | AV27: =IF(AV12<150,0,IF(AV12<200,1,IF(AV12>=200,2))) -> 0 | AX27: =IF(AX12<150,0,IF(AX12<200,1,IF(AX12>=200,2))) -> 0 | AY27: =IF(AY12<150,0,IF(AY12<200,1,IF(AY12>=200,2))) -> 0 | BA27: =IF(BA12<150,0,IF(BA12<200,1,IF(BA12>=200,2))) -> 0 | BB27: =IF(BB12<150,0,IF(BB12<200,1,IF(BB12>=200,2))) -> 0 | BD27: =IF(BD12<150,0,IF(BD12<200,1,IF(BD12>=200,2))) -> 0 | BE27: =IF(BE12<150,0,IF(BE12<200,1,IF(BE12>=200,2))) -> 0 | BG27: =IF(BG12<150,0,IF(BG12<200,1,IF(BG12>=200,2))) -> 0 | BH27: =IF(BH12<150,0,IF(BH12<200,1,IF(BH12>=200,2))) -> 0 | BJ27: =IF(BJ12<150,0,IF(BJ12<200,1,IF(BJ12>=200,2))) -> 0 | BK27: =IF(BK12<150,0,IF(BK12<200,1,IF(BK12>=200,2))) -> 0 | BM27: =IF(BM12<150,0,IF(BM12<200,1,IF(BM12>=200,2))) -> 0 | BN27: =IF(BN12<150,0,IF(BN12<200,1,IF(BN12>=200,2))) -> 0 | BP27: =IF(BP12<150,0,IF(BP12<200,1,IF(BP12>=200,2))) -> 0 | BQ27: =IF(BQ12<150,0,IF(BQ12<200,1,IF(BQ12>=200,2))) -> 0 | BS27: =IF(BS12<150,0,IF(BS12<200,1,IF(BS12>=200,2))) -> 0 | BT27: =IF(BT12<150,0,IF(BT12<200,1,IF(BT12>=200,2))) -> 0 | BV27: =IF(BV12<150,0,IF(BV12<200,1,IF(BV12>=200,2))) -> 0 | BW27: =IF(BW12<150,0,IF(BW12<200,1,IF(BW12>=200,2))) -> 0 | BY27: =IF(BY12<150,0,IF(BY12<200,1,IF(BY12>=200,2))) -> 0 | BZ27: =IF(BZ12<150,0,IF(BZ12<200,1,IF(BZ12>=200,2))) -> 0 | CB27: =IF(CB12<150,0,IF(CB12<200,1,IF(CB12>=200,2))) -> 0 | CC27: =IF(CC12<150,0,IF(CC12<200,1,IF(CC12>=200,2))) -> 0 | CE27: =IF(CE12<150,0,IF(CE12<200,1,IF(CE12>=200,2))) -> 0 | CF27: =IF(CF12<150,0,IF(CF12<200,1,IF(CF12>=200,2))) -> 0 | CH27: =IF(CH12<150,0,IF(CH12<200,1,IF(CH12>=200,2))) -> 0 | CI27: =IF(CI12<150,0,IF(CI12<200,1,IF(CI12>=200,2))) -> 0
B31: intra-assay | C31: inter-assay | D31: withdrawn
A33: 1. Questionable as positiv | C33: 1=2
A34: Analysis: | B34: < 150 = 0 | C34: 150-200 = 1 | D34: >200 = 2
A35: Valic "Eric" | B35: =IF(B2<150,0,IF(B2>=150,2)) -> 0 | C35: =IF(C2<150,0,IF(C2>=150,2)) -> 2 | D35: =IF(D2<150,0,IF(D2>=150,2)) -> 0 | E35: =IF(E2<150,0,IF(E2>=150,2)) -> 0 | F35: =IF(F2<150,0,IF(F2>=150,2)) -> 0 | G35: =IF(G2<150,0,IF(G2>=150,2)) -> 0 | H35: =IF(H2<150,0,IF(H2>=150,2)) -> 0 | I35: =IF(I2<150,0,IF(I2>=150,2)) -> 0 | ... CJ35: =IF(CJ2<150,0,IF(CJ2>=150,2)) -> 0
A36: Klenk "Fiete" | B36: =IF(B3<150,0,IF(B3>=150,2)) -> 0 | C36: =IF(C3<150,0,IF(C3>=150,2)) -> 0 | D36: =IF(D3<150,0,IF(D3>=150,2)) -> 0 | E36: =IF(E3<150,0,IF(E3>=150,2)) -> 0 | F36: =IF(F3<150,0,IF(F3>=150,2)) -> 0 | G36: =IF(G3<150,0,IF(G3>=150,2)) -> 0 | H36: =IF(H3<150,0,IF(H3>=150,2)) -> 2 | I36: =IF(I3<150,0,IF(I3>=150,2)) -> 0 | ... CJ36: =IF(CJ3<150,0,IF(CJ3>=150,2)) -> 0
A37: Pintsch "Lilly" | B37: =IF(B4<150,0,IF(B4>=150,2)) -> 0 | C37: =IF(C4<150,0,IF(C4>=150,2)) -> 0 | D37: =IF(D4<150,0,IF(D4>=150,2)) -> 0 | E37: =IF(E4<150,0,IF(E4>=150,2)) -> 2 | F37: =IF(F4<150,0,IF(F4>=150,2)) -> 2 | G37: =IF(G4<150,0,IF(G4>=150,2)) -> 2 | H37: =IF(H4<150,0,IF(H4>=150,2)) -> 2 | I37: =IF(I4<150,0,IF(I4>=150,2)) -> 2 | ... CJ37: =IF(CJ4<150,0,IF(CJ4>=150,2)) -> 0
A38: Funken "Themba" | B38: =IF(B5<150,0,IF(B5>=150,2)) -> 2 | C38: =IF(C5<150,0,IF(C5>=150,2)) -> 2 | D38: =IF(D5<150,0,IF(D5>=150,2)) -> 2 | E38: =IF(E5<150,0,IF(E5>=150,2)) -> 2 | F38: =IF(F5<150,0,IF(F5>=150,2)) -> 2 | G38: =IF(G5<150,0,IF(G5>=150,2)) -> 2 | H38: =IF(H5<150,0,IF(H5>=150,2)) -> 2 | I38: =IF(I5<150,0,IF(I5>=150,2)) -> 2 | ... CJ38: =IF(CJ5<150,0,IF(CJ5>=150,2)) -> 0
A39: Tietzen "Oscar" | B39: =IF(B6<150,0,IF(B6>=150,2)) -> 2 | C39: =IF(C6<150,0,IF(C6>=150,2)) -> 2 | D39: =IF(D6<150,0,IF(D6>=150,2)) -> 2 | E39: =IF(E6<150,0,IF(E6>=150,2)) -> 0 | F39: =IF(F6<150,0,IF(F6>=150,2)) -> 0 | G39: =IF(G6<150,0,IF(G6>=150,2)) -> 0 | H39: =IF(H6<150,0,IF(H6>=150,2)) -> 0 | I39: =IF(I6<150,0,IF(I6>=150,2)) -> 0 | ... CJ39: =IF(CJ6<150,0,IF(CJ6>=150,2)) -> 0
A41: Zeitler "Pinie" | B41: =IF(B8<150,0,IF(B8>=150,2)) -> 2 | C41: =IF(C8<150,0,IF(C8>=150,2)) -> 2 | D41: =IF(D8<150,0,IF(D8>=150,2)) -> 2 | E41: =IF(E8<150,0,IF(E8>=150,2)) -> 0 | F41: =IF(F8<150,0,IF(F8>=150,2)) -> 0 | G41: =IF(G8<150,0,IF(G8>=150,2)) -> 0 | H41: =IF(H8<150,0,IF(H8>=150,2)) -> 0 | I41: =IF(I8<150,0,IF(I8>=150,2)) -> 0 | ... CJ41: =IF(CJ8<150,0,IF(CJ8>=150,2)) -> 0
A42: Mutscheller "Mira" | B42: =IF(B9<150,0,IF(B9>=150,2)) -> 2 | C42: =IF(C9<150,0,IF(C9>=150,2)) -> 2 | D42: =IF(D9<150,0,IF(D9>=150,2)) -> 0 | E42: =IF(E9<150,0,IF(E9>=150,2)) -> 0 | F42: =IF(F9<150,0,IF(F9>=150,2)) -> 0 | G42: =IF(G9<150,0,IF(G9>=150,2)) -> 0 | H42: =IF(H9<150,0,IF(H9>=150,2)) -> 2 | I42: =IF(I9<150,0,IF(I9>=150,2)) -> 2 | ... CJ42: =IF(CJ9<150,0,IF(CJ9>=150,2)) -> 0
A43: Kern "Wayty " | B43: =IF(B10<150,0,IF(B10>=150,2)) -> 0 | C43: =IF(C10<150,0,IF(C10>=150,2)) -> 0 | D43: =IF(D10<150,0,IF(D10>=150,2)) -> 0 | E43: =IF(E10<150,0,IF(E10>=150,2)) -> 0 | F43: =IF(F10<150,0,IF(F10>=150,2)) -> 0 | G43: =IF(G10<150,0,IF(G10>=150,2)) -> 0 | H43: =IF(H10<150,0,IF(H10>=150,2)) -> 0 | I43: =IF(I10<150,0,IF(I10>=150,2)) -> 0 | ... CJ43: =IF(CJ10<150,0,IF(CJ10>=150,2)) -> 0
A44: Lang "Wenzl" | B44: =IF(B11<150,0,IF(B11>=150,2)) -> 0 | C44: =IF(C11<150,0,IF(C11>=150,2)) -> 0 | D44: =IF(D11<150,0,IF(D11>=150,2)) -> 0 | E44: =IF(E11<150,0,IF(E11>=150,2)) -> 0 | F44: =IF(F11<150,0,IF(F11>=150,2)) -> 0 | G44: =IF(G11<150,0,IF(G11>=150,2)) -> 0 | H44: =IF(H11<150,0,IF(H11>=150,2)) -> 0 | I44: =IF(I11<150,0,IF(I11>=150,2)) -> 0 | ... CJ44: =IF(CJ11<150,0,IF(CJ11>=150,2)) -> 0
A45: Engelhardt "Pepa" | B45: =IF(B12<150,0,IF(B12>=150,2)) -> 0 | C45: =IF(C12<150,0,IF(C12>=150,2)) -> 0 | E45: =IF(E12<150,0,IF(E12>=150,2)) -> 0 | F45: =IF(F12<150,0,IF(F12>=150,2)) -> 0 | H45: =IF(H12<150,0,IF(H12>=150,2)) -> 0 | I45: =IF(I12<150,0,IF(I12>=150,2)) -> 0 | K45: =IF(K12<150,0,IF(K12>=150,2)) -> 0 | L45: =IF(L12<150,0,IF(L12>=150,2)) -> 0 | N45: =IF(N12<150,0,IF(N12>=150,2)) -> 0 | O45: =IF(O12<150,0,IF(O12>=150,2)) -> 0 | Q45: =IF(Q12<150,0,IF(Q12>=150,2)) -> 0 | R45: =IF(R12<150,0,IF(R12>=150,2)) -> 0 | T45: =IF(T12<150,0,IF(T12>=150,2)) -> 0 | U45: =IF(U12<150,0,IF(U12>=150,2)) -> 0 | W45: =IF(W12<150,0,IF(W12>=150,2)) -> 0 | X45: =IF(X12<150,0,IF(X12>=150,2)) -> 0 | Z45: =IF(Z12<150,0,IF(Z12>=150,2)) -> 0 | AA45: =IF(AA12<150,0,IF(AA12>=150,2)) -> 0 | AC45: =IF(AC12<150,0,IF(AC12>=150,2)) -> 0 | AD45: =IF(AD12<150,0,IF(AD12>=150,2)) -> 0 | AF45: =IF(AF12<150,0,IF(AF12>=150,2)) -> 0 | AG45: =IF(AG12<150,0,IF(AG12>=150,2)) -> 0 | AI45: =IF(AI12<150,0,IF(AI12>=150,2)) -> 0 | AJ45: =IF(AJ12<150,0,IF(AJ12>=150,2)) -> 0 | AL45: =IF(AL12<150,0,IF(AL12>=150,2)) -> 0 | AM45: =IF(AM12<150,0,IF(AM12>=150,2)) -> 0 | AO45: =IF(AO12<150,0,IF(AO12>=150,2)) -> 0 | AP45: =IF(AP12<150,0,IF(AP12>=150,2)) -> 0 | AR45: =IF(AR12<150,0,IF(AR12>=150,2)) -> 0 | AS45: =IF(AS12<150,0,IF(AS12>=150,2)) -> 0 | AU45: =IF(AU12<150,0,IF(AU12>=150,2)) -> 0 | AV45: =IF(AV12<150,0,IF(AV12>=150,2)) -> 0 | AX45: =IF(AX12<150,0,IF(AX12>=150,2)) -> 0 | AY45: =IF(AY12<150,0,IF(AY12>=150,2)) -> 0 | BA45: =IF(BA12<150,0,IF(BA12>=150,2)) -> 0 | BB45: =IF(BB12<150,0,IF(BB12>=150,2)) -> 0 | BD45: =IF(BD12<150,0,IF(BD12>=150,2)) -> 0 | BE45: =IF(BE12<150,0,IF(BE12>=150,2)) -> 0 | BG45: =IF(BG12<150,0,IF(BG12>=150,2)) -> 0 | BH45: =IF(BH12<150,0,IF(BH12>=150,2)) -> 0 | BJ45: =IF(BJ12<150,0,IF(BJ12>=150,2)) -> 0 | BK45: =IF(BK12<150,0,IF(BK12>=150,2)) -> 0 | BM45: =IF(BM12<150,0,IF(BM12>=150,2)) -> 0 | BN45: =IF(BN12<150,0,IF(BN12>=150,2)) -> 0 | BP45: =IF(BP12<150,0,IF(BP12>=150,2)) -> 0 | BQ45: =IF(BQ12<150,0,IF(BQ12>=150,2)) -> 0 | BS45: =IF(BS12<150,0,IF(BS12>=150,2)) -> 0 | BT45: =IF(BT12<150,0,IF(BT12>=150,2)) -> 0 | BV45: =IF(BV12<150,0,IF(BV12>=150,2)) -> 0 | BW45: =IF(BW12<150,0,IF(BW12>=150,2)) -> 0 | BY45: =IF(BY12<150,0,IF(BY12>=150,2)) -> 0 | BZ45: =IF(BZ12<150,0,IF(BZ12>=150,2)) -> 0 | CB45: =IF(CB12<150,0,IF(CB12>=150,2)) -> 0 | CC45: =IF(CC12<150,0,IF(CC12>=150,2)) -> 0 | CE45: =IF(CE12<150,0,IF(CE12>=150,2)) -> 0 | CF45: =IF(CF12<150,0,IF(CF12>=150,2)) -> 0 | CH45: =IF(CH12<150,0,IF(CH12>=150,2)) -> 0 | CI45: =IF(CI12<150,0,IF(CI12>=150,2)) -> 0
A47: INTRA-Assay | E47: Inter-Assay
A48: in total = | B48: =10*29 -> 290 | F48: =(10*29)-29 -> 261
A49: p0= 260/290 | B49: =260/B48 -> 0.89655172 | E49: p0= 229/261 | F49: =229/F48 -> 0.87739464
...

Sheet Spearman rank Laboratory A, 1-2
A1: Hund (Dog) | B1: Allergen | C1: Wert 1 (Value 1) | D1: Rang,x (Rank,x) | E1: Wert 2 (Value 2) | F1: Rang,y (Rank,y) | G1: Diff (d) | H1: d^2 | I1: Mittelwert (mean value) | J1: Varianz (Variance) | K1: Standabw (Standard deviation) | L1: Variationskoeff. In % (Coefficient of variation in %) | M1: Subtraktion x (Subtraction x) | N1: Subtraktion y (Subtraction y) | O1: Subtraktion x^2 (subtraction x^2) | P1: Subtraktion y^2 (Subtraction y^2) | Q1: Multiplikation (Multiplication)
A2: Valic "Eric" | B2: Wiesenknäuelgras (Dactylis glomerata) | C2: =VLOOKUP(A2,'Laboratory A'!A:D,2,0) -> 51 | D2: =_xlfn.RANK.AVG(C2,C$2:C$291,1) -> 151.5 | E2: =VLOOKUP(A2,'Laboratory A'!A:D,3,0) -> 215 | F2: =_xlfn.RANK.AVG(E2,E$2:E$291,1) -> 244 | G2: =D2-F2 -> -92.5 | H2: =G2^2 -> 8556.25 | I2: =(C2+E2)/2 -> 133 | J2: =((C2-I2)^2+(E2-I2)^2)/2 -> 6724 | K2: =SQRT(J2) -> 82 | L2: =(K2/I2)*100 -> 61.654135 | M2: =(D2-$D$301) -> 6.4106529 | N2: =(F2-$F$301) -> 98.957045 | O2: =(M2)^2 -> 41.096471 | P2: =(N2)^2 -> 9792.4967 | Q2: =M2*N2 -> 634.37927
A3: Klenk "Fiete" | B3: Wiesenknäuelgras | C3: =VLOOKUP(A3,'Laboratory A'!A:D,2,0) -> 61 | D3: =_xlfn.RANK.AVG(C3,C$2:C$291,1) -> 178 | E3: =VLOOKUP(A3,'Laboratory A'!A:D,3,0) -> 21 | F3: =_xlfn.RANK.AVG(E3,E$2:E$291,1) -> 30.5 | G3: =D3-F3 -> 147.5 | H3: =G3^2 -> 21756.25 | I3: =(C3+E3)/2 -> 41 | J3: =((C3-I3)^2+(E3-I3)^2)/2 -> 400 | K3: =SQRT(J3) -> 20 | L3: =(K3/I3)*100 -> 48.780488 | M3: =(D3-$D$301) -> 32.910653 | N3: =(F3-$F$301) -> -114.54296 | O3: =(M3)^2 -> 1083.1111 | P3: =(N3)^2 -> 13120.089 | Q3: =M3*N3 -> -3769.6834
A4: Pintsch "Lilly" | B4: Wiesenknäuelgras | C4: =VLOOKUP(A4,'Laboratory A'!A:D,2,0) -> 36 | D4: =_xlfn.RANK.AVG(C4,C$2:C$291,1) -> 116 | E4: =VLOOKUP(A4,'Laboratory A'!A:D,3,0) -> 23 | F4: =_xlfn.RANK.AVG(E4,E$2:E$291,1) -> 42 | G4: =D4-F4 -> 74 | H4: =G4^2 -> 5476 | I4: =(C4+E4)/2 -> 29.5 | J4: =((C4-I4)^2+(E4-I4)^2)/2 -> 42.25 | K4: =SQRT(J4) -> 6.5 | L4: =(K4/I4)*100 -> 22.033898 | M4: =(D4-$D$301) -> -29.089347 | N4: =(F4-$F$301) -> -103.04296 | O4: =(M4)^2 -> 846.19011 | P4: =(N4)^2 -> 10617.851 | Q4: =M4*N4 -> 2997.4523
A5: Funken "Themba" | B5: Wiesenknäuelgras | C5: =VLOOKUP(A5,'Laboratory A'!A:D,2,0) -> 425 | D5: =_xlfn.RANK.AVG(C5,C$2:C$291,1) -> 272 | E5: =VLOOKUP(A5,'Laboratory A'!A:D,3,0) -> 407 | F5: =_xlfn.RANK.AVG(E5,E$2:E$291,1) -> 267 | G5: =D5-F5 -> 5 | H5: =G5^2 -> 25 | I5: =(C5+E5)/2 -> 416 | J5: =((C5-I5)^2+(E5-I5)^2)/2 -> 81 | K5: =SQRT(J5) -> 9 | L5: =(K5/I5)*100 -> 2.1634615 | M5: =(D5-$D$301) -> 126.91065 | N5: =(F5-$F$301) -> 121.95704 | O5: =(M5)^2 -> 16106.314 | P5: =(N5)^2 -> 14873.521 | Q5: =M5*N5 -> 15477.648
A6: Tietzen "Oscar" | B6: Wiesenknäuelgras | C6: =VLOOKUP(A6,'Laboratory A'!A:D,2,0) -> 154 | D6: =_xlfn.RANK.AVG(C6,C$2:C$291,1) -> 224.5 | E6: =VLOOKUP(A6,'Laboratory A'!A:D,3,0) -> 163 | F6: =_xlfn.RANK.AVG(E6,E$2:E$291,1) -> 223 | G6: =D6-F6 -> 1.5 | H6: =G6^2 -> 2.25 | I6: =(C6+E6)/2 -> 158.5 | J6: =((C6-I6)^2+(E6-I6)^2)/2 -> 20.25 | K6: =SQRT(J6) -> 4.5 | L6: =(K6/I6)*100 -> 2.8391167 | M6: =(D6-$D$301) -> 79.410653 | N6: =(F6-$F$301) -> 77.957045 | O6: =(M6)^2 -> 6306.0518 | P6: =(N6)^2 -> 6077.3008 | Q6: =M6*N6 -> 6190.6198
A7: Zeitler "Pinie" | B7: Wiesenknäuelgras | C7: =VLOOKUP(A7,'Laboratory A'!A:D,2,0) -> 269 | D7: =_xlfn.RANK.AVG(C7,C$2:C$291,1) -> 258 | E7: =VLOOKUP(A7,'Laboratory A'!A:D,3,0) -> 170 | F7: =_xlfn.RANK.AVG(E7,E$2:E$291,1) -> 225 | G7: =D7-F7 -> 33 | H7: =G7^2 -> 1089 | I7: =(C7+E7)/2 -> 219.5 | J7: =((C7-I7)^2+(E7-I7)^2)/2 -> 2450.25 | K7: =SQRT(J7) -> 49.5 | L7: =(K7/I7)*100 -> 22.551253 | M7: =(D7-$D$301) -> 112.91065 | N7: =(F7-$F$301) -> 79.957045 | O7: =(M7)^2 -> 12748.816 | P7: =(N7)^2 -> 6393.129 | Q7: =M7*N7 -> 9028.0021
A8: Mutscheller "Mira" | B8: Wiesenknäuelgras | C8: =VLOOKUP(A8,'Laboratory A'!A:D,2,0) -> 172 | D8: =_xlfn.RANK.AVG(C8,C$2:C$291,1) -> 232 | E8: =VLOOKUP(A8,'Laboratory A'!A:D,3,0) -> 204 | F8: =_xlfn.RANK.AVG(E8,E$2:E$291,1) -> 239.5 | G8: =D8-F8 -> -7.5 | H8: =G8^2 -> 56.25 | I8: =(C8+E8)/2 -> 188 | J8: =((C8-I8)^2+(E8-I8)^2)/2 -> 256 | K8: =SQRT(J8) -> 16 | L8: =(K8/I8)*100 -> 8.5106383 | M8: =(D8-$D$301) -> 86.910653 | N8: =(F8-$F$301) -> 94.457045 | O8: =(M8)^2 -> 7553.4616 | P8: =(N8)^2 -> 8922.1333 | Q8: =M8*N8 -> 8209.3234
A9: Kern "Wayty" | B9: Wiesenknäuelgras | C9: =VLOOKUP(A9,'Laboratory A'!A:D,2,0) -> 27 | D9: =_xlfn.RANK.AVG(C9,C$2:C$291,1) -> 70.5 | E9: =VLOOKUP(A9,'Laboratory A'!A:D,3,0) -> 107 | F9: =_xlfn.RANK.AVG(E9,E$2:E$291,1) -> 206 | G9: =D9-F9 -> -135.5 | H9: =G9^2 -> 18360.25 | I9: =(C9+E9)/2 -> 67 | J9: =((C9-I9)^2+(E9-I9)^2)/2 -> 1600 | K9: =SQRT(J9) -> 40 | L9: =(K9/I9)*100 -> 59.701493 | M9: =(D9-$D$301) -> -74.589347 | N9: =(F9-$F$301) -> 60.957045 | O9: =(M9)^2 -> 5563.5707 | P9: =(N9)^2 -> 3715.7613 | Q9: =M9*N9 -> -4546.7462
A10: Lang "Wenzl" | B10: Wiesenknäuelgras | C10: =VLOOKUP(A10,'Laboratory A'!A:D,2,0) -> 17 | D10: =_xlfn.RANK.AVG(C10,C$2:C$291,1) -> 19 | E10: =VLOOKUP(A10,'Laboratory A'!A:D,3,0) -> 39 | F10: =_xlfn.RANK.AVG(E10,E$2:E$291,1) -> 115.5 | G10: =D10-F10 -> -96.5 | H10: =G10^2 -> 9312.25 | I10: =(C10+E10)/2 -> 28 | J10: =((C10-I10)^2+(E10-I10)^2)/2 -> 121 | K10: =SQRT(J10) -> 11 | L10: =(K10/I10)*100 -> 39.285714 | M10: =(D10-$D$301) -> -126.08935 | N10: =(F10-$F$301) -> -29.542955 | O10: =(M10)^2 -> 15898.523 | P10: =(N10)^2 -> 872.78621 | Q10: =M10*N10 -> 3725.0519
A11: Engelhardt "Pepa" | B11: Wiesenknäuelgras | C11: =VLOOKUP(A11,'Laboratory A'!A:D,2,0) -> 20 | D11: =_xlfn.RANK.AVG(C11,C$2:C$291,1) -> 29 | E11: =VLOOKUP(A11,'Laboratory A'!A:D,3,0) -> 57 | F11: =_xlfn.RANK.AVG(E11,E$2:E$291,1) -> 158 | G11: =D11-F11 -> -129 | H11: =G11^2 -> 16641 | I11: =(C11+E11)/2 -> 38.5 | J11: =((C11-I11)^2+(E11-I11)^2)/2 -> 342.25 | K11: =SQRT(J11) -> 18.5 | L11: =(K11/I11)*100 -> 48.051948 | M11: =(D11-$D$301) -> -116.08935 | N11: =(F11-$F$301) -> 12.957045 | O11: =(M11)^2 -> 13476.737 | P11: =(N11)^2 -> 167.88501 | Q11: =M11*N11 -> -1504.1749
A12: Valic "Eric" | B12: Wiesenlieschgras (Phleum pratense) | C12: =VLOOKUP(A2,'Laboratory A'!A:G,5,0) -> 88 | D12: =_xlfn.RANK.AVG(C12,C$2:C$291,1) -> 206 | E12: =VLOOKUP(A2,'Laboratory A'!A:G,6,0) -> 36 | F12: =_xlfn.RANK.AVG(E12,E$2:E$291,1) -> 110 | G12: =D12-F12 -> 96 | H12: =G12^2 -> 9216 | I12: =(C12+E12)/2 -> 62 | J12: =((C12-I12)^2+(E12-I12)^2)/2 -> 676 | K12: =SQRT(J12) -> 26 | L12: =(K12/I12)*100 -> 41.935484 | M12: =(D12-$D$301) -> 60.910653 | N12: =(F12-$F$301) -> -35.042955 | O12: =(M12)^2 -> 3710.1076 | P12: =(N12)^2 -> 1228.0087 | Q12: =M12*N12 -> -2134.4893
A13: Klenk "Fiete" | B13: Wiesenlieschgras | C13: =VLOOKUP(A3,'Laboratory A'!A:G,5,0) -> 30 | D13: =_xlfn.RANK.AVG(C13,C$2:C$291,1) -> 91 | E13: =VLOOKUP(A3,'Laboratory A'!A:G,6,0) -> 22 | F13: =_xlfn.RANK.AVG(E13,E$2:E$291,1) -> 36 | G13: =D13-F13 -> 55 | H13: =G13^2 -> 3025 | I13: =(C13+E13)/2 -> 26 | J13: =((C13-I13)^2+(E13-I13)^2)/2 -> 16 | K13: =SQRT(J13) -> 4 | L13: =(K13/I13)*100 -> 15.384615 | M13: =(D13-$D$301) -> -54.089347 | N13: =(F13-$F$301) -> -109.04296 | O13: =(M13)^2 -> 2925.6575 | P13: =(N13)^2 -> 11890.366 | Q13: =M13*N13 -> 5898.0623
A14: Pintsch "Lilly" | B14: Wiesenlieschgras | C14: =VLOOKUP(A4,'Laboratory A'!A:G,5,0) -> 214 | D14: =_xlfn.RANK.AVG(C14,C$2:C$291,1) -> 246 | E14: =VLOOKUP(A4,'Laboratory A'!A:G,6,0) -> 296 | F14: =_xlfn.RANK.AVG(E14,E$2:E$291,1) -> 259 | G14: =D14-F14 -> -13 | H14: =G14^2 -> 169 | I14: =(C14+E14)/2 -> 255 | J14: =((C14-I14)^2+(E14-I14)^2)/2 -> 1681 | K14: =SQRT(J14) -> 41 | L14: =(K14/I14)*100 -> 16.078431 | M14: =(D14-$D$301) -> 100.91065 | N14: =(F14-$F$301) -> 113.95704 | O14: =(M14)^2 -> 10182.96 | P14: =(N14)^2 -> 12986.208 | Q14: =M14*N14 -> 11499.48
A15: Funken "Themba" | B15: Wiesenlieschgras | C15: =VLOOKUP(A5,'Laboratory A'!A:G,5,0) -> 209 | D15: =_xlfn.RANK.AVG(C15,C$2:C$291,1) -> 245 | E15: =VLOOKUP(A5,'Laboratory A'!A:G,6,0) -> 204 | F15: =_xlfn.RANK.AVG(E15,E$2:E$291,1) -> 239.5 | G15: =D15-F15 -> 5.5 | H15: =G15^2 -> 30.25 | I15: =(C15+E15)/2 -> 206.5 | J15: =((C15-I15)^2+(E15-I15)^2)/2 -> 6.25 | K15: =SQRT(J15) -> 2.5 | L15: =(K15/I15)*100 -> 1.2106538 | M15: =(D15-$D$301) -> 99.910653 | N15: =(F15-$F$301) -> 94.457045 | O15: =(M15)^2 -> 9982.1386 | P15: =(N15)^2 -> 8922.1333 | Q15: =M15*N15 -> 9437.265
A16: Tietzen "Oscar" | B16: Wiesenlieschgras | C16: =VLOOKUP(A6,'Laboratory A'!A:G,5,0) -> 47 | D16: =_xlfn.RANK.AVG(C16,C$2:C$291,1) -> 142 | E16: =VLOOKUP(A6,'Laboratory A'!A:G,6,0) -> 50 | F16: =_xlfn.RANK.AVG(E16,E$2:E$291,1) -> 137.5 | G16: =D16-F16 -> 4.5 | H16: =G16^2 -> 20.25 | I16: =(C16+E16)/2 -> 48.5 | J16: =((C16-I16)^2+(E16-I16)^2)/2 -> 2.25 | K16: =SQRT(J16) -> 1.5 | L16: =(K16/I16)*100 -> 3.0927835 | M16: =(D16-$D$301) -> -3.0893471 | N16: =(F16-$F$301) -> -7.5429553 | O16: =(M16)^2 -> 9.5440654 | P16: =(N16)^2 -> 56.896175 | Q16: =M16*N16 -> 23.302807
A17: Zeitler "Pinie" | B17: Wiesenlieschgras | C17: =VLOOKUP(A7,'Laboratory A'!A:G,5,0) -> 28 | D17: =_xlfn.RANK.AVG(C17,C$2:C$291,1) -> 77.5 | E17: =VLOOKUP(A7,'Laboratory A'!A:G,6,0) -> 31 | F17: =_xlfn.RANK.AVG(E17,E$2:E$291,1) -> 84 | G17: =D17-F17 -> -6.5 | H17: =G17^2 -> 42.25 | I17: =(C17+E17)/2 -> 29.5 | J17: =((C17-I17)^2+(E17-I17)^2)/2 -> 2.25 | K17: =SQRT(J17) -> 1.5 | L17: =(K17/I17)*100 -> 5.0847458 | M17: =(D17-$D$301) -> -67.589347 | N17: =(F17-$F$301) -> -61.042955 | O17: =(M17)^2 -> 4568.3198 | P17: =(N17)^2 -> 3726.2424 | Q17: =M17*N17 -> 4125.8535
A18: Mutscheller "Mira" | B18: Wiesenlieschgras | C18: =VLOOKUP(A8,'Laboratory A'!A:G,5,0) -> 55 | D18: =_xlfn.RANK.AVG(C18,C$2:C$291,1) -> 158.5 | E18: =VLOOKUP(A8,'Laboratory A'!A:G,6,0) -> 78 | F18: =_xlfn.RANK.AVG(E18,E$2:E$291,1) -> 192 | G18: =D18-F18 -> -33.5 | H18: =G18^2 -> 1122.25 | I18: =(C18+E18)/2 -> 66.5 | J18: =((C18-I18)^2+(E18-I18)^2)/2 -> 132.25 | K18: =SQRT(J18) -> 11.5 | L18: =(K18/I18)*100 -> 17.293233 | M18: =(D18-$D$301) -> 13.410653 | N18: =(F18-$F$301) -> 46.957045 | O18: =(M18)^2 -> 179.84561 | P18: =(N18)^2 -> 2204.964 | Q18: =M18*N18 -> 629.72463
A19: Kern "Wayty" | B19: Wiesenlieschgras | C19: =VLOOKUP(A9,'Laboratory A'!A:G,5,0) -> 50 | D19: =_xlfn.RANK.AVG(C19,C$2:C$291,1) -> 148 | E19: =VLOOKUP(A9,'Laboratory A'!A:G,6,0) -> 55 | F19: =_xlfn.RANK.AVG(E19,E$2:E$291,1) -> 149.5 | G19: =D19-F19 -> -1.5 | H19: =G19^2 -> 2.25 | I19: =(C19+E19)/2 -> 52.5 | J19: =((C19-I19)^2+(E19-I19)^2)/2 -> 6.25 | K19: =SQRT(J19) -> 2.5 | L19: =(K19/I19)*100 -> 4.7619048 | M19: =(D19-$D$301) -> 2.9106529 | N19: =(F19-$F$301) -> 4.4570447 | O19: =(M19)^2 -> 8.4719004 | P19: =(N19)^2 -> 19.865247 | Q19: =M19*N19 -> 12.97291
A20: Lang "Wenzl" | B20: Wiesenlieschgras | C20: =VLOOKUP(A10,'Laboratory A'!A:G,5,0) -> 18 | D20: =_xlfn.RANK.AVG(C20,C$2:C$291,1) -> 23.5 | E20: =VLOOKUP(A10,'Laboratory A'!A:G,6,0) -> 70 | F20: =_xlfn.RANK.AVG(E20,E$2:E$291,1) -> 183 | G20: =D20-F20 -> -159.5 | H20: =G20^2 -> 25440.25 | I20: =(C20+E20)/2 -> 44 | J20: =((C20-I20)^2+(E20-I20)^2)/2 -> 676 | K20: =SQRT(J20) -> 26 | L20: =(K20/I20)*100 -> 59.090909 | M20: =(D20-$D$301) -> -121.58935 | N20: =(F20-$F$301) -> 37.957045 | O20: =(M20)^2 -> 14783.969 | P20: =(N20)^2 -> 1440.7372 | Q20: =M20*N20 -> -4615.1723
A21: Engelhardt "Pepa" | B21: Wiesenlieschgras | C21: =VLOOKUP(A11,'Laboratory A'!A:G,5,0) -> 68 | D21: =_xlfn.RANK.AVG(C21,C$2:C$291,1) -> 186 | E21: =VLOOKUP(A11,'Laboratory A'!A:G,6,0) -> 39 | F21: =_xlfn.RANK.AVG(E21,E$2:E$291,1) -> 115.5 | G21: =D21-F21 -> 70.5 | H21: =G21^2 -> 4970.25 | I21: =(C21+E21)/2 -> 53.5 | J21: =((C21-I21)^2+(E21-I21)^2)/2 -> 210.25 | K21: =SQRT(J21) -> 14.5 | L21: =(K21/I21)*100 -> 27.102804 | M21: =(D21-$D$301) -> 40.910653 | N21: =(F21-$F$301) -> -29.542955 | O21: =(M21)^2 -> 1673.6815 | P21: =(N21)^2 -> 872.78621 | Q21: =M21*N21 -> -1208.6216
A22: Valic "Eric" | B22: Englisches Ryegras (Lolium perenne) | C22: =VLOOKUP(A22,'Laboratory A'!A:J,8,0) -> 30 | D22: =_xlfn.RANK.AVG(C22,C$2:C$291,1) -> 91 | E22: =VLOOKUP(A22,'Laboratory A'!A:J,9,0) -> 52 | F22: =_xlfn.RANK.AVG(E22,E$2:E$291,1) -> 142 | G22: =D22-F22 -> -51 | H22: =G22^2 -> 2601 | I22: =(C22+E22)/2 -> 41 | J22: =((C22-I22)^2+(E22-I22)^2)/2 -> 121 | K22: =SQRT(J22) -> 11 | L22: =(K22/I22)*100 -> 26.829268 | M22: =(D22-$D$301) -> -54.089347 | N22: =(F22-$F$301) -> -3.0429553 | O22: =(M22)^2 -> 2925.6575 | P22: =(N22)^2 -> 9.2595771 | Q22: =M22*N22 -> 164.59147
A23: Klenk "Fiete" | B23: Englisches Ryegras | C23: =VLOOKUP(A23,'Laboratory A'!A:J,8,0) -> 228 | D23: =_xlfn.RANK.AVG(C23,C$2:C$291,1) -> 252 | E23: =VLOOKUP(A23,'Laboratory A'!A:J,9,0) -> 54 | F23: =_xlfn.RANK.AVG(E23,E$2:E$291,1) -> 146 | G23: =D23-F23 -> 106 | H23: =G23^2 -> 11236 | I23: =(C23+E23)/2 -> 141 | J23: =((C23-I23)^2+(E23-I23)^2)/2 -> 7569 | K23: =SQRT(J23) -> 87 | L23: =(K23/I23)*100 -> 61.702128 | M23: =(D23-$D$301) -> 106.91065 | N23: =(F23-$F$301) -> 0.95704467 | O23: =(M23)^2 -> 11429.888 | P23: =(N23)^2 -> 0.91593451 | Q23: =M23*N23 -> 102.31827
A24: Pintsch "Lilly" | B24: Englisches Ryegras | C24: =VLOOKUP(A24,'Laboratory A'!A:J,8,0) -> 780 | D24: =_xlfn.RANK.AVG(C24,C$2:C$291,1) -> 288 | E24: =VLOOKUP(A24,'Laboratory A'!A:J,9,0) -> 775 | F24: =_xlfn.RANK.AVG(E24,E$2:E$291,1) -> 286 | G24: =D24-F24 -> 2 | H24: =G24^2 -> 4 | I24: =(C24+E24)/2 -> 777.5 | J24: =((C24-I24)^2+(E24-I24)^2)/2 -> 6.25 | K24: =SQRT(J24) -> 2.5 | L24: =(K24/I24)*100 -> 0.32154341 | M24: =(D24-$D$301) -> 142.91065 | N24: =(F24-$F$301) -> 140.95704 | O24: =(M24)^2 -> 20423.455 | P24: =(N24)^2 -> 19868.888 | Q24: =M24*N24 -> 20144.263
A25: Funken "Themba" | B25: Englisches Ryegras | C25: =VLOOKUP(A25,'Laboratory A'!A:J,8,0) -> 380 | D25: =_xlfn.RANK.AVG(C25,C$2:C$291,1) -> 268 | E25: =VLOOKUP(A25,'Laboratory A'!A:J,9,0) -> 347 | F25: =_xlfn.RANK.AVG(E25,E$2:E$291,1) -> 264 | G25: =D25-F25 -> 4 | H25: =G25^2 -> 16 | I25: =(C25+E25)/2 -> 363.5 | J25: =((C25-I25)^2+(E25-I25)^2)/2 -> 272.25 | K25: =SQRT(J25) -> 16.5 | L25: =(K25/I25)*100 -> 4.5392022 | M25: =(D25-$D$301) -> 122.91065 | N25: =(F25-$F$301) -> 118.95704 | O25: =(M25)^2 -> 15107.029 | P25: =(N25)^2 -> 14150.778 | Q25: =M25*N25 -> 14621.088
A26: Tietzen "Oscar" | B26: Englisches Ryegras | C26: =VLOOKUP(A26,'Laboratory A'!A:J,8,0) -> 94 | D26: =_xlfn.RANK.AVG(C26,C$2:C$291,1) -> 210.5 | E26: =VLOOKUP(A26,'Laboratory A'!A:J,9,0) -> 85 | F26: =_xlfn.RANK.AVG(E26,E$2:E$291,1) -> 195.5 | G26: =D26-F26 -> 15 | H26: =G26^2 -> 225 | I26: =(C26+E26)/2 -> 89.5 | J26: =((C26-I26)^2+(E26-I26)^2)/2 -> 20.25 | K26: =SQRT(J26) -> 4.5 | L26: =(K26/I26)*100 -> 5.027933 | M26: =(D26-$D$301) -> 65.410653 | N26: =(F26-$F$301) -> 50.457045 | O26: =(M26)^2 -> 4278.5535 | P26: =(N26)^2 -> 2545.9134 | Q26: =M26*N26 -> 3300.4282
A27: Zeitler "Pinie" | B27: Englisches Ryegras | C27: =VLOOKUP(A27,'Laboratory A'!A:J,8,0) -> 67 | D27: =_xlfn.RANK.AVG(C27,C$2:C$291,1) -> 185 | E27: =VLOOKUP(A27,'Laboratory A'!A:J,9,0) -> 62 | F27: =_xlfn.RANK.AVG(E27,E$2:E$291,1) -> 170.5 | G27: =D27-F27 -> 14.5 | H27: =G27^2 -> 210.25 | I27: =(C27+E27)/2 -> 64.5 | J27: =((C27-I27)^2+(E27-I27)^2)/2 -> 6.25 | K27: =SQRT(J27) -> 2.5 | L27: =(K27/I27)*100 -> 3.875969 | M27: =(D27-$D$301) -> 39.910653 | N27: =(F27-$F$301) -> 25.457045 | O27: =(M27)^2 -> 1592.8602 | P27: =(N27)^2 -> 648.06112 | Q27: =M27*N27 -> 1016.0073
A28: Mutscheller "Mira" | B28: Englisches Ryegras | C28: =VLOOKUP(A28,'Laboratory A'!A:J,8,0) -> 175 | D28: =_xlfn.RANK.AVG(C28,C$2:C$291,1) -> 233.5 | E28: =VLOOKUP(A28,'Laboratory A'!A:J,9,0) -> 155 | F28: =_xlfn.RANK.AVG(E28,E$2:E$291,1) -> 217 | G28: =D28-F28 -> 16.5 | H28: =G28^2 -> 272.25 | I28: =(C28+E28)/2 -> 165 | J28: =((C28-I28)^2+(E28-I28)^2)/2 -> 100 | K28: =SQRT(J28) -> 10 | L28: =(K28/I28)*100 -> 6.0606061 | M28: =(D28-$D$301) -> 88.410653 | N28: =(F28-$F$301) -> 71.957045 | O28: =(M28)^2 -> 7816.4435 | P28: =(N28)^2 -> 5177.8163 | Q28: =M28*N28 -> 6361.7693
A29: Kern "Wayty" | B29: Englisches Ryegras | C29: =VLOOKUP(A29,'Laboratory A'!A:J,8,0) -> 74 | D29: =_xlfn.RANK.AVG(C29,C$2:C$291,1) -> 191.5 | E29: =VLOOKUP(A29,'Laboratory A'!A:J,9,0) -> 91 | F29: =_xlfn.RANK.AVG(E29,E$2:E$291,1) -> 200.5 | G29: =D29-F29 -> -9 | H29: =G29^2 -> 81 | I29: =(C29+E29)/2 -> 82.5 | J29: =((C29-I29)^2+(E29-I29)^2)/2 -> 72.25 | K29: =SQRT(J29) -> 8.5 | L29: =(K29/I29)*100 -> 10.30303 | M29: =(D29-$D$301) -> 46.410653 | N29: =(F29-$F$301) -> 55.457045 | O29: =(M29)^2 -> 2153.9487 | P29: =(N29)^2 -> 3075.4838 | Q29: =M29*N29 -> 2573.7977
A30: Lang "Wenzl" | B30: Englisches Ryegras | C30: =VLOOKUP(A30,'Laboratory A'!A:J,8,0) -> 16 | D30: =_xlfn.RANK.AVG(C30,C$2:C$291,1) -> 13.5 | E30: =VLOOKUP(A30,'Laboratory A'!A:J,9,0) -> 20 | F30: =_xlfn.RANK.AVG(E30,E$2:E$291,1) -> 26.5 | G30: =D30-F30 -> -13 | H30: =G30^2 -> 169 | I30: =(C30+E30)/2 -> 18 | J30: =((C30-I30)^2+(E30-I30)^2)/2 -> 4 | K30: =SQRT(J30) -> 2 | L30: =(K30/I30)*100 -> 11.111111 | M30: =(D30-$D$301) -> -131.58935 | N30: =(F30-$F$301) -> -118.54296 | O30: =(M30)^2 -> 17315.756 | P30: =(N30)^2 -> 14052.432 | Q30: =M30*N30 -> 15598.99
A31: Engelhardt "Pepa" | B31: Englisches Ryegras | C31: =VLOOKUP(A31,'Laboratory A'!A:J,8,0) -> 59 | D31: =_xlfn.RANK.AVG(C31,C$2:C$291,1) -> 172.5 | E31: =VLOOKUP(A31,'Laboratory A'!A:J,9,0) -> 58 | F31: =_xlfn.RANK.AVG(E31,E$2:E$291,1) -> 161 | G31: =D31-F31 -> 11.5 | H31: =G31^2 -> 132.25 | I31: =(C31+E31)/2 -> 58.5 | J31: =((C31-I31)^2+(E31-I31)^2)/2 -> 0.25 | K31: =SQRT(J31) -> 0.5 | L31: =(K31/I31)*100 -> 0.85470085 | M31: =(D31-$D$301) -> 27.410653 | N31: =(F31-$F$301) -> 15.957045 | O31: =(M31)^2 -> 751.34389 | P31: =(N31)^2 -> 254.62727 | Q31: =M31*N31 -> 437.39301
A32: Valic "Eric" | B32: Wiesenrispengras (Lolium perenne) | C32: =VLOOKUP(A32,'Laboratory A'!A:M,11,0) -> 94 | D32: =_xlfn.RANK.AVG(C32,C$2:C$291,1) -> 210.5 | E32: =VLOOKUP(A32,'Laboratory A'!A:M,12,0) -> 162 | F32: =_xlfn.RANK.AVG(E32,E$2:E$291,1) -> 222 | G32: =D32-F32 -> -11.5 | H32: =G32^2 -> 132.25 | I32: =(C32+E32)/2 -> 128 | J32: =((C32-I32)^2+(E32-I32)^2)/2 -> 1156 | K32: =SQRT(J32) -> 34 | L32: =(K32/I32)*100 -> 26.5625 | M32: =(D32-$D$301) -> 65.410653 | N32: =(F32-$F$301) -> 76.957045 | O32: =(M32)^2 -> 4278.5535 | P32: =(N32)^2 -> 5922.3867 | Q32: =M32*N32 -> 5033.8105
A33: Klenk "Fiete" | B33: Wiesenrispengras | C33: =VLOOKUP(A33,'Laboratory A'!A:M,11,0) -> 229 | D33: =_xlfn.RANK.AVG(C33,C$2:C$291,1) -> 253 | E33: =VLOOKUP(A33,'Laboratory A'!A:M,12,0) -> 76 | F33: =_xlfn.RANK.AVG(E33,E$2:E$291,1) -> 190 | G33: =D33-F33 -> 63 | H33: =G33^2 -> 3969 | I33: =(C33+E33)/2 -> 152.5 | J33: =((C33-I33)^2+(E33-I33)^2)/2 -> 5852.25 | K33: =SQRT(J33) -> 76.5 | L33: =(K33/I33)*100 -> 50.163934 | M33: =(D33-$D$301) -> 107.91065 | N33: =(F33-$F$301) -> 44.957045 | O33: =(M33)^2 -> 11644.709 | P33: =(N33)^2 -> 2021.1359 | Q33: =M33*N33 -> 4851.344
A34: Pintsch "Lilly" | B34: Wiesenrispengras | C34: =VLOOKUP(A34,'Laboratory A'!A:M,11,0) -> 329 | D34: =_xlfn.RANK.AVG(C34,C$2:C$291,1) -> 265 | E34: =VLOOKUP(A34,'Laboratory A'!A:M,12,0) -> 737 | F34: =_xlfn.RANK.AVG(E34,E$2:E$291,1) -> 284 | G34: =D34-F34 -> -19 | H34: =G34^2 -> 361 | I34: =(C34+E34)/2 -> 533 | J34: =((C34-I34)^2+(E34-I34)^2)/2 -> 41616 | K34: =SQRT(J34) -> 204 | L34: =(K34/I34)*100 -> 38.273921 | M34: =(D34-$D$301) -> 119.91065 | N34: =(F34-$F$301) -> 138.95704 | O34: =(M34)^2 -> 14378.565 | P34: =(N34)^2 -> 19309.06 | Q34: =M34*N34 -> 16662.43
A35: Funken "Themba" | B35: Wiesenrispengras | C35: =VLOOKUP(A35,'Laboratory A'!A:M,11,0) -> 955 | D35: =_xlfn.RANK.AVG(C35,C$2:C$291,1) -> 290 | E35: =VLOOKUP(A35,'Laboratory A'!A:M,12,0) -> 964 | F35: =_xlfn.RANK.AVG(E35,E$2:E$291,1) -> 290 | G35: =D35-F35 -> 0 | H35: =G35^2 -> 0 | I35: =(C35+E35)/2 -> 959.5 | J35: =((C35-I35)^2+(E35-I35)^2)/2 -> 20.25 | K35: =SQRT(J35) -> 4.5 | L35: =(K35/I35)*100 -> 0.46899427 | M35: =(D35-$D$301) -> 144.91065 | N35: =(F35-$F$301) -> 144.95704 | O35: =(M35)^2 -> 20999.097 | P35: =(N35)^2 -> 21012.545 | Q35: =M35*N35 -> 21005.82
A36: Tietzen "Oscar" | B36: Wiesenrispengras | C36: =VLOOKUP(A36,'Laboratory A'!A:M,11,0) -> 196 | D36: =_xlfn.RANK.AVG(C36,C$2:C$291,1) -> 241 | E36: =VLOOKUP(A36,'Laboratory A'!A:M,12,0) -> 212 | F36: =_xlfn.RANK.AVG(E36,E$2:E$291,1) -> 242.5 | G36: =D36-F36 -> -1.5 | H36: =G36^2 -> 2.25 | I36: =(C36+E36)/2 -> 204 | J36: =((C36-I36)^2+(E36-I36)^2)/2 -> 64 | K36: =SQRT(J36) -> 8 | L36: =(K36/I36)*100 -> 3.9215686 | M36: =(D36-$D$301) -> 95.910653 | N36: =(F36-$F$301) -> 97.457045 | O36: =(M36)^2 -> 9198.8533 | P36: =(N36)^2 -> 9497.8756 | Q36: =M36*N36 -> 9347.1688
A37: extern | B37: Wiesenrispengras | C37: =VLOOKUP(A37,'Laboratory A'!A:M,11,0) -> 0 | D37: =_xlfn.RANK.AVG(C37,C$2:C$291,1) -> 1 | E37: =VLOOKUP(A37,'Laboratory A'!A:M,12,0) -> 0 | F37: =_xlfn.RANK.AVG(E37,E$2:E$291,1) -> 1 | G37: =D37-F37 -> 0 | H37: =G37^2 -> 0 | I37: =(C37+E37)/2 -> 0 | J37: =((C37-I37)^2+(E37-I37)^2)/2 -> 0 | K37: =SQRT(J37) -> 0 | L37: 0 | M37: =(D37-$D$301) -> -144.08935 | N37: =(F37-$F$301) -> -144.04296 | O37: =(M37)^2 -> 20761.74 | P37: =(N37)^2 -> 20748.373 | Q37: =M37*N37 -> 20755.055
A38: Zeitler "Pinie" | B38: Wiesenrispengras | C38: =VLOOKUP(A38,'Laboratory A'!A:M,11,0) -> 523 | D38: =_xlfn.RANK.AVG(C38,C$2:C$291,1) -> 280 | E38: =VLOOKUP(A38,'Laboratory A'!A:M,12,0) -> 381 | F38: =_xlfn.RANK.AVG(E38,E$2:E$291,1) -> 266 | G38: =D38-F38 -> 14 | H38: =G38^2 -> 196 | I38: =(C38+E38)/2 -> 452 | J38: =((C38-I38)^2+(E38-I38)^2)/2 -> 5041 | K38: =SQRT(J38) -> 71 | L38: =(K38/I38)*100 -> 15.707965 | M38: =(D38-$D$301) -> 134.91065 | N38: =(F38-$F$301) -> 120.95704 | O38: =(M38)^2 -> 18200.884 | P38: =(N38)^2 -> 14630.607 | Q38: =M38*N38 -> 16318.394
A39: Mutscheller "Mira" | B39: Wiesenrispengras | C39: =VLOOKUP(A39,'Laboratory A'!A:M,11,0) -> 492 | D39: =_xlfn.RANK.AVG(C39,C$2:C$291,1) -> 278 | E39: =VLOOKUP(A39,'Laboratory A'!A:M,12,0) -> 595 | F39: =_xlfn.RANK.AVG(E39,E$2:E$291,1) -> 275 | G39: =D39-F39 -> 3 | H39: =G39^2 -> 9 | I39: =(C39+E39)/2 -> 543.5 | J39: =((C39-I39)^2+(E39-I39)^2)/2 -> 2652.25 | K39: =SQRT(J39) -> 51.5 | L39: =(K39/I39)*100 -> 9.475621 | M39: =(D39-$D$301) -> 132.91065 | N39: =(F39-$F$301) -> 129.95704 | O39: =(M39)^2 -> 17665.242 | P39: =(N39)^2 -> 16888.833 | Q39: =M39*N39 -> 17272.676
A40: Kern "Wayty" | B40: Wiesenrispengras | C40: =VLOOKUP(A40,'Laboratory A'!A:M,11,0) -> 83 | D40: =_xlfn.RANK.AVG(C40,C$2:C$291,1) -> 203 | E40: =VLOOKUP(A40,'Laboratory A'!A:M,12,0) -> 265 | F40: =_xlfn.RANK.AVG(E40,E$2:E$291,1) -> 252.5 | G40: =D40-F40 -> -49.5 | H40: =G40^2 -> 2450.25 | I40: =(C40+E40)/2 -> 174 | J40: =((C40-I40)^2+(E40-I40)^2)/2 -> 8281 | K40: =SQRT(J40) -> 91 | L40: =(K40/I40)*100 -> 52.298851 | M40: =(D40-$D$301) -> 57.910653 | N40: =(F40-$F$301) -> 107.45704 | O40: =(M40)^2 -> 3353.6437 | P40: =(N40)^2 -> 11547.016 | Q40: =M40*N40 -> 6222.9076
...

Sheet Spearman rank Laboratory A, 1-3
A1: Hund (Dog) | B1: Allergen | C1: Wert 1 (Value 1) | D1: Rang,x (Rank,x) | E1: Wert 2 (Value 2) | F1: Rang,y (Rank,y) | G1: Diff (d) | H1: d^2 | I1: Mittelwert (mean value) | J1: Varianz (Variance) | K1: Standabw (Standard deviation) | L1: Variationskoeff. In % (Coefficient of variation in %) | M1: Subtraktion x (Subtraction x) | N1: Subtraktion y (Subtraction y) | O1: Subtraktion x^2 (subtraction x^2) | P1: Subtraktion y^2 (Subtraction y^2) | Q1: Multiplikation (Multiplication)
A2: Valic "Eric" | B2: Wiesenknäuelgras (Dactylis glomerata) | C2: =VLOOKUP(A2,'Laboratory A'!A:D,2,0) -> 51 | D2: =_xlfn.RANK.AVG(C2,C$2:C$291,1) -> 129.5 | E2: =VLOOKUP(A2,'Laboratory A'!A:D,4,0) -> 49 | F2: =_xlfn.RANK.AVG(E2,E$2:E$291,1) -> 108.5 | G2: =D2-F2 -> 21 | H2: =G2^2 -> 441 | I2: =(C2+E2)/2 -> 50 | J2: =((C2-I2)^2+(E2-I2)^2)/2 -> 1 | K2: =SQRT(J2) -> 1 | L2: =(K2/I2)*100 -> 2 | M2: =(D2-$D$295) -> -2 | N2: =(M2)^2 -> 4 | O2: =(F2-$F$295) -> -23 | P2: =(O2)^2 -> 529 | Q2: =(M2*O2) -> 46
A3: Klenk "Fiete" | B3: Wiesenknäuelgras | C3: =VLOOKUP(A3,'Laboratory A'!A:D,2,0) -> 61 | D3: =_xlfn.RANK.AVG(C3,C$2:C$291,1) -> 152 | E3: =VLOOKUP(A3,'Laboratory A'!A:D,4,0) -> 54 | F3: =_xlfn.RANK.AVG(E3,E$2:E$291,1) -> 120.5 | G3: =D3-F3 -> 31.5 | H3: =G3^2 -> 992.25 | I3: =(C3+E3)/2 -> 57.5 | J3: =((C3-I3)^2+(E3-I3)^2)/2 -> 12.25 | K3: =SQRT(J3) -> 3.5 | L3: =(K3/I3)*100 -> 6.0869565 | M3: =(D3-$D$295) -> 20.5 | N3: =(M3)^2 -> 420.25 | O3: =(F3-$F$295) -> -11 | P3: =(O3)^2 -> 121 | Q3: =(M3*O3) -> -225.5
A4: Pintsch "Lilly" | B4: Wiesenknäuelgras | C4: =VLOOKUP(A4,'Laboratory A'!A:D,2,0) -> 36 | D4: =_xlfn.RANK.AVG(C4,C$2:C$291,1) -> 95 | E4: =VLOOKUP(A4,'Laboratory A'!A:D,4,0) -> 34 | F4: =_xlfn.RANK.AVG(E4,E$2:E$291,1) -> 80.5 | G4: =D4-F4 -> 14.5 | H4: =G4^2 -> 210.25 | I4: =(C4+E4)/2 -> 35 | J4: =((C4-I4)^2+(E4-I4)^2)/2 -> 1 | K4: =SQRT(J4) -> 1 | L4: =(K4/I4)*100 -> 2.8571429 | M4: =(D4-$D$295) -> -36.5 | N4: =(M4)^2 -> 1332.25 | O4: =(F4-$F$295) -> -51 | P4: =(O4)^2 -> 2601 | Q4: =(M4*O4) -> 1861.5
A5: Funken "Themba" | B5: Wiesenknäuelgras | C5: =VLOOKUP(A5,'Laboratory A'!A:D,2,0) -> 425 | D5: =_xlfn.RANK.AVG(C5,C$2:C$291,1) -> 244 | E5: =VLOOKUP(A5,'Laboratory A'!A:D,4,0) -> 374 | F5: =_xlfn.RANK.AVG(E5,E$2:E$291,1) -> 239.5 | G5: =D5-F5 -> 4.5 | H5: =G5^2 -> 20.25 | I5: =(C5+E5)/2 -> 399.5 | J5: =((C5-I5)^2+(E5-I5)^2)/2 -> 650.25 | K5: =SQRT(J5) -> 25.5 | L5: =(K5/I5)*100 -> 6.3829787 | M5: =(D5-$D$295) -> 112.5 | N5: =(M5)^2 -> 12656.25 | O5: =(F5-$F$295) -> 108 | P5: =(O5)^2 -> 11664 | Q5: =(M5*O5) -> 12150
A6: Tietzen "Oscar" | B6: Wiesenknäuelgras | C6: =VLOOKUP(A6,'Laboratory A'!A:D,2,0) -> 154 | D6: =_xlfn.RANK.AVG(C6,C$2:C$291,1) -> 196.5 | E6: =VLOOKUP(A6,'Laboratory A'!A:D,4,0) -> 189 | F6: =_xlfn.RANK.AVG(E6,E$2:E$291,1) -> 209 | G6: =D6-F6 -> -12.5 | H6: =G6^2 -> 156.25 | I6: =(C6+E6)/2 -> 171.5 | J6: =((C6-I6)^2+(E6-I6)^2)/2 -> 306.25 | K6: =SQRT(J6) -> 17.5 | L6: =(K6/I6)*100 -> 10.204082 | M6: =(D6-$D$295) -> 65 | N6: =(M6)^2 -> 4225 | O6: =(F6-$F$295) -> 77.5 | P6: =(O6)^2 -> 6006.25 | Q6: =(M6*O6) -> 5037.5
A7: Zeitler "Pinie" | B7: Wiesenknäuelgras | C7: =VLOOKUP(A7,'Laboratory A'!A:D,2,0) -> 269 | D7: =_xlfn.RANK.AVG(C7,C$2:C$291,1) -> 230 | E7: =VLOOKUP(A7,'Laboratory A'!A:D,4,0) -> 165 | F7: =_xlfn.RANK.AVG(E7,E$2:E$291,1) -> 203 | G7: =D7-F7 -> 27 | H7: =G7^2 -> 729 | I7: =(C7+E7)/2 -> 217 | J7: =((C7-I7)^2+(E7-I7)^2)/2 -> 2704 | K7: =SQRT(J7) -> 52 | L7: =(K7/I7)*100 -> 23.963134 | M7: =(D7-$D$295) -> 98.5 | N7: =(M7)^2 -> 9702.25 | O7: =(F7-$F$295) -> 71.5 | P7: =(O7)^2 -> 5112.25 | Q7: =(M7*O7) -> 7042.75
A8: Mutscheller "Mira" | B8: Wiesenknäuelgras | C8: =VLOOKUP(A8,'Laboratory A'!A:D,2,0) -> 172 | D8: =_xlfn.RANK.AVG(C8,C$2:C$291,1) -> 204 | E8: =VLOOKUP(A8,'Laboratory A'!A:D,4,0) -> 26 | F8: =_xlfn.RANK.AVG(E8,E$2:E$291,1) -> 44.5 | G8: =D8-F8 -> 159.5 | H8: =G8^2 -> 25440.25 | I8: =(C8+E8)/2 -> 99 | J8: =((C8-I8)^2+(E8-I8)^2)/2 -> 5329 | K8: =SQRT(J8) -> 73 | L8: =(K8/I8)*100 -> 73.737374 | M8: =(D8-$D$295) -> 72.5 | N8: =(M8)^2 -> 5256.25 | O8: =(F8-$F$295) -> -87 | P8: =(O8)^2 -> 7569 | Q8: =(M8*O8) -> -6307.5
A9: Kern "Wayty" | B9: Wiesenknäuelgras | C9: =VLOOKUP(A9,'Laboratory A'!A:D,2,0) -> 27 | D9: =_xlfn.RANK.AVG(C9,C$2:C$291,1) -> 51.5 | E9: =VLOOKUP(A9,'Laboratory A'!A:D,4,0) -> 28 | F9: =_xlfn.RANK.AVG(E9,E$2:E$291,1) -> 53.5 | G9: =D9-F9 -> -2 | H9: =G9^2 -> 4 | I9: =(C9+E9)/2 -> 27.5 | J9: =((C9-I9)^2+(E9-I9)^2)/2 -> 0.25 | K9: =SQRT(J9) -> 0.5 | L9: =(K9/I9)*100 -> 1.8181818 | M9: =(D9-$D$295) -> -80 | N9: =(M9)^2 -> 6400 | O9: =(F9-$F$295) -> -78 | P9: =(O9)^2 -> 6084 | Q9: =(M9*O9) -> 6240
A10: Lang "Wenzl" | B10: Wiesenknäuelgras | C10: =VLOOKUP(A10,'Laboratory A'!A:D,2,0) -> 17 | D10: =_xlfn.RANK.AVG(C10,C$2:C$291,1) -> 14.5 | E10: =VLOOKUP(A10,'Laboratory A'!A:D,4,0) -> 74 | F10: =_xlfn.RANK.AVG(E10,E$2:E$291,1) -> 159 | G10: =D10-F10 -> -144.5 | H10: =G10^2 -> 20880.25 | I10: =(C10+E10)/2 -> 45.5 | J10: =((C10-I10)^2+(E10-I10)^2)/2 -> 812.25 | K10: =SQRT(J10) -> 28.5 | L10: =(K10/I10)*100 -> 62.637363 | M10: =(D10-$D$295) -> -117 | N10: =(M10)^2 -> 13689 | O10: =(F10-$F$295) -> 27.5 | P10: =(O10)^2 -> 756.25 | Q10: =(M10*O10) -> -3217.5
A11: Engelhardt "Pepa" | B11: Wiesenknäuelgras
A12: Valic "Eric" | B12: Wiesenlieschgras (Phleum pratense) | C12: =VLOOKUP(A2,'Laboratory A'!A:G,5,0) -> 88 | D12: =_xlfn.RANK.AVG(C12,C$2:C$291,1) -> 178 | E12: =VLOOKUP(A12,'Laboratory A'!A:G,7,0) -> 65 | F12: =_xlfn.RANK.AVG(E12,E$2:E$291,1) -> 141 | G12: =D12-F12 -> 37 | H12: =G12^2 -> 1369 | I12: =(C12+E12)/2 -> 76.5 | J12: =((C12-I12)^2+(E12-I12)^2)/2 -> 132.25 | K12: =SQRT(J12) -> 11.5 | L12: =(K12/I12)*100 -> 15.03268 | M12: =(D12-$D$295) -> 46.5 | N12: =(M12)^2 -> 2162.25 | O12: =(F12-$F$295) -> 9.5 | P12: =(O12)^2 -> 90.25 | Q12: =(M12*O12) -> 441.75
A13: Klenk "Fiete" | B13: Wiesenlieschgras | C13: =VLOOKUP(A3,'Laboratory A'!A:G,5,0) -> 30 | D13: =_xlfn.RANK.AVG(C13,C$2:C$291,1) -> 70 | E13: =VLOOKUP(A13,'Laboratory A'!A:G,7,0) -> 70 | F13: =_xlfn.RANK.AVG(E13,E$2:E$291,1) -> 151.5 | G13: =D13-F13 -> -81.5 | H13: =G13^2 -> 6642.25 | I13: =(C13+E13)/2 -> 50 | J13: =((C13-I13)^2+(E13-I13)^2)/2 -> 400 | K13: =SQRT(J13) -> 20 | L13: =(K13/I13)*100 -> 40 | M13: =(D13-$D$295) -> -61.5 | N13: =(M13)^2 -> 3782.25 | O13: =(F13-$F$295) -> 20 | P13: =(O13)^2 -> 400 | Q13: =(M13*O13) -> -1230
A14: Pintsch "Lilly" | B14: Wiesenlieschgras | C14: =VLOOKUP(A4,'Laboratory A'!A:G,5,0) -> 214 | D14: =_xlfn.RANK.AVG(C14,C$2:C$291,1) -> 218 | E14: =VLOOKUP(A14,'Laboratory A'!A:G,7,0) -> 286 | F14: =_xlfn.RANK.AVG(E14,E$2:E$291,1) -> 229 | G14: =D14-F14 -> -11 | H14: =G14^2 -> 121 | I14: =(C14+E14)/2 -> 250 | J14: =((C14-I14)^2+(E14-I14)^2)/2 -> 1296 | K14: =SQRT(J14) -> 36 | L14: =(K14/I14)*100 -> 14.4 | M14: =(D14-$D$295) -> 86.5 | N14: =(M14)^2 -> 7482.25 | O14: =(F14-$F$295) -> 97.5 | P14: =(O14)^2 -> 9506.25 | Q14: =(M14*O14) -> 8433.75
A15: Funken "Themba" | B15: Wiesenlieschgras | C15: =VLOOKUP(A5,'Laboratory A'!A:G,5,0) -> 209 | D15: =_xlfn.RANK.AVG(C15,C$2:C$291,1) -> 217 | E15: =VLOOKUP(A15,'Laboratory A'!A:G,7,0) -> 353 | F15: =_xlfn.RANK.AVG(E15,E$2:E$291,1) -> 236 | G15: =D15-F15 -> -19 | H15: =G15^2 -> 361 | I15: =(C15+E15)/2 -> 281 | J15: =((C15-I15)^2+(E15-I15)^2)/2 -> 5184 | K15: =SQRT(J15) -> 72 | L15: =(K15/I15)*100 -> 25.622776 | M15: =(D15-$D$295) -> 85.5 | N15: =(M15)^2 -> 7310.25 | O15: =(F15-$F$295) -> 104.5 | P15: =(O15)^2 -> 10920.25 | Q15: =(M15*O15) -> 8934.75
A16: Tietzen "Oscar" | B16: Wiesenlieschgras | C16: =VLOOKUP(A6,'Laboratory A'!A:G,5,0) -> 47 | D16: =_xlfn.RANK.AVG(C16,C$2:C$291,1) -> 120 | E16: =VLOOKUP(A16,'Laboratory A'!A:G,7,0) -> 54 | F16: =_xlfn.RANK.AVG(E16,E$2:E$291,1) -> 120.5 | G16: =D16-F16 -> -0.5 | H16: =G16^2 -> 0.25 | I16: =(C16+E16)/2 -> 50.5 | J16: =((C16-I16)^2+(E16-I16)^2)/2 -> 12.25 | K16: =SQRT(J16) -> 3.5 | L16: =(K16/I16)*100 -> 6.9306931 | M16: =(D16-$D$295) -> -11.5 | N16: =(M16)^2 -> 132.25 | O16: =(F16-$F$295) -> -11 | P16: =(O16)^2 -> 121 | Q16: =(M16*O16) -> 126.5
A17: Zeitler "Pinie" | B17: Wiesenlieschgras | C17: =VLOOKUP(A7,'Laboratory A'!A:G,5,0) -> 28 | D17: =_xlfn.RANK.AVG(C17,C$2:C$291,1) -> 57 | E17: =VLOOKUP(A17,'Laboratory A'!A:G,7,0) -> 34 | F17: =_xlfn.RANK.AVG(E17,E$2:E$291,1) -> 80.5 | G17: =D17-F17 -> -23.5 | H17: =G17^2 -> 552.25 | I17: =(C17+E17)/2 -> 31 | J17: =((C17-I17)^2+(E17-I17)^2)/2 -> 9 | K17: =SQRT(J17) -> 3 | L17: =(K17/I17)*100 -> 9.6774194 | M17: =(D17-$D$295) -> -74.5 | N17: =(M17)^2 -> 5550.25 | O17: =(F17-$F$295) -> -51 | P17: =(O17)^2 -> 2601 | Q17: =(M17*O17) -> 3799.5
A18: Mutscheller "Mira" | B18: Wiesenlieschgras | C18: =VLOOKUP(A8,'Laboratory A'!A:G,5,0) -> 55 | D18: =_xlfn.RANK.AVG(C18,C$2:C$291,1) -> 135.5 | E18: =VLOOKUP(A18,'Laboratory A'!A:G,7,0) -> 52 | F18: =_xlfn.RANK.AVG(E18,E$2:E$291,1) -> 115 | G18: =D18-F18 -> 20.5 | H18: =G18^2 -> 420.25 | I18: =(C18+E18)/2 -> 53.5 | J18: =((C18-I18)^2+(E18-I18)^2)/2 -> 2.25 | K18: =SQRT(J18) -> 1.5 | L18: =(K18/I18)*100 -> 2.8037383 | M18: =(D18-$D$295) -> 4 | N18: =(M18)^2 -> 16 | O18: =(F18-$F$295) -> -16.5 | P18: =(O18)^2 -> 272.25 | Q18: =(M18*O18) -> -66
A19: Kern "Wayty" | B19: Wiesenlieschgras | C19: =VLOOKUP(A9,'Laboratory A'!A:G,5,0) -> 50 | D19: =_xlfn.RANK.AVG(C19,C$2:C$291,1) -> 126 | E19: =VLOOKUP(A19,'Laboratory A'!A:G,7,0) -> 44 | F19: =_xlfn.RANK.AVG(E19,E$2:E$291,1) -> 98 | G19: =D19-F19 -> 28 | H19: =G19^2 -> 784 | I19: =(C19+E19)/2 -> 47 | J19: =((C19-I19)^2+(E19-I19)^2)/2 -> 9 | K19: =SQRT(J19) -> 3 | L19: =(K19/I19)*100 -> 6.3829787 | M19: =(D19-$D$295) -> -5.5 | N19: =(M19)^2 -> 30.25 | O19: =(F19-$F$295) -> -33.5 | P19: =(O19)^2 -> 1122.25 | Q19: =(M19*O19) -> 184.25
A20: Lang "Wenzl" | B20: Wiesenlieschgras | C20: =VLOOKUP(A10,'Laboratory A'!A:G,5,0) -> 18 | D20: =_xlfn.RANK.AVG(C20,C$2:C$291,1) -> 17 | E20: =VLOOKUP(A20,'Laboratory A'!A:G,7,0) -> 20 | F20: =_xlfn.RANK.AVG(E20,E$2:E$291,1) -> 25.5 | G20: =D20-F20 -> -8.5 | H20: =G20^2 -> 72.25 | I20: =(C20+E20)/2 -> 19 | J20: =((C20-I20)^2+(E20-I20)^2)/2 -> 1 | K20: =SQRT(J20) -> 1 | L20: =(K20/I20)*100 -> 5.2631579 | M20: =(D20-$D$295) -> -114.5 | N20: =(M20)^2 -> 13110.25 | O20: =(F20-$F$295) -> -106 | P20: =(O20)^2 -> 11236 | Q20: =(M20*O20) -> 12137
A21: Engelhardt "Pepa" | B21: Wiesenlieschgras
A22: Valic "Eric" | B22: Englisches Ryegras (Lolium perenne) | C22: =VLOOKUP(A22,'Laboratory A'!A:J,8,0) -> 30 | D22: =_xlfn.RANK.AVG(C22,C$2:C$291,1) -> 70 | E22: =VLOOKUP(A22,'Laboratory A'!A:J,10,0) -> 44 | F22: =_xlfn.RANK.AVG(E22,E$2:E$291,1) -> 98 | G22: =D22-F22 -> -28 | H22: =G22^2 -> 784 | I22: =(C22+E22)/2 -> 37 | J22: =((C22-I22)^2+(E22-I22)^2)/2 -> 49 | K22: =SQRT(J22) -> 7 | L22: =(K22/I22)*100 -> 18.918919 | M22: =(D22-$D$295) -> -61.5 | N22: =(M22)^2 -> 3782.25 | O22: =(F22-$F$295) -> -33.5 | P22: =(O22)^2 -> 1122.25 | Q22: =(M22*O22) -> 2060.25
A23: Klenk "Fiete" | B23: Englisches Ryegras | C23: =VLOOKUP(A23,'Laboratory A'!A:J,8,0) -> 228 | D23: =_xlfn.RANK.AVG(C23,C$2:C$291,1) -> 224 | E23: =VLOOKUP(A23,'Laboratory A'!A:J,10,0) -> 255 | F23: =_xlfn.RANK.AVG(E23,E$2:E$291,1) -> 223 | G23: =D23-F23 -> 1 | H23: =G23^2 -> 1 | I23: =(C23+E23)/2 -> 241.5 | J23: =((C23-I23)^2+(E23-I23)^2)/2 -> 182.25 | K23: =SQRT(J23) -> 13.5 | L23: =(K23/I23)*100 -> 5.5900621 | M23: =(D23-$D$295) -> 92.5 | N23: =(M23)^2 -> 8556.25 | O23: =(F23-$F$295) -> 91.5 | P23: =(O23)^2 -> 8372.25 | Q23: =(M23*O23) -> 8463.75
A24: Pintsch "Lilly" | B24: Englisches Ryegras | C24: =VLOOKUP(A24,'Laboratory A'!A:J,8,0) -> 780 | D24: =_xlfn.RANK.AVG(C24,C$2:C$291,1) -> 260 | E24: =VLOOKUP(A24,'Laboratory A'!A:J,10,0) -> 424 | F24: =_xlfn.RANK.AVG(E24,E$2:E$291,1) -> 250 | G24: =D24-F24 -> 10 | H24: =G24^2 -> 100 | I24: =(C24+E24)/2 -> 602 | J24: =((C24-I24)^2+(E24-I24)^2)/2 -> 31684 | K24: =SQRT(J24) -> 178 | L24: =(K24/I24)*100 -> 29.568106 | M24: =(D24-$D$295) -> 128.5 | N24: =(M24)^2 -> 16512.25 | O24: =(F24-$F$295) -> 118.5 | P24: =(O24)^2 -> 14042.25 | Q24: =(M24*O24) -> 15227.25
A25: Funken "Themba" | B25: Englisches Ryegras | C25: =VLOOKUP(A25,'Laboratory A'!A:J,8,0) -> 380 | D25: =_xlfn.RANK.AVG(C25,C$2:C$291,1) -> 240 | E25: =VLOOKUP(A25,'Laboratory A'!A:J,10,0) -> 358 | F25: =_xlfn.RANK.AVG(E25,E$2:E$291,1) -> 237 | G25: =D25-F25 -> 3 | H25: =G25^2 -> 9 | I25: =(C25+E25)/2 -> 369 | J25: =((C25-I25)^2+(E25-I25)^2)/2 -> 121 | K25: =SQRT(J25) -> 11 | L25: =(K25/I25)*100 -> 2.9810298 | M25: =(D25-$D$295) -> 108.5 | N25: =(M25)^2 -> 11772.25 | O25: =(F25-$F$295) -> 105.5 | P25: =(O25)^2 -> 11130.25 | Q25: =(M25*O25) -> 11446.75
