Workbook

Sheet Laboratory A
A1: Hund (Dog) | B1: Wiesenknäuelgras (Dactylis glomerata) | E1: Wiesenlieschgras (Phleum pratense) | H1: Englisches Ryegras (Lolium perenne) | K1: Wiesenrispengras (Poa pratensis) | N1: Hundszahngras (Cynodon dactylon) | Q1: Saat-Hafer (Avena sativa) | T1: Roggen (Secale cereale) | W1: Speisemilbe (Tyrophagus putrescentiae) | Z1: Am. Hausstaubmilbe (D. farinae) | AC1: Heumilbe (Lepidoglyphus destructor) | AF1: Eur. Hausstaubmilbe (D. pteronyssinus) | AI1: Mehlmilbe (Acarus siro) | AL1: Floh (Flea) | AO1: Birke (Betula) | AR1: Hasel (Corylus) | AU1: Plantane (Platanus) | AX1: Ulme (Ulmus) | BA1: Korb-Weide (Salix viminalis) | BD1: Gemeine Beifuß (Artemisia spp.) | BG1: Brennessel (Urtica dioica) | BJ1: Spitzwegerich (Plantago lanceolata) | BM1: Weißer Gänsefuß (Chenopodium spp.) | BP1: Löwenzahn (Taraxacum) | BS1: Kleiner Sauerampfer (Rumex acetosa) | BV1: Beifuß-Ambrosie (Ambrosia artemisiifolia) | BY1: Alternaria alternata | CB1: Aspergillus fumigatus | CE1: Cladosporium herbarum | CH1: Malassezia
A2: Valic "Eric" | B2: 51 | C2: 215 | D2: 49 | E2: 88 | F2: 36 | G2: 65 | H2: 30 | I2: 52 | J2: 44 | K2: 94 | L2: 162 | M2: 36 | N2: 50 | O2: 56 | P2: 52 | Q2: 48 | R2: 56 | S2: 47 | T2: 44 | U2: 25 | V2: 88 | W2: 61 | X2: 212 | Y2: 176 | Z2: 28 | AA2: 48 | AB2: 38 | AC2: 56 | AD2: 43 | AE2: 29 | AF2: 21 | AG2: 67 | AH2: 20 | AI2: 26 | AJ2: 265 | AK2: 156 | AL2: 59 | AM2: 29 | AN2: 63 | AO2: 40 | AP2: 91 | AQ2: 59 | AR2: 43 | AS2: 54 | AT2: 26 | AU2: 59 | AV2: 35 | AW2: 38 | AX2: 47 | AY2: 55 | AZ2: 25 | BA2: 78 | BB2: 188 | BC2: 172 | BD2: 27 | BE2: 82 | BF2: 35 | BG2: 38 | BH2: 60 | BI2: 30 | BJ2: 30 | BK2: 66 | BL2: 23 | BM2: 57 | BN2: 221 | BO2: 34 | BP2: 30 | BQ2: 60 | BR2: 30 | BS2: 93 | BT2: 49 | BU2: 35 | BV2: 58 | BW2: 34 | BX2: 29 | BY2: 52 | BZ2: 75 | CA2: 48 | CB2: 59 | CC2: 43 | CD2: 29 | CE2: 33 | CF2: 30 | CG2: 45 | CH2: 23 | CI2: 22 | CJ2: 28
A3: Klenk "Fiete" | B3: 61 | C3: 21 | D3: 54 | E3: 30 | F3: 22 | G3: 70 | H3: 228 | I3: 54 | J3: 255 | K3: 229 | L3: 76 | M3: 167 | N3: 69 | O3: 60 | P3: 253 | Q3: 10 | R3: 59 | S3: 59 | T3: 34 | U3: 63 | V3: 77 | W3: 51 | X3: 56 | Y3: 72 | Z3: 32 | AA3: 41 | AB3: 77 | AC3: 29 | AD3: 24 | AE3: 47 | AF3: 44 | AG3: 48 | AH3: 95 | AI3: 27 | AJ3: 31 | AK3: 19 | AL3: 27 | AM3: 27 | AN3: 54 | AO3: 28 | AP3: 29 | AQ3: 20 | AR3: 20 | AS3: 22 | AT3: 70 | AU3: 46 | AV3: 24 | AW3: 83 | AX3: 50 | AY3: 48 | AZ3: 83 | BA3: 59 | BB3: 56 | BC3: 50 | BD3: 22 | BE3: 22 | BF3: 74 | BG3: 26 | BH3: 29 | BI3: 64 | BJ3: 29 | BK3: 29 | BL3: 76 | BM3: 35 | BN3: 34 | BO3: 69 | BP3: 30 | BQ3: 31 | BR3: 95 | BS3: 55 | BT3: 50 | BU3: 66 | BV3: 56 | BW3: 27 | BX3: 10 | BY3: 26 | BZ3: 61 | CA3: 92 | CB3: 47 | CC3: 69 | CD3: 85 | CE3: 20 | CF3: 20 | CG3: 41 | CH3: 27 | CI3: 29 | CJ3: 18
A4: Pintsch "Lilly" | B4: 36 | C4: 23 | D4: 34 | E4: 214 | F4: 296 | G4: 286 | H4: 780 | I4: 775 | J4: 424 | K4: 329 | L4: 737 | M4: 435 | N4: 812 | O4: 763 | P4: 887 | Q4: 35 | R4: 71 | S4: 34 | T4: 82 | U4: 201 | V4: 287 | W4: 456 | X4: 500 | Y4: 447 | Z4: 199 | AA4: 207 | AB4: 275 | AC4: 29 | AD4: 29 | AE4: 82 | AF4: 81 | AG4: 47 | AH4: 55 | AI4: 599 | AJ4: 613 | AK4: 542 | AL4: 33 | AM4: 33 | AN4: 53 | AO4: 590 | AP4: 679 | AQ4: 498 | AR4: 45 | AS4: 45 | AT4: 291 | AU4: 51 | AV4: 56 | AW4: 32 | AX4: 59 | AY4: 35 | AZ4: 421 | BA4: 413 | BB4: 468 | BC4: 407 | BD4: 218 | BE4: 247 | BF4: 207 | BG4: 446 | BH4: 937 | BI4: 434 | BJ4: 175 | BK4: 65 | BL4: 171 | BM4: 406 | BN4: 703 | BO4: 422 | BP4: 358 | BQ4: 655 | BR4: 440 | BS4: 379 | BT4: 644 | BU4: 456 | BV4: 59 | BW4: 52 | BX4: 58 | BY4: 44 | BZ4: 25 | CA4: 50 | CB4: 62 | CC4: 13 | CD4: 9 | CE4: 40 | CF4: 30 | CG4: 37 | CH4: 35 | CI4: 34 | CJ4: 9
A5: Funken "Themba" | B5: 425 | C5: 407 | D5: 374 | E5: 209 | F5: 204 | G5: 353 | H5: 380 | I5: 347 | J5: 358 | K5: 955 | L5: 964 | M5: 882 | N5: 729 | O5: 725 | P5: 613 | Q5: 142 | R5: 377 | S5: 68 | T5: 278 | U5: 320 | V5: 273 | W5: 455 | X5: 494 | Y5: 421 | Z5: 281 | AA5: 279 | AB5: 279 | AC5: 39 | AD5: 40 | AE5: 38 | AF5: 46 | AG5: 45 | AH5: 41 | AI5: 264 | AJ5: 283 | AK5: 233 | AL5: 140 | AM5: 180 | AN5: 104 | AO5: 206 | AP5: 221 | AQ5: 191 | AR5: 249 | AS5: 253 | AT5: 203 | AU5: 237 | AV5: 246 | AW5: 239 | AX5: 139 | AY5: 125 | AZ5: 156 | BA5: 184 | BB5: 176 | BC5: 175 | BD5: 158 | BE5: 182 | BF5: 161 | BG5: 45 | BH5: 174 | BI5: 74 | BJ5: 32 | BK5: 28 | BL5: 249 | BM5: 186 | BN5: 170 | BO5: 374 | BP5: 155 | BQ5: 146 | BR5: 163 | BS5: 71 | BT5: 58 | BU5: 155 | BV5: 122 | BW5: 115 | BX5: 114 | BY5: 23 | BZ5: 30 | CA5: 29 | CB5: 30 | CC5: 85 | CD5: 29 | CE5: 52 | CF5: 80 | CG5: 64 | CH5: 24 | CI5: 25 | CJ5: 16
A6: Tietzen "Oscar" | B6: 154 | C6: 163 | D6: 189 | E6: 47 | F6: 50 | G6: 54 | H6: 94 | I6: 85 | J6: 87 | K6: 196 | L6: 212 | M6: 298 | N6: 219 | O6: 182 | P6: 151 | Q6: 36 | R6: 34 | S6: 33 | T6: 61 | U6: 64 | V6: 788 | W6: 411 | X6: 258 | Y6: 316 | Z6: 257 | AA6: 272 | AB6: 256 | AC6: 22 | AD6: 28 | AE6: 27 | AF6: 10 | AG6: 19 | AH6: 53 | AI6: 296 | AJ6: 317 | AK6: 299 | AL6: 51 | AM6: 47 | AN6: 42 | AO6: 95 | AP6: 327 | AQ6: 89 | AR6: 85 | AS6: 94 | AT6: 94 | AU6: 72 | AV6: 58 | AW6: 66 | AX6: 89 | AY6: 32 | AZ6: 62 | BA6: 16 | BB6: 830 | BC6: 19 | BD6: 75 | BE6: 76 | BF6: 57 | BG6: 41 | BH6: 19 | BI6: 32 | BJ6: 65 | BK6: 64 | BL6: 62 | BM6: 154 | BN6: 156 | BO6: 692 | BP6: 103 | BQ6: 113 | BR6: 72 | BS6: 182 | BT6: 22 | BU6: 23 | BV6: 29 | BW6: 34 | BX6: 27 | BY6: 21 | BZ6: 19 | CA6: 24 | CB6: 32 | CC6: 30 | CD6: 28 | CE6: 35 | CF6: 25 | CG6: 26 | CH6: 31 | CI6: 35 | CJ6: 26
A7: extern
A8: Zeitler "Pinie" | B8: 269 | C8: 170 | D8: 165 | E8: 28 | F8: 31 | G8: 34 | H8: 67 | I8: 62 | J8: 73 | K8: 523 | L8: 381 | M8: 418 | N8: 324 | O8: 178 | P8: 215 | Q8: 43 | R8: 35 | S8: 24 | T8: 158 | U8: 52 | V8: 54 | W8: 187 | X8: 908 | Y8: 202 | Z8: 27 | AA8: 302 | AB8: 210 | AC8: 17 | AD8: 23 | AE8: 22 | AF8: 435 | AG8: 24 | AH8: 28 | AI8: 52 | AJ8: 256 | AK8: 256 | AL8: 47 | AM8: 48 | AN8: 51 | AO8: 220 | AP8: 160 | AQ8: 89 | AR8: 153 | AS8: 111 | AT8: 57 | AU8: 484 | AV8: 60 | AW8: 123 | AX8: 33 | AY8: 76 | AZ8: 363 | BA8: 25 | BB8: 90 | BC8: 402 | BD8: 58 | BE8: 25 | BF8: 58 | BG8: 102 | BH8: 32 | BI8: 32 | BJ8: 64 | BK8: 65 | BL8: 49 | BM8: 34 | BN8: 104 | BO8: 139 | BP8: 156 | BQ8: 146 | BR8: 106 | BS8: 32 | BT8: 55 | BU8: 32 | BV8: 75 | BW8: 54 | BX8: 74 | BY8: 17 | BZ8: 12 | CA8: 64 | CB8: 29 | CC8: 35 | CD8: 25 | CE8: 22 | CF8: 64 | CG8: 59 | CH8: 16 | CI8: 22 | CJ8: 20
A9: Mutscheller "Mira" | B9: 172 | C9: 204 | D9: 26 | E9: 55 | F9: 78 | G9: 52 | H9: 175 | I9: 155 | J9: 81 | K9: 492 | L9: 595 | M9: 395 | N9: 522 | O9: 429 | P9: 287 | Q9: 47 | R9: 37 | S9: 30 | T9: 105 | U9: 96 | V9: 61 | W9: 618 | X9: 497 | Y9: 377 | Z9: 279 | AA9: 468 | AB9: 213 | AC9: 40 | AD9: 31 | AE9: 23 | AF9: 28 | AG9: 88 | AH9: 30 | AI9: 283 | AJ9: 290 | AK9: 222 | AL9: 80 | AM9: 67 | AN9: 66 | AO9: 159 | AP9: 172 | AQ9: 130 | AR9: 178 | AS9: 171 | AT9: 101 | AU9: 176 | AV9: 93 | AW9: 69 | AX9: 682 | AY9: 657 | AZ9: 56 | BA9: 761 | BB9: 697 | BC9: 49 | BD9: 121 | BE9: 121 | BF9: 98 | BG9: 46 | BH9: 17 | BI9: 23 | BJ9: 105 | BK9: 68 | BL9: 98 | BM9: 578 | BN9: 513 | BO9: 382 | BP9: 25 | BQ9: 36 | BR9: 32 | BS9: 163 | BT9: 156 | BU9: 153 | BV9: 83 | BW9: 89 | BX9: 77 | BY9: 17 | BZ9: 18 | CA9: 30 | CB9: 32 | CC9: 36 | CD9: 26 | CE9: 25 | CF9: 19 | CG9: 47 | CH9: 45 | CI9: 25 | CJ9: 19
A10: Kern "Wayty" | B10: 27 | C10: 107 | D10: 28 | E10: 50 | F10: 55 | G10: 44 | H10: 74 | I10: 91 | J10: 80 | K10: 83 | L10: 265 | M10: 42 | N10: 221 | O10: 278 | P10: 119 | Q10: 29 | R10: 32 | S10: 200 | T10: 147 | U10: 51 | V10: 52 | W10: 56 | X10: 52 | Y10: 45 | Z10: 34 | AA10: 35 | AB10: 33 | AC10: 66 | AD10: 19 | AE10: 27 | AF10: 26 | AG10: 26 | AH10: 37 | AI10: 89 | AJ10: 116 | AK10: 71 | AL10: 42 | AM10: 41 | AN10: 47 | AO10: 82 | AP10: 112 | AQ10: 75 | AR10: 69 | AS10: 170 | AT10: 55 | AU10: 45 | AV10: 44 | AW10: 87 | AX10: 74 | AY10: 72 | AZ10: 66 | BA10: 207 | BB10: 31 | BC10: 29 | BD10: 76 | BE10: 62 | BF10: 74 | BG10: 59 | BH10: 75 | BI10: 26 | BJ10: 23 | BK10: 190 | BL10: 69 | BM10: 83 | BN10: 45 | BO10: 88 | BP10: 81 | BQ10: 189 | BR10: 116 | BS10: 223 | BT10: 156 | BU10: 112 | BV10: 42 | BW10: 49 | BX10: 55 | BY10: 23 | BZ10: 15 | CA10: 33 | CB10: 30 | CC10: 31 | CD10: 90 | CE10: 56 | CF10: 52 | CG10: 23 | CH10: 24 | CI10: 22 | CJ10: 28
A11: Lang "Wenzl" | B11: 17 | C11: 39 | D11: 74 | E11: 18 | F11: 70 | G11: 20 | H11: 16 | I11: 20 | J11: 16 | K11: 48 | L11: 55 | M11: 49 | N11: 22 | O11: 43 | P11: 32 | Q11: 21 | R11: 19 | S11: 23 | T11: 15 | U11: 49 | V11: 25 | W11: 33 | X11: 30 | Y11: 19 | Z11: 10 | AA11: 33 | AB11: 19 | AC11: 25 | AD11: 25 | AE11: 17 | AF11: 23 | AG11: 20 | AH11: 9 | AI11: 32 | AJ11: 25 | AK11: 23 | AL11: 25 | AM11: 25 | AN11: 28 | AO11: 21 | AP11: 33 | AQ11: 39 | AR11: 15 | AS11: 15 | AT11: 15 | AU11: 12 | AV11: 15 | AW11: 16 | AX11: 36 | AY11: 35 | AZ11: 43 | BA11: 31 | BB11: 31 | BC11: 29 | BD11: 13 | BE11: 26 | BF11: 16 | BG11: 19 | BH11: 26 | BI11: 15 | BJ11: 23 | BK11: 38 | BL11: 44 | BM11: 24 | BN11: 27 | BO11: 13 | BP11: 38 | BQ11: 71 | BR11: 66 | BS11: 26 | BT11: 131 | BU11: 18 | BV11: 31 | BW11: 18 | BX11: 18 | BY11: 15 | BZ11: 18 | CA11: 17 | CB11: 29 | CC11: 27 | CD11: 32 | CE11: 25 | CF11: 30 | CG11: 14 | CH11: 28 | CI11: 23 | CJ11: 23
A12: Engelhardt "Pepa" | B12: 20 | C12: 57 | E12: 68 | F12: 39 | H12: 59 | I12: 58 | K12: 40 | L12: 33 | N12: 28 | O12: 58 | Q12: 54 | R12: 58 | T12: 56 | U12: 56 | W12: 27 | X12: 37 | Z12: 25 | AA12: 27 | AC12: 21 | AD12: 34 | AF12: 17 | AG12: 20 | AI12: 21 | AJ12: 20 | AL12: 18 | AM12: 16 | AO12: 26 | AP12: 24 | AR12: 19 | AS12: 15 | AU12: 17 | AV12: 14 | AX12: 24 | AY12: 25 | BA12: 27 | BB12: 24 | BD12: 57 | BE12: 20 | BG12: 13 | BH12: 12 | BJ12: 17 | BK12: 18 | BM12: 25 | BN12: 22 | BP12: 26 | BQ12: 21 | BS12: 19 | BT12: 15 | BV12: 13 | BW12: 22 | BY12: 23 | BZ12: 34 | CB12: 16 | CC12: 17 | CE12: 65 | CF12: 41 | CH12: 19 | CI12: 17
A16: Auswertung: | B16: < 150 = 0 | C16: 150-200 = 1 | D16: >200 = 2
A17: Valic "Eric" | B17: =IF(B2<150,0,IF(B2<200,1,IF(B2>=200,2))) -> 0 | C17: =IF(C2<150,0,IF(C2<200,1,IF(C2>=200,2))) -> 2 | D17: =IF(D2<150,0,IF(D2<200,1,IF(D2>=200,2))) -> 0 | E17: =IF(E2<150,0,IF(E2<200,1,IF(E2>=200,2))) -> 0 | F17: =IF(F2<150,0,IF(F2<200,1,IF(F2>=200,2))) -> 0 | G17: =IF(G2<150,0,IF(G2<200,1,IF(G2>=200,2))) -> 0 | H17: =IF(H2<150,0,IF(H2<200,1,IF(H2>=200,2))) -> 0 | I17: =IF(I2<150,0,IF(I2<200,1,IF(I2>=200,2))) -> 0 | ... CJ17: =IF(CJ2<150,0,IF(CJ2<200,1,IF(CJ2>=200,2))) -> 0
A18: Klenk "Fiete" | B18: =IF(B3<150,0,IF(B3<200,1,IF(B3>=200,2))) -> 0 | C18: =IF(C3<150,0,IF(C3<200,1,IF(C3>=200,2))) -> 0 | D18: =IF(D3<150,0,IF(D3<200,1,IF(D3>=200,2))) -> 0 | E18: =IF(E3<150,0,IF(E3<200,1,IF(E3>=200,2))) -> 0 | F18: =IF(F3<150,0,IF(F3<200,1,IF(F3>=200,2))) -> 0 | G18: =IF(G3<150,0,IF(G3<200,1,IF(G3>=200,2))) -> 0 | H18: =IF(H3<150,0,IF(H3<200,1,IF(H3>=200,2))) -> 2 | I18: =IF(I3<150,0,IF(I3<200,1,IF(I3>=200,2))) -> 0 | ... CJ18: =IF(CJ3<150,0,IF(CJ3<200,1,IF(CJ3>=200,2))) -> 0
A19: Pintsch "Lilly" | B19: =IF(B4<150,0,IF(B4<200,1,IF(B4>=200,2))) -> 0 | C19: =IF(C4<150,0,IF(C4<200,1,IF(C4>=200,2))) -> 0 | D19: =IF(D4<150,0,IF(D4<200,1,IF(D4>=200,2))) -> 0 | E19: =IF(E4<150,0,IF(E4<200,1,IF(E4>=200,2))) -> 2 | F19: =IF(F4<150,0,IF(F4<200,1,IF(F4>=200,2))) -> 2 | G19: =IF(G4<150,0,IF(G4<200,1,IF(G4>=200,2))) -> 2 | H19: =IF(H4<150,0,IF(H4<200,1,IF(H4>=200,2))) -> 2 | I19: =IF(I4<150,0,IF(I4<200,1,IF(I4>=200,2))) -> 2 | ... CJ19: =IF(CJ4<150,0,IF(CJ4<200,1,IF(CJ4>=200,2))) -> 0
A20: Funken "Themba" | B20: =IF(B5<150,0,IF(B5<200,1,IF(B5>=200,2))) -> 2 | C20: =IF(C5<150,0,IF(C5<200,1,IF(C5>=200,2))) -> 2 | D20: =IF(D5<150,0,IF(D5<200,1,IF(D5>=200,2))) -> 2 | E20: =IF(E5<150,0,IF(E5<200,1,IF(E5>=200,2))) -> 2 | F20: =IF(F5<150,0,IF(F5<200,1,IF(F5>=200,2))) -> 2 | G20: =IF(G5<150,0,IF(G5<200,1,IF(G5>=200,2))) -> 2 | H20: =IF(H5<150,0,IF(H5<200,1,IF(H5>=200,2))) -> 2 | I20: =IF(I5<150,0,IF(I5<200,1,IF(I5>=200,2))) -> 2 | ... CJ20: =IF(CJ5<150,0,IF(CJ5<200,1,IF(CJ5>=200,2))) -> 0
A21: Tietzen "Oscar" | B21: =IF(B6<150,0,IF(B6<200,1,IF(B6>=200,2))) -> 1 | C21: =IF(C6<150,0,IF(C6<200,1,IF(C6>=200,2))) -> 1 | D21: =IF(D6<150,0,IF(D6<200,1,IF(D6>=200,2))) -> 1 | E21: =IF(E6<150,0,IF(E6<200,1,IF(E6>=200,2))) -> 0 | F21: =IF(F6<150,0,IF(F6<200,1,IF(F6>=200,2))) -> 0 | G21: =IF(G6<150,0,IF(G6<200,1,IF(G6>=200,2))) -> 0 | H21: =IF(H6<150,0,IF(H6<200,1,IF(H6>=200,2))) -> 0 | I21: =IF(I6<150,0,IF(I6<200,1,IF(I6>=200,2))) -> 0 | ... CJ21: =IF(CJ6<150,0,IF(CJ6<200,1,IF(CJ6>=200,2))) -> 0
A22: extern
A23: Zeitler "Pinie" | B23: =IF(B8<150,0,IF(B8<200,1,IF(B8>=200,2))) -> 2 | C23: =IF(C8<150,0,IF(C8<200,1,IF(C8>=200,2))) -> 1 | D23: =IF(D8<150,0,IF(D8<200,1,IF(D8>=200,2))) -> 1 | E23: =IF(E8<150,0,IF(E8<200,1,IF(E8>=200,2))) -> 0 | F23: =IF(F8<150,0,IF(F8<200,1,IF(F8>=200,2))) -> 0 | G23: =IF(G8<150,0,IF(G8<200,1,IF(G8>=200,2))) -> 0 | H23: =IF(H8<150,0,IF(H8<200,1,IF(H8>=200,2))) -> 0 | I23: =IF(I8<150,0,IF(I8<200,1,IF(I8>=200,2))) -> 0 | ... CJ23: =IF(CJ8<150,0,IF(CJ8<200,1,IF(CJ8>=200,2))) -> 0
A24: Mutscheller "Mira" | B24: =IF(B9<150,0,IF(B9<200,1,IF(B9>=200,2))) -> 1 | C24: =IF(C9<150,0,IF(C9<200,1,IF(C9>=200,2))) -> 2 | D24: =IF(D9<150,0,IF(D9<200,1,IF(D9>=200,2))) -> 0 | E24: =IF(E9<150,0,IF(E9<200,1,IF(E9>=200,2))) -> 0 | F24: =IF(F9<150,0,IF(F9<200,1,IF(F9>=200,2))) -> 0 | G24: =IF(G9<150,0,IF(G9<200,1,IF(G9>=200,2))) -> 0 | H24: =IF(H9<150,0,IF(H9<200,1,IF(H9>=200,2))) -> 1 | I24: =IF(I9<150,0,IF(I9<200,1,IF(I9>=200,2))) -> 1 | ... CJ24: =IF(CJ9<150,0,IF(CJ9<200,1,IF(CJ9>=200,2))) -> 0
A25: Kern "Wayty" | B25: =IF(B10<150,0,IF(B10<200,1,IF(B10>=200,2))) -> 0 | C25: =IF(C10<150,0,IF(C10<200,1,IF(C10>=200,2))) -> 0 | D25: =IF(D10<150,0,IF(D10<200,1,IF(D10>=200,2))) -> 0 | E25: =IF(E10<150,0,IF(E10<200,1,IF(E10>=200,2))) -> 0 | F25: =IF(F10<150,0,IF(F10<200,1,IF(F10>=200,2))) -> 0 | G25: =IF(G10<150,0,IF(G10<200,1,IF(G10>=200,2))) -> 0 | H25: =IF(H10<150,0,IF(H10<200,1,IF(H10>=200,2))) -> 0 | I25: =IF(I10<150,0,IF(I10<200,1,IF(I10>=200,2))) -> 0 | ... CJ25: =IF(CJ10<150,0,IF(CJ10<200,1,IF(CJ10>=200,2))) -> 0
A26: Lang "Wenzl" | B26: =IF(B11<150,0,IF(B11<200,1,IF(B11>=200,2))) -> 0 | C26: =IF(C11<150,0,IF(C11<200,1,IF(C11>=200,2))) -> 0 | D26: =IF(D11<150,0,IF(D11<200,1,IF(D11>=200,2))) -> 0 | E26: =IF(E11<150,0,IF(E11<200,1,IF(E11>=200,2))) -> 0 | F26: =IF(F11<150,0,IF(F11<200,1,IF(F11>=200,2))) -> 0 | G26: =IF(G11<150,0,IF(G11<200,1,IF(G11>=200,2))) -> 0 | H26: =IF(H11<150,0,IF(H11<200,1,IF(H11>=200,2))) -> 0 | I26: =IF(I11<150,0,IF(I11<200,1,IF(I11>=200,2))) -> 0 | ... CJ26: =IF(CJ11<150,0,IF(CJ11<200,1,IF(CJ11>=200,2))) -> 0
A27: Engelhardt "Pepa" | B27: =IF(B12<150,0,IF(B12<200,1,IF(B12>=200,2))) -> 0 | C27: =IF(C12<150,0,IF(C12<200,1,IF(C12>=200,2))) -> 0 | E27: =IF(E12<150,0,IF(E12<200,1,IF(E12>=200,2))) -> 0 | F27: =IF(F12<150,0,IF(F12<200,1,IF(F12>=200,2))) -> 0 | H27: =IF(H12<150,0,IF(H12<200,1,IF(H12>=200,2))) -> 0 | I27: =IF(I12<150,0,IF(I12<200,1,IF(I12>=200,2))) -> 0 | K27: =IF(K12<150,0,IF(K12<200,1,IF(K12>=200,2))) -> 0 | L27: =IF(L12<150,0,IF(L12<200,1,IF(L12>=200,2))) -> 0 | N27: =IF(N12<150,0,IF(N12<200,1,IF(N12>=200,2))) -> 0 | O27: =IF(O12<150,0,IF(O12<200,1,IF(O12>=200,2))) -> 0 | Q27: =IF(Q12<150,0,IF(Q12<200,1,IF(Q12>=200,2))) -> 0 | R27: =IF(R12<150,0,IF(R12<200,1,IF(R12>=200,2))) -> 0 | T27: =IF(T12<150,0,IF(T12<200,1,IF(T12>=200,2))) -> 0 | U27: =IF(U12<150,0,IF(U12<200,1,IF(U12>=200,2))) -> 0 | W27: =IF(W12<150,0,IF(W12<200,1,IF(W12>=200,2))) -> 0 | X27: =IF(X12<150,0,IF(X12<200,1,IF(X12>=200,2))) -> 0 | Z27: =IF(Z12<150,0,IF(Z12<200,1,IF(Z12>=200,2))) -> 0 | AA27: =IF(AA12<150,0,IF(AA12<200,1,IF(AA12>=200,2))) -> 0 | AC27: =IF(AC12<150,0,IF(AC12<200,1,IF(AC12>=200,2))) -> 0 | AD27: =IF(AD12<150,0,IF(AD12<200,1,IF(AD12>=200,2))) -> 0 | AF27: =IF(AF12<150,0,IF(AF12<200,1,IF(AF12>=200,2))) -> 0 | AG27: =IF(AG12<150,0,IF(AG12<200,1,IF(AG12>=200,2))) -> 0 | AI27: =IF(AI12<150,0,IF(AI12<200,1,IF(AI12>=200,2))) -> 0 | AJ27: =IF(AJ12<150,0,IF(AJ12<200,1,IF(AJ12>=200,2))) -> 0 | AL27: =IF(AL12<150,0,IF(AL12<200,1,IF(AL12>=200,2))) -> 0 | AM27: =IF(AM12<150,0,IF(AM12<200,1,IF(AM12>=200,2))) -> 0 | AO27: =IF(AO12<150,0,IF(AO12<200,1,IF(AO12>=200,2))) -> 0 | AP27: =IF(AP12<150,0,IF(AP12<200,1,IF(AP12>=200,2))) -> 0 | AR27: =IF(AR12<150,0,IF(AR12<200,1,IF(AR12>=200,2))) -> 0 | AS27: =IF(AS12<150,0,IF(AS12<200,1,IF(AS12>=200,2))) -> 0 | AU27: =IF(AU12<150,0,IF(AU12<200,1,IF(AU12>=200,2))) -> 0 | AV27: =IF(AV12<150,0,IF(AV12<200,1,IF(AV12>=200,2))) -> 0 | AX27: =IF(AX12<150,0,IF(AX12<200,1,IF(AX12>=200,2))) -> 0 | AY27: =IF(AY12<150,0,IF(AY12<200,1,IF(AY12>=200,2))) -> 0 | BA27: =IF(BA12<150,0,IF(BA12<200,1,IF(BA12>=200,2))) -> 0 | BB27: =IF(BB12<150,0,IF(BB12<200,1,IF(BB12>=200,2))) -> 0 | BD27: =IF(BD12<150,0,IF(BD12<200,1,IF(BD12>=200,2))) -> 0 | BE27: =IF(BE12<150,0,IF(BE12<200,1,IF(BE12>=200,2))) -> 0 | BG27: =IF(BG12<150,0,IF(BG12<200,1,IF(BG12>=200,2))) -> 0 | BH27: =IF(BH12<150,0,IF(BH12<200,1,IF(BH12>=200,2))) -> 0 | BJ27: =IF(BJ12<150,0,IF(BJ12<200,1,IF(BJ12>=200,2))) -> 0 | BK27: =IF(BK12<150,0,IF(BK12<200,1,IF(BK12>=200,2))) -> 0 | BM27: =IF(BM12<150,0,IF(BM12<200,1,IF(BM12>=200,2))) -> 0 | BN27: =IF(BN12<150,0,IF(BN12<200,1,IF(BN12>=200,2))) -> 0 | BP27: =IF(BP12<150,0,IF(BP12<200,1,IF(BP12>=200,2))) -> 0 | BQ27: =IF(BQ12<150,0,IF(BQ12<200,1,IF(BQ12>=200,2))) -> 0 | BS27: =IF(BS12<150,0,IF(BS12<200,1,IF(BS12>=200,2))) -> 0 | BT27: =IF(BT12<150,0,IF(BT12<200,1,IF(BT12>=200,2))) -> 0 | BV27: =IF(BV12<150,0,IF(BV12<200,1,IF(BV12>=200,2))) -> 0 | BW27: =IF(BW12<150,0,IF(BW12<200,1,IF(BW12>=200,2))) -> 0 | BY27: =IF(BY12<150,0,IF(BY12<200,1,IF(BY12>=200,2))) -> 0 | BZ27: =IF(BZ12<150,0,IF(BZ12<200,1,IF(BZ12>=200,2))) -> 0 | CB27: =IF(CB12<150,0,IF(CB12<200,1,IF(CB12>=200,2))) -> 0 | CC27: =IF(CC12<150,0,IF(CC12<200,1,IF(CC12>=200,2))) -> 0 | CE27: =IF(CE12<150,0,IF(CE12<200,1,IF(CE12>=200,2))) -> 0 | CF27: =IF(CF12<150,0,IF(CF12<200,1,IF(CF12>=200,2))) -> 0 | CH27: =IF(CH12<150,0,IF(CH12<200,1,IF(CH12>=200,2))) -> 0 | CI27: =IF(CI12<150,0,IF(CI12<200,1,IF(CI12>=200,2))) -> 0
B31: intra-assay | C31: inter-assay | D31: withdrawn
A33: 1. Questionable as positiv | C33: 1=2
A34: Analysis: | B34: < 150 = 0 | C34: 150-200 = 1 | D34: >200 = 2
A35: Valic "Eric" | B35: =IF(B2<150,0,IF(B2>=150,2)) -> 0 | C35: =IF(C2<150,0,IF(C2>=150,2)) -> 2 | D35: =IF(D2<150,0,IF(D2>=150,2)) -> 0 | E35: =IF(E2<150,0,IF(E2>=150,2)) -> 0 | F35: =IF(F2<150,0,IF(F2>=150,2)) -> 0 | G35: =IF(G2<150,0,IF(G2>=150,2)) -> 0 | H35: =IF(H2<150,0,IF(H2>=150,2)) -> 0 | I35: =IF(I2<150,0,IF(I2>=150,2)) -> 0 | ... CJ35: =IF(CJ2<150,0,IF(CJ2>=150,2)) -> 0
A36: Klenk "Fiete" | B36: =IF(B3<150,0,IF(B3>=150,2)) -> 0 | C36: =IF(C3<150,0,IF(C3>=150,2)) -> 0 | D36: =IF(D3<150,0,IF(D3>=150,2)) -> 0 | E36: =IF(E3<150,0,IF(E3>=150,2)) -> 0 | F36: =IF(F3<150,0,IF(F3>=150,2)) -> 0 | G36: =IF(G3<150,0,IF(G3>=150,2)) -> 0 | H36: =IF(H3<150,0,IF(H3>=150,2)) -> 2 | I36: =IF(I3<150,0,IF(I3>=150,2)) -> 0 | ... CJ36: =IF(CJ3<150,0,IF(CJ3>=150,2)) -> 0
A37: Pintsch "Lilly" | B37: =IF(B4<150,0,IF(B4>=150,2)) -> 0 | C37: =IF(C4<150,0,IF(C4>=150,2)) -> 0 | D37: =IF(D4<150,0,IF(D4>=150,2)) -> 0 | E37: =IF(E4<150,0,IF(E4>=150,2)) -> 2 | F37: =IF(F4<150,0,IF(F4>=150,2)) -> 2 | G37: =IF(G4<150,0,IF(G4>=150,2)) -> 2 | H37: =IF(H4<150,0,IF(H4>=150,2)) -> 2 | I37: =IF(I4<150,0,IF(I4>=150,2)) -> 2 | ... CJ37: =IF(CJ4<150,0,IF(CJ4>=150,2)) -> 0
A38: Funken "Themba" | B38: =IF(B5<150,0,IF(B5>=150,2)) -> 2 | C38: =IF(C5<150,0,IF(C5>=150,2)) -> 2 | D38: =IF(D5<150,0,IF(D5>=150,2)) -> 2 | E38: =IF(E5<150,0,IF(E5>=150,2)) -> 2 | F38: =IF(F5<150,0,IF(F5>=150,2)) -> 2 | G38: =IF(G5<150,0,IF(G5>=150,2)) -> 2 | H38: =IF(H5<150,0,IF(H5>=150,2)) -> 2 | I38: =IF(I5<150,0,IF(I5>=150,2)) -> 2 | ... CJ38: =IF(CJ5<150,0,IF(CJ5>=150,2)) -> 0
A39: Tietzen "Oscar" | B39: =IF(B6<150,0,IF(B6>=150,2)) -> 2 | C39: =IF(C6<150,0,IF(C6>=150,2)) -> 2 | D39: =IF(D6<150,0,IF(D6>=150,2)) -> 2 | E39: =IF(E6<150,0,IF(E6>=150,2)) -> 0 | F39: =IF(F6<150,0,IF(F6>=150,2)) -> 0 | G39: =IF(G6<150,0,IF(G6>=150,2)) -> 0 | H39: =IF(H6<150,0,IF(H6>=150,2)) -> 0 | I39: =IF(I6<150,0,IF(I6>=150,2)) -> 0 | ... CJ39: =IF(CJ6<150,0,IF(CJ6>=150,2)) -> 0
A41: Zeitler "Pinie" | B41: =IF(B8<150,0,IF(B8>=150,2)) -> 2 | C41: =IF(C8<150,0,IF(C8>=150,2)) -> 2 | D41: =IF(D8<150,0,IF(D8>=150,2)) -> 2 | E41: =IF(E8<150,0,IF(E8>=150,2)) -> 0 | F41: =IF(F8<150,0,IF(F8>=150,2)) -> 0 | G41: =IF(G8<150,0,IF(G8>=150,2)) -> 0 | H41: =IF(H8<150,0,IF(H8>=150,2)) -> 0 | I41: =IF(I8<150,0,IF(I8>=150,2)) -> 0 | ... CJ41: =IF(CJ8<150,0,IF(CJ8>=150,2)) -> 0
A42: Mutscheller "Mira" | B42: =IF(B9<150,0,IF(B9>=150,2)) -> 2 | C42: =IF(C9<150,0,IF(C9>=150,2)) -> 2 | D42: =IF(D9<150,0,IF(D9>=150,2)) -> 0 | E42: =IF(E9<150,0,IF(E9>=150,2)) -> 0 | F42: =IF(F9<150,0,IF(F9>=150,2)) -> 0 | G42: =IF(G9<150,0,IF(G9>=150,2)) -> 0 | H42: =IF(H9<150,0,IF(H9>=150,2)) -> 2 | I42: =IF(I9<150,0,IF(I9>=150,2)) -> 2 | ... CJ42: =IF(CJ9<150,0,IF(CJ9>=150,2)) -> 0
A43: Kern "Wayty " | B43: =IF(B10<150,0,IF(B10>=150,2)) -> 0 | C43: =IF(C10<150,0,IF(C10>=150,2)) -> 0 | D43: =IF(D10<150,0,IF(D10>=150,2)) -> 0 | E43: =IF(E10<150,0,IF(E10>=150,2)) -> 0 | F43: =IF(F10<150,0,IF(F10>=150,2)) -> 0 | G43: =IF(G10<150,0,IF(G10>=150,2)) -> 0 | H43: =IF(H10<150,0,IF(H10>=150,2)) -> 0 | I43: =IF(I10<150,0,IF(I10>=150,2)) -> 0 | ... CJ43: =IF(CJ10<150,0,IF(CJ10>=150,2)) -> 0
A44: Lang "Wenzl" | B44: =IF(B11<150,0,IF(B11>=150,2)) -> 0 | C44: =IF(C11<150,0,IF(C11>=150,2)) -> 0 | D44: =IF(D11<150,0,IF(D11>=150,2)) -> 0 | E44: =IF(E11<150,0,IF(E11>=150,2)) -> 0 | F44: =IF(F11<150,0,IF(F11>=150,2)) -> 0 | G44: =IF(G11<150,0,IF(G11>=150,2)) -> 0 | H44: =IF(H11<150,0,IF(H11>=150,2)) -> 0 | I44: =IF(I11<150,0,IF(I11>=150,2)) -> 0 | ... CJ44: =IF(CJ11<150,0,IF(CJ11>=150,2)) -> 0
A45: Engelhardt "Pepa" | B45: =IF(B12<150,0,IF(B12>=150,2)) -> 0 | C45: =IF(C12<150,0,IF(C12>=150,2)) -> 0 | E45: =IF(E12<150,0,IF(E12>=150,2)) -> 0 | F45: =IF(F12<150,0,IF(F12>=150,2)) -> 0 | H45: =IF(H12<150,0,IF(H12>=150,2)) -> 0 | I45: =IF(I12<150,0,IF(I12>=150,2)) -> 0 | K45: =IF(K12<150,0,IF(K12>=150,2)) -> 0 | L45: =IF(L12<150,0,IF(L12>=150,2)) -> 0 | N45: =IF(N12<150,0,IF(N12>=150,2)) -> 0 | O45: =IF(O12<150,0,IF(O12>=150,2)) -> 0 | Q45: =IF(Q12<150,0,IF(Q12>=150,2)) -> 0 | R45: =IF(R12<150,0,IF(R12>=150,2)) -> 0 | T45: =IF(T12<150,0,IF(T12>=150,2)) -> 0 | U45: =IF(U12<150,0,IF(U12>=150,2)) -> 0 | W45: =IF(W12<150,0,IF(W12>=150,2)) -> 0 | X45: =IF(X12<150,0,IF(X12>=150,2)) -> 0 | Z45: =IF(Z12<150,0,IF(Z12>=150,2)) -> 0 | AA45: =IF(AA12<150,0,IF(AA12>=150,2)) -> 0 | AC45: =IF(AC12<150,0,IF(AC12>=150,2)) -> 0 | AD45: =IF(AD12<150,0,IF(AD12>=150,2)) -> 0 | AF45: =IF(AF12<150,0,IF(AF12>=150,2)) -> 0 | AG45: =IF(AG12<150,0,IF(AG12>=150,2)) -> 0 | AI45: =IF(AI12<150,0,IF(AI12>=150,2)) -> 0 | AJ45: =IF(AJ12<150,0,IF(AJ12>=150,2)) -> 0 | AL45: =IF(AL12<150,0,IF(AL12>=150,2)) -> 0 | AM45: =IF(AM12<150,0,IF(AM12>=150,2)) -> 0 | AO45: =IF(AO12<150,0,IF(AO12>=150,2)) -> 0 | AP45: =IF(AP12<150,0,IF(AP12>=150,2)) -> 0 | AR45: =IF(AR12<150,0,IF(AR12>=150,2)) -> 0 | AS45: =IF(AS12<150,0,IF(AS12>=150,2)) -> 0 | AU45: =IF(AU12<150,0,IF(AU12>=150,2)) -> 0 | AV45: =IF(AV12<150,0,IF(AV12>=150,2)) -> 0 | AX45: =IF(AX12<150,0,IF(AX12>=150,2)) -> 0 | AY45: =IF(AY12<150,0,IF(AY12>=150,2)) -> 0 | BA45: =IF(BA12<150,0,IF(BA12>=150,2)) -> 0 | BB45: =IF(BB12<150,0,IF(BB12>=150,2)) -> 0 | BD45: =IF(BD12<150,0,IF(BD12>=150,2)) -> 0 | BE45: =IF(BE12<150,0,IF(BE12>=150,2)) -> 0 | BG45: =IF(BG12<150,0,IF(BG12>=150,2)) -> 0 | BH45: =IF(BH12<150,0,IF(BH12>=150,2)) -> 0 | BJ45: =IF(BJ12<150,0,IF(BJ12>=150,2)) -> 0 | BK45: =IF(BK12<150,0,IF(BK12>=150,2)) -> 0 | BM45: =IF(BM12<150,0,IF(BM12>=150,2)) -> 0 | BN45: =IF(BN12<150,0,IF(BN12>=150,2)) -> 0 | BP45: =IF(BP12<150,0,IF(BP12>=150,2)) -> 0 | BQ45: =IF(BQ12<150,0,IF(BQ12>=150,2)) -> 0 | BS45: =IF(BS12<150,0,IF(BS12>=150,2)) -> 0 | BT45: =IF(BT12<150,0,IF(BT12>=150,2)) -> 0 | BV45: =IF(BV12<150,0,IF(BV12>=150,2)) -> 0 | BW45: =IF(BW12<150,0,IF(BW12>=150,2)) -> 0 | BY45: =IF(BY12<150,0,IF(BY12>=150,2)) -> 0 | BZ45: =IF(BZ12<150,0,IF(BZ12>=150,2)) -> 0 | CB45: =IF(CB12<150,0,IF(CB12>=150,2)) -> 0 | CC45: =IF(CC12<150,0,IF(CC12>=150,2)) -> 0 | CE45: =IF(CE12<150,0,IF(CE12>=150,2)) -> 0 | CF45: =IF(CF12<150,0,IF(CF12>=150,2)) -> 0 | CH45: =IF(CH12<150,0,IF(CH12>=150,2)) -> 0 | CI45: =IF(CI12<150,0,IF(CI12>=150,2)) -> 0
A47: INTRA-Assay | E47: Inter-Assay
A48: in total = | B48: =10*29 -> 290 | F48: =(10*29)-29 -> 261
A49: p0= 260/290 | B49: =260/B48 -> 0.89655172 | E49: p0= 229/261 | F49: =229/F48 -> 0.87739464
A50: pe= 0,5 | E50: pe= 0,5
A51: Cohen's Kappa= | B51: =(B49-0.5)/0.5 -> 0.79310345 | E51: Cohen's Kappa= | F51: =(F49-0.5)/0.5 -> 0.75478927
B54: intra-assay | C54: inter-assay | D54: withdrawn
A56: 2. Questionable as negativ | C56: 1=0
A57: Analysis: | B57: < 150 = 0 | C57: 150-200 = 1 | D57: >200 = 2
A58: Valic "Eric" | B58: =IF(B2<200,0,IF(B2>=200,2)) -> 0 | C58: =IF(C2<200,0,IF(C2>=200,2)) -> 2 | D58: =IF(D2<200,0,IF(D2>=200,2)) -> 0 | E58: =IF(E2<200,0,IF(E2>=200,2)) -> 0 | F58: =IF(F2<200,0,IF(F2>=200,2)) -> 0 | G58: =IF(G2<200,0,IF(G2>=200,2)) -> 0 | H58: =IF(H2<200,0,IF(H2>=200,2)) -> 0 | I58: =IF(I2<200,0,IF(I2>=200,2)) -> 0 | ... CJ58: =IF(CJ2<200,0,IF(CJ2>=200,2)) -> 0
A59: Klenk "Fiete" | B59: =IF(B3<200,0,IF(B3>=200,2)) -> 0 | C59: =IF(C3<200,0,IF(C3>=200,2)) -> 0 | D59: =IF(D3<200,0,IF(D3>=200,2)) -> 0 | E59: =IF(E3<200,0,IF(E3>=200,2)) -> 0 | F59: =IF(F3<200,0,IF(F3>=200,2)) -> 0 | G59: =IF(G3<200,0,IF(G3>=200,2)) -> 0 | H59: =IF(H3<200,0,IF(H3>=200,2)) -> 2 | I59: =IF(I3<200,0,IF(I3>=200,2)) -> 0 | ... CJ59: =IF(CJ3<200,0,IF(CJ3>=200,2)) -> 0
A60: Pintsch "Lilly" | B60: =IF(B4<200,0,IF(B4>=200,2)) -> 0 | C60: =IF(C4<200,0,IF(C4>=200,2)) -> 0 | D60: =IF(D4<200,0,IF(D4>=200,2)) -> 0 | E60: =IF(E4<200,0,IF(E4>=200,2)) -> 2 | F60: =IF(F4<200,0,IF(F4>=200,2)) -> 2 | G60: =IF(G4<200,0,IF(G4>=200,2)) -> 2 | H60: =IF(H4<200,0,IF(H4>=200,2)) -> 2 | I60: =IF(I4<200,0,IF(I4>=200,2)) -> 2 | ... CJ60: =IF(CJ4<200,0,IF(CJ4>=200,2)) -> 0
A61: Funken "Themba" | B61: =IF(B5<200,0,IF(B5>=200,2)) -> 2 | C61: =IF(C5<200,0,IF(C5>=200,2)) -> 2 | D61: =IF(D5<200,0,IF(D5>=200,2)) -> 2 | E61: =IF(E5<200,0,IF(E5>=200,2)) -> 2 | F61: =IF(F5<200,0,IF(F5>=200,2)) -> 2 | G61: =IF(G5<200,0,IF(G5>=200,2)) -> 2 | H61: =IF(H5<200,0,IF(H5>=200,2)) -> 2 | I61: =IF(I5<200,0,IF(I5>=200,2)) -> 2 | ... CJ61: =IF(CJ5<200,0,IF(CJ5>=200,2)) -> 0
A62: Tietzen "Oscar" | B62: =IF(B6<200,0,IF(B6>=200,2)) -> 0 | C62: =IF(C6<200,0,IF(C6>=200,2)) -> 0 | D62: =IF(D6<200,0,IF(D6>=200,2)) -> 0 | E62: =IF(E6<200,0,IF(E6>=200,2)) -> 0 | F62: =IF(F6<200,0,IF(F6>=200,2)) -> 0 | G62: =IF(G6<200,0,IF(G6>=200,2)) -> 0 | H62: =IF(H6<200,0,IF(H6>=200,2)) -> 0 | I62: =IF(I6<200,0,IF(I6>=200,2)) -> 0 | ... CJ62: =IF(CJ6<200,0,IF(CJ6>=200,2)) -> 0
A64: Zeitler "Pinie" | B64: =IF(B8<200,0,IF(B8>=200,2)) -> 2 | C64: =IF(C8<200,0,IF(C8>=200,2)) -> 0 | D64: =IF(D8<200,0,IF(D8>=200,2)) -> 0 | E64: =IF(E8<200,0,IF(E8>=200,2)) -> 0 | F64: =IF(F8<200,0,IF(F8>=200,2)) -> 0 | G64: =IF(G8<200,0,IF(G8>=200,2)) -> 0 | H64: =IF(H8<200,0,IF(H8>=200,2)) -> 0 | I64: =IF(I8<200,0,IF(I8>=200,2)) -> 0 | ... CJ64: =IF(CJ8<200,0,IF(CJ8>=200,2)) -> 0
A65: Mutscheller "Mira" | B65: =IF(B9<200,0,IF(B9>=200,2)) -> 0 | C65: =IF(C9<200,0,IF(C9>=200,2)) -> 2 | D65: =IF(D9<200,0,IF(D9>=200,2)) -> 0 | E65: =IF(E9<200,0,IF(E9>=200,2)) -> 0 | F65: =IF(F9<200,0,IF(F9>=200,2)) -> 0 | G65: =IF(G9<200,0,IF(G9>=200,2)) -> 0 | H65: =IF(H9<200,0,IF(H9>=200,2)) -> 0 | I65: =IF(I9<200,0,IF(I9>=200,2)) -> 0 | ... CJ65: =IF(CJ9<200,0,IF(CJ9>=200,2)) -> 0
A66: Kern "Wayty" | B66: =IF(B10<200,0,IF(B10>=200,2)) -> 0 | C66: =IF(C10<200,0,IF(C10>=200,2)) -> 0 | D66: =IF(D10<200,0,IF(D10>=200,2)) -> 0 | E66: =IF(E10<200,0,IF(E10>=200,2)) -> 0 | F66: =IF(F10<200,0,IF(F10>=200,2)) -> 0 | G66: =IF(G10<200,0,IF(G10>=200,2)) -> 0 | H66: =IF(H10<200,0,IF(H10>=200,2)) -> 0 | I66: =IF(I10<200,0,IF(I10>=200,2)) -> 0 | ... CJ66: =IF(CJ10<200,0,IF(CJ10>=200,2)) -> 0
A67: Lang "Wenzl" | B67: =IF(B11<200,0,IF(B11>=200,2)) -> 0 | C67: =IF(C11<200,0,IF(C11>=200,2)) -> 0 | D67: =IF(D11<200,0,IF(D11>=200,2)) -> 0 | E67: =IF(E11<200,0,IF(E11>=200,2)) -> 0 | F67: =IF(F11<200,0,IF(F11>=200,2)) -> 0 | G67: =IF(G11<200,0,IF(G11>=200,2)) -> 0 | H67: =IF(H11<200,0,IF(H11>=200,2)) -> 0 | I67: =IF(I11<200,0,IF(I11>=200,2)) -> 0 | ... CJ67: =IF(CJ11<200,0,IF(CJ11>=200,2)) -> 0
A68: Engelhardt "Pepa" | B68: =IF(B12<200,0,IF(B12>=200,2)) -> 0 | C68: =IF(C12<200,0,IF(C12>=200,2)) -> 0 | E68: =IF(E12<200,0,IF(E12>=200,2)) -> 0 | F68: =IF(F12<200,0,IF(F12>=200,2)) -> 0 | H68: =IF(H12<200,0,IF(H12>=200,2)) -> 0 | I68: =IF(I12<200,0,IF(I12>=200,2)) -> 0 | K68: =IF(K12<200,0,IF(K12>=200,2)) -> 0 | L68: =IF(L12<200,0,IF(L12>=200,2)) -> 0 | N68: =IF(N12<200,0,IF(N12>=200,2)) -> 0 | O68: =IF(O12<200,0,IF(O12>=200,2)) -> 0 | Q68: =IF(Q12<200,0,IF(Q12>=200,2)) -> 0 | R68: =IF(R12<200,0,IF(R12>=200,2)) -> 0 | T68: =IF(T12<200,0,IF(T12>=200,2)) -> 0 | U68: =IF(U12<200,0,IF(U12>=200,2)) -> 0 | W68: =IF(W12<200,0,IF(W12>=200,2)) -> 0 | X68: =IF(X12<200,0,IF(X12>=200,2)) -> 0 | Z68: =IF(Z12<200,0,IF(Z12>=200,2)) -> 0 | AA68: =IF(AA12<200,0,IF(AA12>=200,2)) -> 0 | AC68: =IF(AC12<200,0,IF(AC12>=200,2)) -> 0 | AD68: =IF(AD12<200,0,IF(AD12>=200,2)) -> 0 | AF68: =IF(AF12<200,0,IF(AF12>=200,2)) -> 0 | AG68: =IF(AG12<200,0,IF(AG12>=200,2)) -> 0 | AI68: =IF(AI12<200,0,IF(AI12>=200,2)) -> 0 | AJ68: =IF(AJ12<200,0,IF(AJ12>=200,2)) -> 0 | AL68: =IF(AL12<200,0,IF(AL12>=200,2)) -> 0 | AM68: =IF(AM12<200,0,IF(AM12>=200,2)) -> 0 | AO68: =IF(AO12<200,0,IF(AO12>=200,2)) -> 0 | AP68: =IF(AP12<200,0,IF(AP12>=200,2)) -> 0 | AR68: =IF(AR12<200,0,IF(AR12>=200,2)) -> 0 | AS68: =IF(AS12<200,0,IF(AS12>=200,2)) -> 0 | AU68: =IF(AU12<200,0,IF(AU12>=200,2)) -> 0 | AV68: =IF(AV12<200,0,IF(AV12>=200,2)) -> 0 | AX68: =IF(AX12<200,0,IF(AX12>=200,2)) -> 0 | AY68: =IF(AY12<200,0,IF(AY12>=200,2)) -> 0 | BA68: =IF(BA12<200,0,IF(BA12>=200,2)) -> 0 | BB68: =IF(BB12<200,0,IF(BB12>=200,2)) -> 0 | BD68: =IF(BD12<200,0,IF(BD12>=200,2)) -> 0 | BE68: =IF(BE12<200,0,IF(BE12>=200,2)) -> 0 | BG68: =IF(BG12<200,0,IF(BG12>=200,2)) -> 0 | BH68: =IF(BH12<200,0,IF(BH12>=200,2)) -> 0 | BJ68: =IF(BJ12<200,0,IF(BJ12>=200,2)) -> 0 | BK68: =IF(BK12<200,0,IF(BK12>=200,2)) -> 0 | BM68: =IF(BM12<200,0,IF(BM12>=200,2)) -> 0 | BN68: =IF(BN12<200,0,IF(BN12>=200,2)) -> 0 | BP68: =IF(BP12<200,0,IF(BP12>=200,2)) -> 0 | BQ68: =IF(BQ12<200,0,IF(BQ12>=200,2)) -> 0 | BS68: =IF(BS12<200,0,IF(BS12>=200,2)) -> 0 | BT68: =IF(BT12<200,0,IF(BT12>=200,2)) -> 0 | BV68: =IF(BV12<200,0,IF(BV12>=200,2)) -> 0 | BW68: =IF(BW12<200,0,IF(BW12>=200,2)) -> 0 | BY68: =IF(BY12<200,0,IF(BY12>=200,2)) -> 0 | BZ68: =IF(BZ12<200,0,IF(BZ12>=200,2)) -> 0 | CB68: =IF(CB12<200,0,IF(CB12>=200,2)) -> 0 | CC68: =IF(CC12<200,0,IF(CC12>=200,2)) -> 0 | CE68: =IF(CE12<200,0,IF(CE12>=200,2)) -> 0 | CF68: =IF(CF12<200,0,IF(CF12>=200,2)) -> 0 | CH68: =IF(CH12<200,0,IF(CH12>=200,2)) -> 0 | CI68: =IF(CI12<200,0,IF(CI12>=200,2)) -> 0
A70: INTRA-Assay | E70: INTER-Assay
A71: in total = | B71: =10*29 -> 290 | F71: =(10*29)-29 -> 261
A72: p0= 265/290 | B72: =265/B71 -> 0.9137931 | E72: p0= 234/261 | F72: =234/F71 -> 0.89655172
A73: pe= 0,5 | E73: pe= 0,5
A74: Cohen's Kappa= | B74: =(B72-0.5)/0.5 -> 0.82758621 | E74: Cohen's Kappa= | F74: =(F72-0.5)/0.5 -> 0.79310345
B77: intra-assay | C77: inter-assay | D77: withdrawn
A79: 3. Questionable = withdrawn | C79: 1=x
A80: Analysis: | B80: < 150 = 0 | C80: 150-200 = 1 | D80: >200 = 2
A81: Valic "Eric" | B81: =IF(B2<150,0,IF(B2<200,x,IF(B2>=200,2))) -> 0 | C81: =IF(C2<150,0,IF(C2<200,x,IF(C2>=200,2))) -> 2 | D81: =IF(D2<150,0,IF(D2<200,x,IF(D2>=200,2))) -> 0 | E81: =IF(E2<150,0,IF(E2<200,x,IF(E2>=200,2))) -> 0 | F81: =IF(F2<150,0,IF(F2<200,x,IF(F2>=200,2))) -> 0 | G81: =IF(G2<150,0,IF(G2<200,x,IF(G2>=200,2))) -> 0 | H81: =IF(H2<150,0,IF(H2<200,x,IF(H2>=200,2))) -> 0 | I81: =IF(I2<150,0,IF(I2<200,x,IF(I2>=200,2))) -> 0 | ... K81: =IF(K2<150,0,IF(K2<200,x,IF(K2>=200,2))) -> 0 | L81: x | M81: =IF(M2<150,0,IF(M2<200,x,IF(M2>=200,2))) -> 0 | N81: =IF(N2<150,0,IF(N2<200,x,IF(N2>=200,2))) -> 0 | O81: =IF(O2<150,0,IF(O2<200,x,IF(O2>=200,2))) -> 0 | P81: =IF(P2<150,0,IF(P2<200,x,IF(P2>=200,2))) -> 0 | Q81: =IF(Q2<150,0,IF(Q2<200,x,IF(Q2>=200,2))) -> 0 | R81: =IF(R2<150,0,IF(R2<200,x,IF(R2>=200,2))) -> 0 | S81: =IF(S2<150,0,IF(S2<200,x,IF(S2>=200,2))) -> 0 | T81: =IF(T2<150,0,IF(T2<200,x,IF(T2>=200,2))) -> 0 | ... X81: =IF(X2<150,0,IF(X2<200,x,IF(X2>=200,2))) -> 2 | Y81: x | Z81: =IF(Z2<150,0,IF(Z2<200,x,IF(Z2>=200,2))) -> 0 | AA81: =IF(AA2<150,0,IF(AA2<200,x,IF(AA2>=200,2))) -> 0 | AB81: =IF(AB2<150,0,IF(AB2<200,x,IF(AB2>=200,2))) -> 0 | AC81: =IF(AC2<150,0,IF(AC2<200,x,IF(AC2>=200,2))) -> 0 | AD81: =IF(AD2<150,0,IF(AD2<200,x,IF(AD2>=200,2))) -> 0 | AE81: =IF(AE2<150,0,IF(AE2<200,x,IF(AE2>=200,2))) -> 0 | AF81: =IF(AF2<150,0,IF(AF2<200,x,IF(AF2>=200,2))) -> 0 | AG81: =IF(AG2<150,0,IF(AG2<200,x,IF(AG2>=200,2))) -> 0 | ... AJ81: =IF(AJ2<150,0,IF(AJ2<200,x,IF(AJ2>=200,2))) -> 2 | AK81: x | AL81: =IF(AL2<150,0,IF(AL2<200,x,IF(AL2>=200,2))) -> 0 | AM81: =IF(AM2<150,0,IF(AM2<200,x,IF(AM2>=200,2))) -> 0 | AN81: =IF(AN2<150,0,IF(AN2<200,x,IF(AN2>=200,2))) -> 0 | AO81: =IF(AO2<150,0,IF(AO2<200,x,IF(AO2>=200,2))) -> 0 | AP81: =IF(AP2<150,0,IF(AP2<200,x,IF(AP2>=200,2))) -> 0 | AQ81: =IF(AQ2<150,0,IF(AQ2<200,x,IF(AQ2>=200,2))) -> 0 | AR81: =IF(AR2<150,0,IF(AR2<200,x,IF(AR2>=200,2))) -> 0 | AS81: =IF(AS2<150,0,IF(AS2<200,x,IF(AS2>=200,2))) -> 0 | ... BA81: =IF(BA2<150,0,IF(BA2<200,x,IF(BA2>=200,2))) -> 0 | BB81: x | BC81: x | BD81: =IF(BD2<150,0,IF(BD2<200,x,IF(BD2>=200,2))) -> 0 | BE81: =IF(BE2<150,0,IF(BE2<200,x,IF(BE2>=200,2))) -> 0 | BF81: =IF(BF2<150,0,IF(BF2<200,x,IF(BF2>=200,2))) -> 0 | BG81: =IF(BG2<150,0,IF(BG2<200,x,IF(BG2>=200,2))) -> 0 | BH81: =IF(BH2<150,0,IF(BH2<200,x,IF(BH2>=200,2))) -> 0 | BI81: =IF(BI2<150,0,IF(BI2<200,x,IF(BI2>=200,2))) -> 0 | BJ81: =IF(BJ2<150,0,IF(BJ2<200,x,IF(BJ2>=200,2))) -> 0 | BK81: =IF(BK2<150,0,IF(BK2<200,x,IF(BK2>=200,2))) -> 0 | ... CJ81: =IF(CJ2<150,0,IF(CJ2<200,x,IF(CJ2>=200,2))) -> 0
A82: Klenk "Fiete" | B82: =IF(B3<150,0,IF(B3<200,x,IF(B3>=200,2))) -> 0 | C82: =IF(C3<150,0,IF(C3<200,x,IF(C3>=200,2))) -> 0 | D82: =IF(D3<150,0,IF(D3<200,x,IF(D3>=200,2))) -> 0 | E82: =IF(E3<150,0,IF(E3<200,x,IF(E3>=200,2))) -> 0 | F82: =IF(F3<150,0,IF(F3<200,x,IF(F3>=200,2))) -> 0 | G82: =IF(G3<150,0,IF(G3<200,x,IF(G3>=200,2))) -> 0 | H82: =IF(H3<150,0,IF(H3<200,x,IF(H3>=200,2))) -> 2 | I82: =IF(I3<150,0,IF(I3<200,x,IF(I3>=200,2))) -> 0 | ... L82: =IF(L3<150,0,IF(L3<200,x,IF(L3>=200,2))) -> 0 | M82: x | N82: =IF(N3<150,0,IF(N3<200,x,IF(N3>=200,2))) -> 0 | O82: =IF(O3<150,0,IF(O3<200,x,IF(O3>=200,2))) -> 0 | P82: =IF(P3<150,0,IF(P3<200,x,IF(P3>=200,2))) -> 2 | Q82: =IF(Q3<150,0,IF(Q3<200,x,IF(Q3>=200,2))) -> 0 | R82: =IF(R3<150,0,IF(R3<200,x,IF(R3>=200,2))) -> 0 | S82: =IF(S3<150,0,IF(S3<200,x,IF(S3>=200,2))) -> 0 | T82: =IF(T3<150,0,IF(T3<200,x,IF(T3>=200,2))) -> 0 | U82: =IF(U3<150,0,IF(U3<200,x,IF(U3>=200,2))) -> 0 | ... CJ82: =IF(CJ3<150,0,IF(CJ3<200,x,IF(CJ3>=200,2))) -> 0
A83: Pintsch "Lilly" | B83: =IF(B4<150,0,IF(B4<200,x,IF(B4>=200,2))) -> 0 | C83: =IF(C4<150,0,IF(C4<200,x,IF(C4>=200,2))) -> 0 | D83: =IF(D4<150,0,IF(D4<200,x,IF(D4>=200,2))) -> 0 | E83: =IF(E4<150,0,IF(E4<200,x,IF(E4>=200,2))) -> 2 | F83: =IF(F4<150,0,IF(F4<200,x,IF(F4>=200,2))) -> 2 | G83: =IF(G4<150,0,IF(G4<200,x,IF(G4>=200,2))) -> 2 | H83: =IF(H4<150,0,IF(H4<200,x,IF(H4>=200,2))) -> 2 | I83: =IF(I4<150,0,IF(I4<200,x,IF(I4>=200,2))) -> 2 | ... Y83: =IF(Y4<150,0,IF(Y4<200,x,IF(Y4>=200,2))) -> 2 | Z83: x | AA83: =IF(AA4<150,0,IF(AA4<200,x,IF(AA4>=200,2))) -> 2 | AB83: =IF(AB4<150,0,IF(AB4<200,x,IF(AB4>=200,2))) -> 2 | AC83: =IF(AC4<150,0,IF(AC4<200,x,IF(AC4>=200,2))) -> 0 | AD83: =IF(AD4<150,0,IF(AD4<200,x,IF(AD4>=200,2))) -> 0 | AE83: =IF(AE4<150,0,IF(AE4<200,x,IF(AE4>=200,2))) -> 0 | AF83: =IF(AF4<150,0,IF(AF4<200,x,IF(AF4>=200,2))) -> 0 | AG83: =IF(AG4<150,0,IF(AG4<200,x,IF(AG4>=200,2))) -> 0 | AH83: =IF(AH4<150,0,IF(AH4<200,x,IF(AH4>=200,2))) -> 0 | ... BI83: =IF(BI4<150,0,IF(BI4<200,x,IF(BI4>=200,2))) -> 2 | BJ83: x | BK83: =IF(BK4<150,0,IF(BK4<200,x,IF(BK4>=200,2))) -> 0 | BL83: x | BM83: =IF(BM4<150,0,IF(BM4<200,x,IF(BM4>=200,2))) -> 2 | BN83: =IF(BN4<150,0,IF(BN4<200,x,IF(BN4>=200,2))) -> 2 | BO83: =IF(BO4<150,0,IF(BO4<200,x,IF(BO4>=200,2))) -> 2 | BP83: =IF(BP4<150,0,IF(BP4<200,x,IF(BP4>=200,2))) -> 2 | BQ83: =IF(BQ4<150,0,IF(BQ4<200,x,IF(BQ4>=200,2))) -> 2 | BR83: =IF(BR4<150,0,IF(BR4<200,x,IF(BR4>=200,2))) -> 2 | BS83: =IF(BS4<150,0,IF(BS4<200,x,IF(BS4>=200,2))) -> 2 | BT83: =IF(BT4<150,0,IF(BT4<200,x,IF(BT4>=200,2))) -> 2 | ... CJ83: =IF(CJ4<150,0,IF(CJ4<200,x,IF(CJ4>=200,2))) -> 0
A84: Funken "Themba" | B84: =IF(B5<150,0,IF(B5<200,x,IF(B5>=200,2))) -> 2 | C84: =IF(C5<150,0,IF(C5<200,x,IF(C5>=200,2))) -> 2 | D84: =IF(D5<150,0,IF(D5<200,x,IF(D5>=200,2))) -> 2 | E84: =IF(E5<150,0,IF(E5<200,x,IF(E5>=200,2))) -> 2 | F84: =IF(F5<150,0,IF(F5<200,x,IF(F5>=200,2))) -> 2 | G84: =IF(G5<150,0,IF(G5<200,x,IF(G5>=200,2))) -> 2 | H84: =IF(H5<150,0,IF(H5<200,x,IF(H5>=200,2))) -> 2 | I84: =IF(I5<150,0,IF(I5<200,x,IF(I5>=200,2))) -> 2 | ... AL84: =IF(AL5<150,0,IF(AL5<200,x,IF(AL5>=200,2))) -> 0 | AM84: x | AN84: =IF(AN5<150,0,IF(AN5<200,x,IF(AN5>=200,2))) -> 0 | AO84: =IF(AO5<150,0,IF(AO5<200,x,IF(AO5>=200,2))) -> 2 | AP84: =IF(AP5<150,0,IF(AP5<200,x,IF(AP5>=200,2))) -> 2 | AQ84: x | AR84: =IF(AR5<150,0,IF(AR5<200,x,IF(AR5>=200,2))) -> 2 | AS84: =IF(AS5<150,0,IF(AS5<200,x,IF(AS5>=200,2))) -> 2 | AT84: =IF(AT5<150,0,IF(AT5<200,x,IF(AT5>=200,2))) -> 2 | AU84: =IF(AU5<150,0,IF(AU5<200,x,IF(AU5>=200,2))) -> 2 | AV84: =IF(AV5<150,0,IF(AV5<200,x,IF(AV5>=200,2))) -> 2 | AW84: =IF(AW5<150,0,IF(AW5<200,x,IF(AW5>=200,2))) -> 2 | AX84: =IF(AX5<150,0,IF(AX5<200,x,IF(AX5>=200,2))) -> 0 | AY84: =IF(AY5<150,0,IF(AY5<200,x,IF(AY5>=200,2))) -> 0 | AZ84: x | BA84: x | BB84: x | BC84: x | BD84: x | BE84: x | BF84: x | BG84: =IF(BG5<150,0,IF(BG5<200,x,IF(BG5>=200,2))) -> 0 | BH84: x | BI84: =IF(BI5<150,0,IF(BI5<200,x,IF(BI5>=200,2))) -> 0 | BJ84: =IF(BJ5<150,0,IF(BJ5<200,x,IF(BJ5>=200,2))) -> 0 | BK84: =IF(BK5<150,0,IF(BK5<200,x,IF(BK5>=200,2))) -> 0 | BL84: =IF(BL5<150,0,IF(BL5<200,x,IF(BL5>=200,2))) -> 2 | BM84: x | BN84: x | BO84: =IF(BO5<150,0,IF(BO5<200,x,IF(BO5>=200,2))) -> 2 | BP84: x | BQ84: =IF(BQ5<150,0,IF(BQ5<200,x,IF(BQ5>=200,2))) -> 0 | BR84: x | BS84: =IF(BS5<150,0,IF(BS5<200,x,IF(BS5>=200,2))) -> 0 | BT84: =IF(BT5<150,0,IF(BT5<200,x,IF(BT5>=200,2))) -> 0 | BU84: x | BV84: =IF(BV5<150,0,IF(BV5<200,x,IF(BV5>=200,2))) -> 0 | BW84: =IF(BW5<150,0,IF(BW5<200,x,IF(BW5>=200,2))) -> 0 | BX84: =IF(BX5<150,0,IF(BX5<200,x,IF(BX5>=200,2))) -> 0 | BY84: =IF(BY5<150,0,IF(BY5<200,x,IF(BY5>=200,2))) -> 0 | BZ84: =IF(BZ5<150,0,IF(BZ5<200,x,IF(BZ5>=200,2))) -> 0 | CA84: =IF(CA5<150,0,IF(CA5<200,x,IF(CA5>=200,2))) -> 0 | CB84: =IF(CB5<150,0,IF(CB5<200,x,IF(CB5>=200,2))) -> 0 | CC84: =IF(CC5<150,0,IF(CC5<200,x,IF(CC5>=200,2))) -> 0 | ... CJ84: =IF(CJ5<150,0,IF(CJ5<200,x,IF(CJ5>=200,2))) -> 0
A85: Tietzen "Oscar" | B85: x | C85: x | D85: x | E85: =IF(E6<150,0,IF(E6<200,x,IF(E6>=200,2))) -> 0 | F85: =IF(F6<150,0,IF(F6<200,x,IF(F6>=200,2))) -> 0 | G85: =IF(G6<150,0,IF(G6<200,x,IF(G6>=200,2))) -> 0 | H85: =IF(H6<150,0,IF(H6<200,x,IF(H6>=200,2))) -> 0 | I85: =IF(I6<150,0,IF(I6<200,x,IF(I6>=200,2))) -> 0 | J85: =IF(J6<150,0,IF(J6<200,x,IF(J6>=200,2))) -> 0 | K85: x | L85: =IF(L6<150,0,IF(L6<200,x,IF(L6>=200,2))) -> 2 | M85: =IF(M6<150,0,IF(M6<200,x,IF(M6>=200,2))) -> 2 | N85: =IF(N6<150,0,IF(N6<200,x,IF(N6>=200,2))) -> 2 | O85: x | P85: x | Q85: =IF(Q6<150,0,IF(Q6<200,x,IF(Q6>=200,2))) -> 0 | R85: =IF(R6<150,0,IF(R6<200,x,IF(R6>=200,2))) -> 0 | S85: =IF(S6<150,0,IF(S6<200,x,IF(S6>=200,2))) -> 0 | T85: =IF(T6<150,0,IF(T6<200,x,IF(T6>=200,2))) -> 0 | U85: =IF(U6<150,0,IF(U6<200,x,IF(U6>=200,2))) -> 0 | V85: =IF(V6<150,0,IF(V6<200,x,IF(V6>=200,2))) -> 2 | W85: =IF(W6<150,0,IF(W6<200,x,IF(W6>=200,2))) -> 2 | X85: =IF(X6<150,0,IF(X6<200,x,IF(X6>=200,2))) -> 2 | ... BL85: =IF(BL6<150,0,IF(BL6<200,x,IF(BL6>=200,2))) -> 0 | BM85: x | BN85: x | BO85: =IF(BO6<150,0,IF(BO6<200,x,IF(BO6>=200,2))) -> 2 | BP85: =IF(BP6<150,0,IF(BP6<200,x,IF(BP6>=200,2))) -> 0 | BQ85: =IF(BQ6<150,0,IF(BQ6<200,x,IF(BQ6>=200,2))) -> 0 | BR85: =IF(BR6<150,0,IF(BR6<200,x,IF(BR6>=200,2))) -> 0 | BS85: x | BT85: =IF(BT6<150,0,IF(BT6<200,x,IF(BT6>=200,2))) -> 0 | BU85: =IF(BU6<150,0,IF(BU6<200,x,IF(BU6>=200,2))) -> 0 | BV85: =IF(BV6<150,0,IF(BV6<200,x,IF(BV6>=200,2))) -> 0 | BW85: =IF(BW6<150,0,IF(BW6<200,x,IF(BW6>=200,2))) -> 0 | BX85: =IF(BX6<150,0,IF(BX6<200,x,IF(BX6>=200,2))) -> 0 | BY85: =IF(BY6<150,0,IF(BY6<200,x,IF(BY6>=200,2))) -> 0 | BZ85: =IF(BZ6<150,0,IF(BZ6<200,x,IF(BZ6>=200,2))) -> 0 | CA85: =IF(CA6<150,0,IF(CA6<200,x,IF(CA6>=200,2))) -> 0 | ... CJ85: =IF(CJ6<150,0,IF(CJ6<200,x,IF(CJ6>=200,2))) -> 0
A87: Zeitler "Pinie" | B87: =IF(B8<150,0,IF(B8<200,x,IF(B8>=200,2))) -> 2 | C87: x | D87: x | E87: =IF(E8<150,0,IF(E8<200,x,IF(E8>=200,2))) -> 0 | F87: =IF(F8<150,0,IF(F8<200,x,IF(F8>=200,2))) -> 0 | G87: =IF(G8<150,0,IF(G8<200,x,IF(G8>=200,2))) -> 0 | H87: =IF(H8<150,0,IF(H8<200,x,IF(H8>=200,2))) -> 0 | I87: =IF(I8<150,0,IF(I8<200,x,IF(I8>=200,2))) -> 0 | J87: =IF(J8<150,0,IF(J8<200,x,IF(J8>=200,2))) -> 0 | K87: =IF(K8<150,0,IF(K8<200,x,IF(K8>=200,2))) -> 2 | L87: =IF(L8<150,0,IF(L8<200,x,IF(L8>=200,2))) -> 2 | ... N87: =IF(N8<150,0,IF(N8<200,x,IF(N8>=200,2))) -> 2 | O87: x | P87: =IF(P8<150,0,IF(P8<200,x,IF(P8>=200,2))) -> 2 | Q87: =IF(Q8<150,0,IF(Q8<200,x,IF(Q8>=200,2))) -> 0 | R87: =IF(R8<150,0,IF(R8<200,x,IF(R8>=200,2))) -> 0 | S87: =IF(S8<150,0,IF(S8<200,x,IF(S8>=200,2))) -> 0 | T87: x | U87: =IF(U8<150,0,IF(U8<200,x,IF(U8>=200,2))) -> 0 | V87: =IF(V8<150,0,IF(V8<200,x,IF(V8>=200,2))) -> 0 | W87: x | X87: =IF(X8<150,0,IF(X8<200,x,IF(X8>=200,2))) -> 2 | Y87: =IF(Y8<150,0,IF(Y8<200,x,IF(Y8>=200,2))) -> 2 | Z87: =IF(Z8<150,0,IF(Z8<200,x,IF(Z8>=200,2))) -> 0 | AA87: =IF(AA8<150,0,IF(AA8<200,x,IF(AA8>=200,2))) -> 2 | AB87: =IF(AB8<150,0,IF(AB8<200,x,IF(AB8>=200,2))) -> 2 | AC87: =IF(AC8<150,0,IF(AC8<200,x,IF(AC8>=200,2))) -> 0 | AD87: =IF(AD8<150,0,IF(AD8<200,x,IF(AD8>=200,2))) -> 0 | AE87: =IF(AE8<150,0,IF(AE8<200,x,IF(AE8>=200,2))) -> 0 | ... AO87: =IF(AO8<150,0,IF(AO8<200,x,IF(AO8>=200,2))) -> 2 | AP87: x | AQ87: =IF(AQ8<150,0,IF(AQ8<200,x,IF(AQ8>=200,2))) -> 0 | AR87: x | AS87: =IF(AS8<150,0,IF(AS8<200,x,IF(AS8>=200,2))) -> 0 | AT87: =IF(AT8<150,0,IF(AT8<200,x,IF(AT8>=200,2))) -> 0 | AU87: =IF(AU8<150,0,IF(AU8<200,x,IF(AU8>=200,2))) -> 2 | AV87: =IF(AV8<150,0,IF(AV8<200,x,IF(AV8>=200,2))) -> 0 | AW87: =IF(AW8<150,0,IF(AW8<200,x,IF(AW8>=200,2))) -> 0 | AX87: =IF(AX8<150,0,IF(AX8<200,x,IF(AX8>=200,2))) -> 0 | AY87: =IF(AY8<150,0,IF(AY8<200,x,IF(AY8>=200,2))) -> 0 | AZ87: =IF(AZ8<150,0,IF(AZ8<200,x,IF(AZ8>=200,2))) -> 2 | ... BO87: =IF(BO8<150,0,IF(BO8<200,x,IF(BO8>=200,2))) -> 0 | BP87: x | BQ87: =IF(BQ8<150,0,IF(BQ8<200,x,IF(BQ8>=200,2))) -> 0 | BR87: =IF(BR8<150,0,IF(BR8<200,x,IF(BR8>=200,2))) -> 0 | BS87: =IF(BS8<150,0,IF(BS8<200,x,IF(BS8>=200,2))) -> 0 | BT87: =IF(BT8<150,0,IF(BT8<200,x,IF(BT8>=200,2))) -> 0 | BU87: =IF(BU8<150,0,IF(BU8<200,x,IF(BU8>=200,2))) -> 0 | BV87: =IF(BV8<150,0,IF(BV8<200,x,IF(BV8>=200,2))) -> 0 | BW87: =IF(BW8<150,0,IF(BW8<200,x,IF(BW8>=200,2))) -> 0 | BX87: =IF(BX8<150,0,IF(BX8<200,x,IF(BX8>=200,2))) -> 0 | ... CJ87: =IF(CJ8<150,0,IF(CJ8<200,x,IF(CJ8>=200,2))) -> 0
A88: Mutscheller "Mira" | B88: x | C88: =IF(C9<150,0,IF(C9<200,x,IF(C9>=200,2))) -> 2 | D88: =IF(D9<150,0,IF(D9<200,x,IF(D9>=200,2))) -> 0 | E88: =IF(E9<150,0,IF(E9<200,x,IF(E9>=200,2))) -> 0 | F88: =IF(F9<150,0,IF(F9<200,x,IF(F9>=200,2))) -> 0 | G88: =IF(G9<150,0,IF(G9<200,x,IF(G9>=200,2))) -> 0 | H88: x | I88: x | J88: =IF(J9<150,0,IF(J9<200,x,IF(J9>=200,2))) -> 0 | K88: =IF(K9<150,0,IF(K9<200,x,IF(K9>=200,2))) -> 2 | L88: =IF(L9<150,0,IF(L9<200,x,IF(L9>=200,2))) -> 2 | M88: =IF(M9<150,0,IF(M9<200,x,IF(M9>=200,2))) -> 2 | N88: =IF(N9<150,0,IF(N9<200,x,IF(N9>=200,2))) -> 2 | O88: =IF(O9<150,0,IF(O9<200,x,IF(O9>=200,2))) -> 2 | P88: =IF(P9<150,0,IF(P9<200,x,IF(P9>=200,2))) -> 2 | Q88: =IF(Q9<150,0,IF(Q9<200,x,IF(Q9>=200,2))) -> 0 | ... AN88: =IF(AN9<150,0,IF(AN9<200,x,IF(AN9>=200,2))) -> 0 | AO88: x | AP88: x | AQ88: =IF(AQ9<150,0,IF(AQ9<200,x,IF(AQ9>=200,2))) -> 0 | AR88: x | AS88: x | AT88: =IF(AT9<150,0,IF(AT9<200,x,IF(AT9>=200,2))) -> 0 | AU88: x | AV88: =IF(AV9<150,0,IF(AV9<200,x,IF(AV9>=200,2))) -> 0 | AW88: =IF(AW9<150,0,IF(AW9<200,x,IF(AW9>=200,2))) -> 0 | AX88: =IF(AX9<150,0,IF(AX9<200,x,IF(AX9>=200,2))) -> 2 | AY88: =IF(AY9<150,0,IF(AY9<200,x,IF(AY9>=200,2))) -> 2 | AZ88: =IF(AZ9<150,0,IF(AZ9<200,x,IF(AZ9>=200,2))) -> 0 | BA88: =IF(BA9<150,0,IF(BA9<200,x,IF(BA9>=200,2))) -> 2 | BB88: =IF(BB9<150,0,IF(BB9<200,x,IF(BB9>=200,2))) -> 2 | BC88: =IF(BC9<150,0,IF(BC9<200,x,IF(BC9>=200,2))) -> 0 | ... BR88: =IF(BR9<150,0,IF(BR9<200,x,IF(BR9>=200,2))) -> 0 | BS88: x | BT88: x | BU88: x | BV88: =IF(BV9<150,0,IF(BV9<200,x,IF(BV9>=200,2))) -> 0 | BW88: =IF(BW9<150,0,IF(BW9<200,x,IF(BW9>=200,2))) -> 0 | BX88: =IF(BX9<150,0,IF(BX9<200,x,IF(BX9>=200,2))) -> 0 | BY88: =IF(BY9<150,0,IF(BY9<200,x,IF(BY9>=200,2))) -> 0 | BZ88: =IF(BZ9<150,0,IF(BZ9<200,x,IF(BZ9>=200,2))) -> 0 | CA88: =IF(CA9<150,0,IF(CA9<200,x,IF(CA9>=200,2))) -> 0 | CB88: =IF(CB9<150,0,IF(CB9<200,x,IF(CB9>=200,2))) -> 0 | CC88: =IF(CC9<150,0,IF(CC9<200,x,IF(CC9>=200,2))) -> 0 | ... CJ88: =IF(CJ9<150,0,IF(CJ9<200,x,IF(CJ9>=200,2))) -> 0
A89: Kern "Wayty" | B89: =IF(B10<150,0,IF(B10<200,x,IF(B10>=200,2))) -> 0 | C89: =IF(C10<150,0,IF(C10<200,x,IF(C10>=200,2))) -> 0 | D89: =IF(D10<150,0,IF(D10<200,x,IF(D10>=200,2))) -> 0 | E89: =IF(E10<150,0,IF(E10<200,x,IF(E10>=200,2))) -> 0 | F89: =IF(F10<150,0,IF(F10<200,x,IF(F10>=200,2))) -> 0 | G89: =IF(G10<150,0,IF(G10<200,x,IF(G10>=200,2))) -> 0 | H89: =IF(H10<150,0,IF(H10<200,x,IF(H10>=200,2))) -> 0 | I89: =IF(I10<150,0,IF(I10<200,x,IF(I10>=200,2))) -> 0 | ... AR89: =IF(AR10<150,0,IF(AR10<200,x,IF(AR10>=200,2))) -> 0 | AS89: x | AT89: =IF(AT10<150,0,IF(AT10<200,x,IF(AT10>=200,2))) -> 0 | AU89: =IF(AU10<150,0,IF(AU10<200,x,IF(AU10>=200,2))) -> 0 | AV89: =IF(AV10<150,0,IF(AV10<200,x,IF(AV10>=200,2))) -> 0 | AW89: =IF(AW10<150,0,IF(AW10<200,x,IF(AW10>=200,2))) -> 0 | AX89: =IF(AX10<150,0,IF(AX10<200,x,IF(AX10>=200,2))) -> 0 | AY89: =IF(AY10<150,0,IF(AY10<200,x,IF(AY10>=200,2))) -> 0 | AZ89: =IF(AZ10<150,0,IF(AZ10<200,x,IF(AZ10>=200,2))) -> 0 | BA89: =IF(BA10<150,0,IF(BA10<200,x,IF(BA10>=200,2))) -> 2 | ... BJ89: =IF(BJ10<150,0,IF(BJ10<200,x,IF(BJ10>=200,2))) -> 0 | BK89: x | BL89: =IF(BL10<150,0,IF(BL10<200,x,IF(BL10>=200,2))) -> 0 | BM89: =IF(BM10<150,0,IF(BM10<200,x,IF(BM10>=200,2))) -> 0 | BN89: =IF(BN10<150,0,IF(BN10<200,x,IF(BN10>=200,2))) -> 0 | BO89: =IF(BO10<150,0,IF(BO10<200,x,IF(BO10>=200,2))) -> 0 | BP89: =IF(BP10<150,0,IF(BP10<200,x,IF(BP10>=200,2))) -> 0 | BQ89: x | BR89: =IF(BR10<150,0,IF(BR10<200,x,IF(BR10>=200,2))) -> 0 | BS89: =IF(BS10<150,0,IF(BS10<200,x,IF(BS10>=200,2))) -> 2 | BT89: x | BU89: =IF(BU10<150,0,IF(BU10<200,x,IF(BU10>=200,2))) -> 0 | BV89: =IF(BV10<150,0,IF(BV10<200,x,IF(BV10>=200,2))) -> 0 | BW89: =IF(BW10<150,0,IF(BW10<200,x,IF(BW10>=200,2))) -> 0 | BX89: =IF(BX10<150,0,IF(BX10<200,x,IF(BX10>=200,2))) -> 0 | BY89: =IF(BY10<150,0,IF(BY10<200,x,IF(BY10>=200,2))) -> 0 | BZ89: =IF(BZ10<150,0,IF(BZ10<200,x,IF(BZ10>=200,2))) -> 0 | CA89: =IF(CA10<150,0,IF(CA10<200,x,IF(CA10>=200,2))) -> 0 | CB89: =IF(CB10<150,0,IF(CB10<200,x,IF(CB10>=200,2))) -> 0 | ... CJ89: =IF(CJ10<150,0,IF(CJ10<200,x,IF(CJ10>=200,2))) -> 0
A90: Lang Wenzl | B90: =IF(B11<150,0,IF(B11<200,x,IF(B11>=200,2))) -> 0 | C90: =IF(C11<150,0,IF(C11<200,x,IF(C11>=200,2))) -> 0 | D90: =IF(D11<150,0,IF(D11<200,x,IF(D11>=200,2))) -> 0 | E90: =IF(E11<150,0,IF(E11<200,x,IF(E11>=200,2))) -> 0 | F90: =IF(F11<150,0,IF(F11<200,x,IF(F11>=200,2))) -> 0 | G90: =IF(G11<150,0,IF(G11<200,x,IF(G11>=200,2))) -> 0 | H90: =IF(H11<150,0,IF(H11<200,x,IF(H11>=200,2))) -> 0 | I90: =IF(I11<150,0,IF(I11<200,x,IF(I11>=200,2))) -> 0 | ... AR90: =IF(AR11<150,0,IF(AR11<200,x,IF(AR11>=200,2))) -> 0 | AS90: x | AT90: =IF(AT11<150,0,IF(AT11<200,x,IF(AT11>=200,2))) -> 0 | AU90: =IF(AU11<150,0,IF(AU11<200,x,IF(AU11>=200,2))) -> 0 | AV90: =IF(AV11<150,0,IF(AV11<200,x,IF(AV11>=200,2))) -> 0 | AW90: =IF(AW11<150,0,IF(AW11<200,x,IF(AW11>=200,2))) -> 0 | AX90: =IF(AX11<150,0,IF(AX11<200,x,IF(AX11>=200,2))) -> 0 | AY90: =IF(AY11<150,0,IF(AY11<200,x,IF(AY11>=200,2))) -> 0 | AZ90: =IF(AZ11<150,0,IF(AZ11<200,x,IF(AZ11>=200,2))) -> 0 | BA90: =IF(BA11<150,0,IF(BA11<200,x,IF(BA11>=200,2))) -> 0 | ... BJ90: =IF(BJ11<150,0,IF(BJ11<200,x,IF(BJ11>=200,2))) -> 0 | BK90: x | BL90: =IF(BL11<150,0,IF(BL11<200,x,IF(BL11>=200,2))) -> 0 | BM90: =IF(BM11<150,0,IF(BM11<200,x,IF(BM11>=200,2))) -> 0 | BN90: =IF(BN11<150,0,IF(BN11<200,x,IF(BN11>=200,2))) -> 0 | BO90: =IF(BO11<150,0,IF(BO11<200,x,IF(BO11>=200,2))) -> 0 | BP90: =IF(BP11<150,0,IF(BP11<200,x,IF(BP11>=200,2))) -> 0 | BQ90: x | BR90: =IF(BR11<150,0,IF(BR11<200,x,IF(BR11>=200,2))) -> 0 | BS90: =IF(BS11<150,0,IF(BS11<200,x,IF(BS11>=200,2))) -> 0 | BT90: x | BU90: =IF(BU11<150,0,IF(BU11<200,x,IF(BU11>=200,2))) -> 0 | BV90: =IF(BV11<150,0,IF(BV11<200,x,IF(BV11>=200,2))) -> 0 | BW90: =IF(BW11<150,0,IF(BW11<200,x,IF(BW11>=200,2))) -> 0 | BX90: =IF(BX11<150,0,IF(BX11<200,x,IF(BX11>=200,2))) -> 0 | BY90: =IF(BY11<150,0,IF(BY11<200,x,IF(BY11>=200,2))) -> 0 | BZ90: =IF(BZ11<150,0,IF(BZ11<200,x,IF(BZ11>=200,2))) -> 0 | CA90: =IF(CA11<150,0,IF(CA11<200,x,IF(CA11>=200,2))) -> 0 | CB90: =IF(CB11<150,0,IF(CB11<200,x,IF(CB11>=200,2))) -> 0 | ... CJ90: =IF(CJ11<150,0,IF(CJ11<200,x,IF(CJ11>=200,2))) -> 0
A91: Engelhardt "Pepa" | B91: =IF(B12<150,0,IF(B12<200,x,IF(B12>=200,2))) -> 0 | C91: =IF(C12<150,0,IF(C12<200,x,IF(C12>=200,2))) -> 0 | E91: =IF(E12<150,0,IF(E12<200,x,IF(E12>=200,2))) -> 0 | F91: =IF(F12<150,0,IF(F12<200,x,IF(F12>=200,2))) -> 0 | H91: =IF(H12<150,0,IF(H12<200,x,IF(H12>=200,2))) -> 0 | I91: =IF(I12<150,0,IF(I12<200,x,IF(I12>=200,2))) -> 0 | K91: =IF(K12<150,0,IF(K12<200,x,IF(K12>=200,2))) -> 0 | L91: =IF(L12<150,0,IF(L12<200,x,IF(L12>=200,2))) -> 0 | N91: =IF(N12<150,0,IF(N12<200,x,IF(N12>=200,2))) -> 0 | O91: =IF(O12<150,0,IF(O12<200,x,IF(O12>=200,2))) -> 0 | Q91: =IF(Q12<150,0,IF(Q12<200,x,IF(Q12>=200,2))) -> 0 | R91: =IF(R12<150,0,IF(R12<200,x,IF(R12>=200,2))) -> 0 | T91: =IF(T12<150,0,IF(T12<200,x,IF(T12>=200,2))) -> 0 | U91: =IF(U12<150,0,IF(U12<200,x,IF(U12>=200,2))) -> 0 | W91: =IF(W12<150,0,IF(W12<200,x,IF(W12>=200,2))) -> 0 | X91: =IF(X12<150,0,IF(X12<200,x,IF(X12>=200,2))) -> 0 | Z91: =IF(Z12<150,0,IF(Z12<200,x,IF(Z12>=200,2))) -> 0 | AA91: =IF(AA12<150,0,IF(AA12<200,x,IF(AA12>=200,2))) -> 0 | AC91: =IF(AC12<150,0,IF(AC12<200,x,IF(AC12>=200,2))) -> 0 | AD91: =IF(AD12<150,0,IF(AD12<200,x,IF(AD12>=200,2))) -> 0 | AF91: =IF(AF12<150,0,IF(AF12<200,x,IF(AF12>=200,2))) -> 0 | AG91: =IF(AG12<150,0,IF(AG12<200,x,IF(AG12>=200,2))) -> 0 | AI91: =IF(AI12<150,0,IF(AI12<200,x,IF(AI12>=200,2))) -> 0 | AJ91: =IF(AJ12<150,0,IF(AJ12<200,x,IF(AJ12>=200,2))) -> 0 | AL91: =IF(AL12<150,0,IF(AL12<200,x,IF(AL12>=200,2))) -> 0 | AM91: =IF(AM12<150,0,IF(AM12<200,x,IF(AM12>=200,2))) -> 0 | AO91: =IF(AO12<150,0,IF(AO12<200,x,IF(AO12>=200,2))) -> 0 | AP91: =IF(AP12<150,0,IF(AP12<200,x,IF(AP12>=200,2))) -> 0 | AR91: =IF(AR12<150,0,IF(AR12<200,x,IF(AR12>=200,2))) -> 0 | AS91: x | AU91: =IF(AU12<150,0,IF(AU12<200,x,IF(AU12>=200,2))) -> 0 | AV91: =IF(AV12<150,0,IF(AV12<200,x,IF(AV12>=200,2))) -> 0 | AX91: =IF(AX12<150,0,IF(AX12<200,x,IF(AX12>=200,2))) -> 0 | AY91: =IF(AY12<150,0,IF(AY12<200,x,IF(AY12>=200,2))) -> 0 | BA91: =IF(BA12<150,0,IF(BA12<200,x,IF(BA12>=200,2))) -> 0 | BB91: =IF(BB12<150,0,IF(BB12<200,x,IF(BB12>=200,2))) -> 0 | BD91: =IF(BD12<150,0,IF(BD12<200,x,IF(BD12>=200,2))) -> 0 | BE91: =IF(BE12<150,0,IF(BE12<200,x,IF(BE12>=200,2))) -> 0 | BG91: =IF(BG12<150,0,IF(BG12<200,x,IF(BG12>=200,2))) -> 0 | BH91: =IF(BH12<150,0,IF(BH12<200,x,IF(BH12>=200,2))) -> 0 | BJ91: =IF(BJ12<150,0,IF(BJ12<200,x,IF(BJ12>=200,2))) -> 0 | BK91: x | BM91: =IF(BM12<150,0,IF(BM12<200,x,IF(BM12>=200,2))) -> 0 | BN91: =IF(BN12<150,0,IF(BN12<200,x,IF(BN12>=200,2))) -> 0 | BP91: =IF(BP12<150,0,IF(BP12<200,x,IF(BP12>=200,2))) -> 0 | BQ91: x | BS91: =IF(BS12<150,0,IF(BS12<200,x,IF(BS12>=200,2))) -> 0 | BT91: x | BV91: =IF(BV12<150,0,IF(BV12<200,x,IF(BV12>=200,2))) -> 0 | BW91: =IF(BW12<150,0,IF(BW12<200,x,IF(BW12>=200,2))) -> 0 | BY91: =IF(BY12<150,0,IF(BY12<200,x,IF(BY12>=200,2))) -> 0 | BZ91: =IF(BZ12<150,0,IF(BZ12<200,x,IF(BZ12>=200,2))) -> 0 | CB91: =IF(CB12<150,0,IF(CB12<200,x,IF(CB12>=200,2))) -> 0 | CC91: =IF(CC12<150,0,IF(CC12<200,x,IF(CC12>=200,2))) -> 0 | CE91: =IF(CE12<150,0,IF(CE12<200,x,IF(CE12>=200,2))) -> 0 | CF91: =IF(CF12<150,0,IF(CF12<200,x,IF(CF12>=200,2))) -> 0 | CH91: =IF(CH12<150,0,IF(CH12<200,x,IF(CH12>=200,2))) -> 0 | CI91: =IF(CI12<150,0,IF(CI12<200,x,IF(CI12>=200,2))) -> 0
A93: INTRA-Assay | E93: INTER-Assay
A94: in total = | B94: =10*29 -> 290 | F94: =(10*29)-29 -> 261
A95: p0= 234/290 | B95: =234/B94 -> 0.80689655 | E95: p0= 212/261 | F95: =212/F94 -> 0.81226054
A96: pe= 0,5 | E96: pe= 0,5
A97: Cohen's Kappa= | B97: =(B95-0.5)/0.5 -> 0.6137931 | E97: Cohen's Kappa= | F97: =(F95-0.5)/0.5 -> 0.62452107

Sheet Spearman rank Laboratory A, 1-2
A1: Hund (Dog) | B1: Allergen | C1: Wert 1 (Value 1) | D1: Rang,x (Rank,x) | E1: Wert 2 (Value 2) | F1: Rang,y (Rank,y) | G1: Diff (d) | H1: d^2 | I1: Mittelwert (mean value) | J1: Varianz (Variance) | K1: Standabw (Standard deviation) | L1: Variationskoeff. In % (Coefficient of variation in %) | M1: Subtraktion x (Subtraction x) | N1: Subtraktion y (Subtraction y) | O1: Subtraktion x^2 (subtraction x^2) | P1: Subtraktion y^2 (Subtraction y^2) | Q1: Multiplikation (Multiplication)
A2: Valic "Eric" | B2: Wiesenknäuelgras (Dactylis glomerata) | C2: =VLOOKUP(A2,'Laboratory A'!A:D,2,0) -> 51 | D2: =_xlfn.RANK.AVG(C2,C$2:C$291,1) -> 151.5 | E2: =VLOOKUP(A2,'Laboratory A'!A:D,3,0) -> 215 | F2: =_xlfn.RANK.AVG(E2,E$2:E$291,1) -> 244 | G2: =D2-F2 -> -92.5 | H2: =G2^2 -> 8556.25 | I2: =(C2+E2)/2 -> 133 | J2: =((C2-I2)^2+(E2-I2)^2)/2 -> 6724 | K2: =SQRT(J2) -> 82 | L2: =(K2/I2)*100 -> 61.654135 | M2: =(D2-$D$301) -> 6.4106529 | N2: =(F2-$F$301) -> 98.957045 | O2: =(M2)^2 -> 41.096471 | P2: =(N2)^2 -> 9792.4967 | Q2: =M2*N2 -> 634.37927
A3: Klenk "Fiete" | B3: Wiesenknäuelgras | C3: =VLOOKUP(A3,'Laboratory A'!A:D,2,0) -> 61 | D3: =_xlfn.RANK.AVG(C3,C$2:C$291,1) -> 178 | E3: =VLOOKUP(A3,'Laboratory A'!A:D,3,0) -> 21 | F3: =_xlfn.RANK.AVG(E3,E$2:E$291,1) -> 30.5 | G3: =D3-F3 -> 147.5 | H3: =G3^2 -> 21756.25 | I3: =(C3+E3)/2 -> 41 | J3: =((C3-I3)^2+(E3-I3)^2)/2 -> 400 | K3: =SQRT(J3) -> 20 | L3: =(K3/I3)*100 -> 48.780488 | M3: =(D3-$D$301) -> 32.910653 | N3: =(F3-$F$301) -> -114.54296 | O3: =(M3)^2 -> 1083.1111 | P3: =(N3)^2 -> 13120.089 | Q3: =M3*N3 -> -3769.6834
A4: Pintsch "Lilly" | B4: Wiesenknäuelgras | C4: =VLOOKUP(A4,'Laboratory A'!A:D,2,0) -> 36 | D4: =_xlfn.RANK.AVG(C4,C$2:C$291,1) -> 116 | E4: =VLOOKUP(A4,'Laboratory A'!A:D,3,0) -> 23 | F4: =_xlfn.RANK.AVG(E4,E$2:E$291,1) -> 42 | G4: =D4-F4 -> 74 | H4: =G4^2 -> 5476 | I4: =(C4+E4)/2 -> 29.5 | J4: =((C4-I4)^2+(E4-I4)^2)/2 -> 42.25 | K4: =SQRT(J4) -> 6.5 | L4: =(K4/I4)*100 -> 22.033898 | M4: =(D4-$D$301) -> -29.089347 | N4: =(F4-$F$301) -> -103.04296 | O4: =(M4)^2 -> 846.19011 | P4: =(N4)^2 -> 10617.851 | Q4: =M4*N4 -> 2997.4523
A5: Funken "Themba" | B5: Wiesenknäuelgras | C5: =VLOOKUP(A5,'Laboratory A'!A:D,2,0) -> 425 | D5: =_xlfn.RANK.AVG(C5,C$2:C$291,1) -> 272 | E5: =VLOOKUP(A5,'Laboratory A'!A:D,3,0) -> 407 | F5: =_xlfn.RANK.AVG(E5,E$2:E$291,1) -> 267 | G5: =D5-F5 -> 5 | H5: =G5^2 -> 25 | I5: =(C5+E5)/2 -> 416 | J5: =((C5-I5)^2+(E5-I5)^2)/2 -> 81 | K5: =SQRT(J5) -> 9 | L5: =(K5/I5)*100 -> 2.1634615 | M5: =(D5-$D$301) -> 126.91065 | N5: =(F5-$F$301) -> 121.95704 | O5: =(M5)^2 -> 16106.314 | P5: =(N5)^2 -> 14873.521 | Q5: =M5*N5 -> 15477.648
A6: Tietzen "Oscar" | B6: Wiesenknäuelgras | C6: =VLOOKUP(A6,'Laboratory A'!A:D,2,0) -> 154 | D6: =_xlfn.RANK.AVG(C6,C$2:C$291,1) -> 224.5 | E6: =VLOOKUP(A6,'Laboratory A'!A:D,3,0) -> 163 | F6: =_xlfn.RANK.AVG(E6,E$2:E$291,1) -> 223 | G6: =D6-F6 -> 1.5 | H6: =G6^2 -> 2.25 | I6: =(C6+E6)/2 -> 158.5 | J6: =((C6-I6)^2+(E6-I6)^2)/2 -> 20.25 | K6: =SQRT(J6) -> 4.5 | L6: =(K6/I6)*100 -> 2.8391167 | M6: =(D6-$D$301) -> 79.410653 | N6: =(F6-$F$301) -> 77.957045 | O6: =(M6)^2 -> 6306.0518 | P6: =(N6)^2 -> 6077.3008 | Q6: =M6*N6 -> 6190.6198
A7: Zeitler "Pinie" | B7: Wiesenknäuelgras | C7: =VLOOKUP(A7,'Laboratory A'!A:D,2,0) -> 269 | D7: =_xlfn.RANK.AVG(C7,C$2:C$291,1) -> 258 | E7: =VLOOKUP(A7,'Laboratory A'!A:D,3,0) -> 170 | F7: =_xlfn.RANK.AVG(E7,E$2:E$291,1) -> 225 | G7: =D7-F7 -> 33 | H7: =G7^2 -> 1089 | I7: =(C7+E7)/2 -> 219.5 | J7: =((C7-I7)^2+(E7-I7)^2)/2 -> 2450.25 | K7: =SQRT(J7) -> 49.5 | L7: =(K7/I7)*100 -> 22.551253 | M7: =(D7-$D$301) -> 112.91065 | N7: =(F7-$F$301) -> 79.957045 | O7: =(M7)^2 -> 12748.816 | P7: =(N7)^2 -> 6393.129 | Q7: =M7*N7 -> 9028.0021
A8: Mutscheller "Mira" | B8: Wiesenknäuelgras | C8: =VLOOKUP(A8,'Laboratory A'!A:D,2,0) -> 172 | D8: =_xlfn.RANK.AVG(C8,C$2:C$291,1) -> 232 | E8: =VLOOKUP(A8,'Laboratory A'!A:D,3,0) -> 204 | F8: =_xlfn.RANK.AVG(E8,E$2:E$291,1) -> 239.5 | G8: =D8-F8 -> -7.5 | H8: =G8^2 -> 56.25 | I8: =(C8+E8)/2 -> 188 | J8: =((C8-I8)^2+(E8-I8)^2)/2 -> 256 | K8: =SQRT(J8) -> 16 | L8: =(K8/I8)*100 -> 8.5106383 | M8: =(D8-$D$301) -> 86.910653 | N8: =(F8-$F$301) -> 94.457045 | O8: =(M8)^2 -> 7553.4616 | P8: =(N8)^2 -> 8922.1333 | Q8: =M8*N8 -> 8209.3234
A9: Kern "Wayty" | B9: Wiesenknäuelgras | C9: =VLOOKUP(A9,'Laboratory A'!A:D,2,0) -> 27 | D9: =_xlfn.RANK.AVG(C9,C$2:C$291,1) -> 70.5 | E9: =VLOOKUP(A9,'Laboratory A'!A:D,3,0) -> 107 | F9: =_xlfn.RANK.AVG(E9,E$2:E$291,1) -> 206 | G9: =D9-F9 -> -135.5 | H9: =G9^2 -> 18360.25 | I9: =(C9+E9)/2 -> 67 | J9: =((C9-I9)^2+(E9-I9)^2)/2 -> 1600 | K9: =SQRT(J9) -> 40 | L9: =(K9/I9)*100 -> 59.701493 | M9: =(D9-$D$301) -> -74.589347 | N9: =(F9-$F$301) -> 60.957045 | O9: =(M9)^2 -> 5563.5707 | P9: =(N9)^2 -> 3715.7613 | Q9: =M9*N9 -> -4546.7462
A10: Lang "Wenzl" | B10: Wiesenknäuelgras | C10: =VLOOKUP(A10,'Laboratory A'!A:D,2,0) -> 17 | D10: =_xlfn.RANK.AVG(C10,C$2:C$291,1) -> 19 | E10: =VLOOKUP(A10,'Laboratory A'!A:D,3,0) -> 39 | F10: =_xlfn.RANK.AVG(E10,E$2:E$291,1) -> 115.5 | G10: =D10-F10 -> -96.5 | H10: =G10^2 -> 9312.25 | I10: =(C10+E10)/2 -> 28 | J10: =((C10-I10)^2+(E10-I10)^2)/2 -> 121 | K10: =SQRT(J10) -> 11 | L10: =(K10/I10)*100 -> 39.285714 | M10: =(D10-$D$301) -> -126.08935 | N10: =(F10-$F$301) -> -29.542955 | O10: =(M10)^2 -> 15898.523 | P10: =(N10)^2 -> 872.78621 | Q10: =M10*N10 -> 3725.0519
A11: Engelhardt "Pepa" | B11: Wiesenknäuelgras | C11: =VLOOKUP(A11,'Laboratory A'!A:D,2,0) -> 20 | D11: =_xlfn.RANK.AVG(C11,C$2:C$291,1) -> 29 | E11: =VLOOKUP(A11,'Laboratory A'!A:D,3,0) -> 57 | F11: =_xlfn.RANK.AVG(E11,E$2:E$291,1) -> 158 | G11: =D11-F11 -> -129 | H11: =G11^2 -> 16641 | I11: =(C11+E11)/2 -> 38.5 | J11: =((C11-I11)^2+(E11-I11)^2)/2 -> 342.25 | K11: =SQRT(J11) -> 18.5 | L11: =(K11/I11)*100 -> 48.051948 | M11: =(D11-$D$301) -> -116.08935 | N11: =(F11-$F$301) -> 12.957045 | O11: =(M11)^2 -> 13476.737 | P11: =(N11)^2 -> 167.88501 | Q11: =M11*N11 -> -1504.1749
A12: Valic "Eric" | B12: Wiesenlieschgras (Phleum pratense) | C12: =VLOOKUP(A2,'Laboratory A'!A:G,5,0) -> 88 | D12: =_xlfn.RANK.AVG(C12,C$2:C$291,1) -> 206 | E12: =VLOOKUP(A2,'Laboratory A'!A:G,6,0) -> 36 | F12: =_xlfn.RANK.AVG(E12,E$2:E$291,1) -> 110 | G12: =D12-F12 -> 96 | H12: =G12^2 -> 9216 | I12: =(C12+E12)/2 -> 62 | J12: =((C12-I12)^2+(E12-I12)^2)/2 -> 676 | K12: =SQRT(J12) -> 26 | L12: =(K12/I12)*100 -> 41.935484 | M12: =(D12-$D$301) -> 60.910653 | N12: =(F12-$F$301) -> -35.042955 | O12: =(M12)^2 -> 3710.1076 | P12: =(N12)^2 -> 1228.0087 | Q12: =M12*N12 -> -2134.4893
A13: Klenk "Fiete" | B13: Wiesenlieschgras | C13: =VLOOKUP(A3,'Laboratory A'!A:G,5,0) -> 30 | D13: =_xlfn.RANK.AVG(C13,C$2:C$291,1) -> 91 | E13: =VLOOKUP(A3,'Laboratory A'!A:G,6,0) -> 22 | F13: =_xlfn.RANK.AVG(E13,E$2:E$291,1) -> 36 | G13: =D13-F13 -> 55 | H13: =G13^2 -> 3025 | I13: =(C13+E13)/2 -> 26 | J13: =((C13-I13)^2+(E13-I13)^2)/2 -> 16 | K13: =SQRT(J13) -> 4 | L13: =(K13/I13)*100 -> 15.384615 | M13: =(D13-$D$301) -> -54.089347 | N13: =(F13-$F$301) -> -109.04296 | O13: =(M13)^2 -> 2925.6575 | P13: =(N13)^2 -> 11890.366 | Q13: =M13*N13 -> 5898.0623
A14: Pintsch "Lilly" | B14: Wiesenlieschgras | C14: =VLOOKUP(A4,'Laboratory A'!A:G,5,0) -> 214 | D14: =_xlfn.RANK.AVG(C14,C$2:C$291,1) -> 246 | E14: =VLOOKUP(A4,'Laboratory A'!A:G,6,0) -> 296 | F14: =_xlfn.RANK.AVG(E14,E$2:E$291,1) -> 259 | G14: =D14-F14 -> -13 | H14: =G14^2 -> 169 | I14: =(C14+E14)/2 -> 255 | J14: =((C14-I14)^2+(E14-I14)^2)/2 -> 1681 | K14: =SQRT(J14) -> 41 | L14: =(K14/I14)*100 -> 16.078431 | M14: =(D14-$D$301) -> 100.91065 | N14: =(F14-$F$301) -> 113.95704 | O14: =(M14)^2 -> 10182.96 | P14: =(N14)^2 -> 12986.208 | Q14: =M14*N14 -> 11499.48
A15: Funken "Themba" | B15: Wiesenlieschgras | C15: =VLOOKUP(A5,'Laboratory A'!A:G,5,0) -> 209 | D15: =_xlfn.RANK.AVG(C15,C$2:C$291,1) -> 245 | E15: =VLOOKUP(A5,'Laboratory A'!A:G,6,0) -> 204 | F15: =_xlfn.RANK.AVG(E15,E$2:E$291,1) -> 239.5 | G15: =D15-F15 -> 5.5 | H15: =G15^2 -> 30.25 | I15: =(C15+E15)/2 -> 206.5 | J15: =((C15-I15)^2+(E15-I15)^2)/2 -> 6.25 | K15: =SQRT(J15) -> 2.5 | L15: =(K15/I15)*100 -> 1.2106538 | M15: =(D15-$D$301) -> 99.910653 | N15: =(F15-$F$301) -> 94.457045 | O15: =(M15)^2 -> 9982.1386 | P15: =(N15)^2 -> 8922.1333 | Q15: =M15*N15 -> 9437.265
A16: Tietzen "Oscar" | B16: Wiesenlieschgras | C16: =VLOOKUP(A6,'Laboratory A'!A:G,5,0) -> 47 | D16: =_xlfn.RANK.AVG(C16,C$2:C$291,1) -> 142 | E16: =VLOOKUP(A6,'Laboratory A'!A:G,6,0) -> 50 | F16: =_xlfn.RANK.AVG(E16,E$2:E$291,1) -> 137.5 | G16: =D16-F16 -> 4.5 | H16: =G16^2 -> 20.25 | I16: =(C16+E16)/2 -> 48.5 | J16: =((C16-I16)^2+(E16-I16)^2)/2 -> 2.25 | K16: =SQRT(J16) -> 1.5 | L16: =(K16/I16)*100 -> 3.0927835 | M16: =(D16-$D$301) -> -3.0893471 | N16: =(F16-$F$301) -> -7.5429553 | O16: =(M16)^2 -> 9.5440654 | P16: =(N16)^2 -> 56.896175 | Q16: =M16*N16 -> 23.302807
A17: Zeitler "Pinie" | B17: Wiesenlieschgras | C17: =VLOOKUP(A7,'Laboratory A'!A:G,5,0) -> 28 | D17: =_xlfn.RANK.AVG(C17,C$2:C$291,1) -> 77.5 | E17: =VLOOKUP(A7,'Laboratory A'!A:G,6,0) -> 31 | F17: =_xlfn.RANK.AVG(E17,E$2:E$291,1) -> 84 | G17: =D17-F17 -> -6.5 | H17: =G17^2 -> 42.25 | I17: =(C17+E17)/2 -> 29.5 | J17: =((C17-I17)^2+(E17-I17)^2)/2 -> 2.25 | K17: =SQRT(J17) -> 1.5 | L17: =(K17/I17)*100 -> 5.0847458 | M17: =(D17-$D$301) -> -67.589347 | N17: =(F17-$F$301) -> -61.042955 | O17: =(M17)^2 -> 4568.3198 | P17: =(N17)^2 -> 3726.2424 | Q17: =M17*N17 -> 4125.8535
A18: Mutscheller "Mira" | B18: Wiesenlieschgras | C18: =VLOOKUP(A8,'Laboratory A'!A:G,5,0) -> 55 | D18: =_xlfn.RANK.AVG(C18,C$2:C$291,1) -> 158.5 | E18: =VLOOKUP(A8,'Laboratory A'!A:G,6,0) -> 78 | F18: =_xlfn.RANK.AVG(E18,E$2:E$291,1) -> 192 | G18: =D18-F18 -> -33.5 | H18: =G18^2 -> 1122.25 | I18: =(C18+E18)/2 -> 66.5 | J18: =((C18-I18)^2+(E18-I18)^2)/2 -> 132.25 | K18: =SQRT(J18) -> 11.5 | L18: =(K18/I18)*100 -> 17.293233 | M18: =(D18-$D$301) -> 13.410653 | N18: =(F18-$F$301) -> 46.957045 | O18: =(M18)^2 -> 179.84561 | P18: =(N18)^2 -> 2204.964 | Q18: =M18*N18 -> 629.72463
A19: Kern "Wayty" | B19: Wiesenlieschgras | C19: =VLOOKUP(A9,'Laboratory A'!A:G,5,0) -> 50 | D19: =_xlfn.RANK.AVG(C19,C$2:C$291,1) -> 148 | E19: =VLOOKUP(A9,'Laboratory A'!A:G,6,0) -> 55 | F19: =_xlfn.RANK.AVG(E19,E$2:E$291,1) -> 149.5 | G19: =D19-F19 -> -1.5 | H19: =G19^2 -> 2.25 | I19: =(C19+E19)/2 -> 52.5 | J19: =((C19-I19)^2+(E19-I19)^2)/2 -> 6.25 | K19: =SQRT(J19) -> 2.5 | L19: =(K19/I19)*100 -> 4.7619048 | M19: =(D19-$D$301) -> 2.9106529 | N19: =(F19-$F$301) -> 4.4570447 | O19: =(M19)^2 -> 8.4719004 | P19: =(N19)^2 -> 19.865247 | Q19: =M19*N19 -> 12.97291
A20: Lang "Wenzl" | B20: Wiesenlieschgras | C20: =VLOOKUP(A10,'Laboratory A'!A:G,5,0) -> 18 | D20: =_xlfn.RANK.AVG(C20,C$2:C$291,1) -> 23.5 | E20: =VLOOKUP(A10,'Laboratory A'!A:G,6,0) -> 70 | F20: =_xlfn.RANK.AVG(E20,E$2:E$291,1) -> 183 | G20: =D20-F20 -> -159.5 | H20: =G20^2 -> 25440.25 | I20: =(C20+E20)/2 -> 44 | J20: =((C20-I20)^2+(E20-I20)^2)/2 -> 676 | K20: =SQRT(J20) -> 26 | L20: =(K20/I20)*100 -> 59.090909 | M20: =(D20-$D$301) -> -121.58935 | N20: =(F20-$F$301) -> 37.957045 | O20: =(M20)^2 -> 14783.969 | P20: =(N20)^2 -> 1440.7372 | Q20: =M20*N20 -> -4615.1723
A21: Engelhardt "Pepa" | B21: Wiesenlieschgras | C21: =VLOOKUP(A11,'Laboratory A'!A:G,5,0) -> 68 | D21: =_xlfn.RANK.AVG(C21,C$2:C$291,1) -> 186 | E21: =VLOOKUP(A11,'Laboratory A'!A:G,6,0) -> 39 | F21: =_xlfn.RANK.AVG(E21,E$2:E$291,1) -> 115.5 | G21: =D21-F21 -> 70.5 | H21: =G21^2 -> 4970.25 | I21: =(C21+E21)/2 -> 53.5 | J21: =((C21-I21)^2+(E21-I21)^2)/2 -> 210.25 | K21: =SQRT(J21) -> 14.5 | L21: =(K21/I21)*100 -> 27.102804 | M21: =(D21-$D$301) -> 40.910653 | N21: =(F21-$F$301) -> -29.542955 | O21: =(M21)^2 -> 1673.6815 | P21: =(N21)^2 -> 872.78621 | Q21: =M21*N21 -> -1208.6216
A22: Valic "Eric" | B22: Englisches Ryegras (Lolium perenne) | C22: =VLOOKUP(A22,'Laboratory A'!A:J,8,0) -> 30 | D22: =_xlfn.RANK.AVG(C22,C$2:C$291,1) -> 91 | E22: =VLOOKUP(A22,'Laboratory A'!A:J,9,0) -> 52 | F22: =_xlfn.RANK.AVG(E22,E$2:E$291,1) -> 142 | G22: =D22-F22 -> -51 | H22: =G22^2 -> 2601 | I22: =(C22+E22)/2 -> 41 | J22: =((C22-I22)^2+(E22-I22)^2)/2 -> 121 | K22: =SQRT(J22) -> 11 | L22: =(K22/I22)*100 -> 26.829268 | M22: =(D22-$D$301) -> -54.089347 | N22: =(F22-$F$301) -> -3.0429553 | O22: =(M22)^2 -> 2925.6575 | P22: =(N22)^2 -> 9.2595771 | Q22: =M22*N22 -> 164.59147
A23: Klenk "Fiete" | B23: Englisches Ryegras | C23: =VLOOKUP(A23,'Laboratory A'!A:J,8,0) -> 228 | D23: =_xlfn.RANK.AVG(C23,C$2:C$291,1) -> 252 | E23: =VLOOKUP(A23,'Laboratory A'!A:J,9,0) -> 54 | F23: =_xlfn.RANK.AVG(E23,E$2:E$291,1) -> 146 | G23: =D23-F23 -> 106 | H23: =G23^2 -> 11236 | I23: =(C23+E23)/2 -> 141 | J23: =((C23-I23)^2+(E23-I23)^2)/2 -> 7569 | K23: =SQRT(J23) -> 87 | L23: =(K23/I23)*100 -> 61.702128 | M23: =(D23-$D$301) -> 106.91065 | N23: =(F23-$F$301) -> 0.95704467 | O23: =(M23)^2 -> 11429.888 | P23: =(N23)^2 -> 0.91593451 | Q23: =M23*N23 -> 102.31827
A24: Pintsch "Lilly" | B24: Englisches Ryegras | C24: =VLOOKUP(A24,'Laboratory A'!A:J,8,0) -> 780 | D24: =_xlfn.RANK.AVG(C24,C$2:C$291,1) -> 288 | E24: =VLOOKUP(A24,'Laboratory A'!A:J,9,0) -> 775 | F24: =_xlfn.RANK.AVG(E24,E$2:E$291,1) -> 286 | G24: =D24-F24 -> 2 | H24: =G24^2 -> 4 | I24: =(C24+E24)/2 -> 777.5 | J24: =((C24-I24)^2+(E24-I24)^2)/2 -> 6.25 | K24: =SQRT(J24) -> 2.5 | L24: =(K24/I24)*100 -> 0.32154341 | M24: =(D24-$D$301) -> 142.91065 | N24: =(F24-$F$301) -> 140.95704 | O24: =(M24)^2 -> 20423.455 | P24: =(N24)^2 -> 19868.888 | Q24: =M24*N24 -> 20144.263
A25: Funken "Themba" | B25: Englisches Ryegras | C25: =VLOOKUP(A25,'Laboratory A'!A:J,8,0) -> 380 | D25: =_xlfn.RANK.AVG(C25,C$2:C$291,1) -> 268 | E25: =VLOOKUP(A25,'Laboratory A'!A:J,9,0) -> 347 | F25: =_xlfn.RANK.AVG(E25,E$2:E$291,1) -> 264 | G25: =D25-F25 -> 4 | H25: =G25^2 -> 16 | I25: =(C25+E25)/2 -> 363.5 | J25: =((C25-I25)^2+(E25-I25)^2)/2 -> 272.25 | K25: =SQRT(J25) -> 16.5 | L25: =(K25/I25)*100 -> 4.5392022 | M25: =(D25-$D$301) -> 122.91065 | N25: =(F25-$F$301) -> 118.95704 | O25: =(M25)^2 -> 15107.029 | P25: =(N25)^2 -> 14150.778 | Q25: =M25*N25 -> 14621.088
A26: Tietzen "Oscar" | B26: Englisches Ryegras | C26: =VLOOKUP(A26,'Laboratory A'!A:J,8,0) -> 94 | D26: =_xlfn.RANK.AVG(C26,C$2:C$291,1) -> 210.5 | E26: =VLOOKUP(A26,'Laboratory A'!A:J,9,0) -> 85 | F26: =_xlfn.RANK.AVG(E26,E$2:E$291,1) -> 195.5 | G26: =D26-F26 -> 15 | H26: =G26^2 -> 225 | I26: =(C26+E26)/2 -> 89.5 | J26: =((C26-I26)^2+(E26-I26)^2)/2 -> 20.25 | K26: =SQRT(J26) -> 4.5 | L26: =(K26/I26)*100 -> 5.027933 | M26: =(D26-$D$301) -> 65.410653 | N26: =(F26-$F$301) -> 50.457045 | O26: =(M26)^2 -> 4278.5535 | P26: =(N26)^2 -> 2545.9134 | Q26: =M26*N26 -> 3300.4282
A27: Zeitler "Pinie" | B27: Englisches Ryegras | C27: =VLOOKUP(A27,'Laboratory A'!A:J,8,0) -> 67 | D27: =_xlfn.RANK.AVG(C27,C$2:C$291,1) -> 185 | E27: =VLOOKUP(A27,'Laboratory A'!A:J,9,0) -> 62 | F27: =_xlfn.RANK.AVG(E27,E$2:E$291,1) -> 170.5 | G27: =D27-F27 -> 14.5 | H27: =G27^2 -> 210.25 | I27: =(C27+E27)/2 -> 64.5 | J27: =((C27-I27)^2+(E27-I27)^2)/2 -> 6.25 | K27: =SQRT(J27) -> 2.5 | L27: =(K27/I27)*100 -> 3.875969 | M27: =(D27-$D$301) -> 39.910653 | N27: =(F27-$F$301) -> 25.457045 | O27: =(M27)^2 -> 1592.8602 | P27: =(N27)^2 -> 648.06112 | Q27: =M27*N27 -> 1016.0073
A28: Mutscheller "Mira" | B28: Englisches Ryegras | C28: =VLOOKUP(A28,'Laboratory A'!A:J,8,0) -> 175 | D28: =_xlfn.RANK.AVG(C28,C$2:C$291,1) -> 233.5 | E28: =VLOOKUP(A28,'Laboratory A'!A:J,9,0) -> 155 | F28: =_xlfn.RANK.AVG(E28,E$2:E$291,1) -> 217 | G28: =D28-F28 -> 16.5 | H28: =G28^2 -> 272.25 | I28: =(C28+E28)/2 -> 165 | J28: =((C28-I28)^2+(E28-I28)^2)/2 -> 100 | K28: =SQRT(J28) -> 10 | L28: =(K28/I28)*100 -> 6.0606061 | M28: =(D28-$D$301) -> 88.410653 | N28: =(F28-$F$301) -> 71.957045 | O28: =(M28)^2 -> 7816.4435 | P28: =(N28)^2 -> 5177.8163 | Q28: =M28*N28 -> 6361.7693
A29: Kern "Wayty" | B29: Englisches Ryegras | C29: =VLOOKUP(A29,'Laboratory A'!A:J,8,0) -> 74 | D29: =_xlfn.RANK.AVG(C29,C$2:C$291,1) -> 191.5 | E29: =VLOOKUP(A29,'Laboratory A'!A:J,9,0) -> 91 | F29: =_xlfn.RANK.AVG(E29,E$2:E$291,1) -> 200.5 | G29: =D29-F29 -> -9 | H29: =G29^2 -> 81 | I29: =(C29+E29)/2 -> 82.5 | J29: =((C29-I29)^2+(E29-I29)^2)/2 -> 72.25 | K29: =SQRT(J29) -> 8.5 | L29: =(K29/I29)*100 -> 10.30303 | M29: =(D29-$D$301) -> 46.410653 | N29: =(F29-$F$301) -> 55.457045 | O29: =(M29)^2 -> 2153.9487 | P29: =(N29)^2 -> 3075.4838 | Q29: =M29*N29 -> 2573.7977
A30: Lang "Wenzl" | B30: Englisches Ryegras | C30: =VLOOKUP(A30,'Laboratory A'!A:J,8,0) -> 16 | D30: =_xlfn.RANK.AVG(C30,C$2:C$291,1) -> 13.5 | E30: =VLOOKUP(A30,'Laboratory A'!A:J,9,0) -> 20 | F30: =_xlfn.RANK.AVG(E30,E$2:E$291,1) -> 26.5 | G30: =D30-F30 -> -13 | H30: =G30^2 -> 169 | I30: =(C30+E30)/2 -> 18 | J30: =((C30-I30)^2+(E30-I30)^2)/2 -> 4 | K30: =SQRT(J30) -> 2 | L30: =(K30/I30)*100 -> 11.111111 | M30: =(D30-$D$301) -> -131.58935 | N30: =(F30-$F$301) -> -118.54296 | O30: =(M30)^2 -> 17315.756 | P30: =(N30)^2 -> 14052.432 | Q30: =M30*N30 -> 15598.99
A31: Engelhardt "Pepa" | B31: Englisches Ryegras | C31: =VLOOKUP(A31,'Laboratory A'!A:J,8,0) -> 59 | D31: =_xlfn.RANK.AVG(C31,C$2:C$291,1) -> 172.5 | E31: =VLOOKUP(A31,'Laboratory A'!A:J,9,0) -> 58 | F31: =_xlfn.RANK.AVG(E31,E$2:E$291,1) -> 161 | G31: =D31-F31 -> 11.5 | H31: =G31^2 -> 132.25 | I31: =(C31+E31)/2 -> 58.5 | J31: =((C31-I31)^2+(E31-I31)^2)/2 -> 0.25 | K31: =SQRT(J31) -> 0.5 | L31: =(K31/I31)*100 -> 0.85470085 | M31: =(D31-$D$301) -> 27.410653 | N31: =(F31-$F$301) -> 15.957045 | O31: =(M31)^2 -> 751.34389 | P31: =(N31)^2 -> 254.62727 | Q31: =M31*N31 -> 437.39301
A32: Valic "Eric" | B32: Wiesenrispengras (Lolium perenne) | C32: =VLOOKUP(A32,'Laboratory A'!A:M,11,0) -> 94 | D32: =_xlfn.RANK.AVG(C32,C$2:C$291,1) -> 210.5 | E32: =VLOOKUP(A32,'Laboratory A'!A:M,12,0) -> 162 | F32: =_xlfn.RANK.AVG(E32,E$2:E$291,1) -> 222 | G32: =D32-F32 -> -11.5 | H32: =G32^2 -> 132.25 | I32: =(C32+E32)/2 -> 128 | J32: =((C32-I32)^2+(E32-I32)^2)/2 -> 1156 | K32: =SQRT(J32) -> 34 | L32: =(K32/I32)*100 -> 26.5625 | M32: =(D32-$D$301) -> 65.410653 | N32: =(F32-$F$301) -> 76.957045 | O32: =(M32)^2 -> 4278.5535 | P32: =(N32)^2 -> 5922.3867 | Q32: =M32*N32 -> 5033.8105
A33: Klenk "Fiete" | B33: Wiesenrispengras | C33: =VLOOKUP(A33,'Laboratory A'!A:M,11,0) -> 229 | D33: =_xlfn.RANK.AVG(C33,C$2:C$291,1) -> 253 | E33: =VLOOKUP(A33,'Laboratory A'!A:M,12,0) -> 76 | F33: =_xlfn.RANK.AVG(E33,E$2:E$291,1) -> 190 | G33: =D33-F33 -> 63 | H33: =G33^2 -> 3969 | I33: =(C33+E33)/2 -> 152.5 | J33: =((C33-I33)^2+(E33-I33)^2)/2 -> 5852.25 | K33: =SQRT(J33) -> 76.5 | L33: =(K33/I33)*100 -> 50.163934 | M33: =(D33-$D$301) -> 107.91065 | N33: =(F33-$F$301) -> 44.957045 | O33: =(M33)^2 -> 11644.709 | P33: =(N33)^2 -> 2021.1359 | Q33: =M33*N33 -> 4851.344
A34: Pintsch "Lilly" | B34: Wiesenrispengras | C34: =VLOOKUP(A34,'Laboratory A'!A:M,11,0) -> 329 | D34: =_xlfn.RANK.AVG(C34,C$2:C$291,1) -> 265 | E34: =VLOOKUP(A34,'Laboratory A'!A:M,12,0) -> 737 | F34: =_xlfn.RANK.AVG(E34,E$2:E$291,1) -> 284 | G34: =D34-F34 -> -19 | H34: =G34^2 -> 361 | I34: =(C34+E34)/2 -> 533 | J34: =((C34-I34)^2+(E34-I34)^2)/2 -> 41616 | K34: =SQRT(J34) -> 204 | L34: =(K34/I34)*100 -> 38.273921 | M34: =(D34-$D$301) -> 119.91065 | N34: =(F34-$F$301) -> 138.95704 | O34: =(M34)^2 -> 14378.565 | P34: =(N34)^2 -> 19309.06 | Q34: =M34*N34 -> 16662.43
A35: Funken "Themba" | B35: Wiesenrispengras | C35: =VLOOKUP(A35,'Laboratory A'!A:M,11,0) -> 955 | D35: =_xlfn.RANK.AVG(C35,C$2:C$291,1) -> 290 | E35: =VLOOKUP(A35,'Laboratory A'!A:M,12,0) -> 964 | F35: =_xlfn.RANK.AVG(E35,E$2:E$291,1) -> 290 | G35: =D35-F35 -> 0 | H35: =G35^2 -> 0 | I35: =(C35+E35)/2 -> 959.5 | J35: =((C35-I35)^2+(E35-I35)^2)/2 -> 20.25 | K35: =SQRT(J35) -> 4.5 | L35: =(K35/I35)*100 -> 0.46899427 | M35: =(D35-$D$301) -> 144.91065 | N35: =(F35-$F$301) -> 144.95704 | O35: =(M35)^2 -> 20999.097 | P35: =(N35)^2 -> 21012.545 | Q35: =M35*N35 -> 21005.82
A36: Tietzen "Oscar" | B36: Wiesenrispengras | C36: =VLOOKUP(A36,'Laboratory A'!A:M,11,0) -> 196 | D36: =_xlfn.RANK.AVG(C36,C$2:C$291,1) -> 241 | E36: =VLOOKUP(A36,'Laboratory A'!A:M,12,0) -> 212 | F36: =_xlfn.RANK.AVG(E36,E$2:E$291,1) -> 242.5 | G36: =D36-F36 -> -1.5 | H36: =G36^2 -> 2.25 | I36: =(C36+E36)/2 -> 204 | J36: =((C36-I36)^2+(E36-I36)^2)/2 -> 64 | K36: =SQRT(J36) -> 8 | L36: =(K36/I36)*100 -> 3.9215686 | M36: =(D36-$D$301) -> 95.910653 | N36: =(F36-$F$301) -> 97.457045 | O36: =(M36)^2 -> 9198.8533 | P36: =(N36)^2 -> 9497.8756 | Q36: =M36*N36 -> 9347.1688
A37: extern | B37: Wiesenrispengras | C37: =VLOOKUP(A37,'Laboratory A'!A:M,11,0) -> 0 | D37: =_xlfn.RANK.AVG(C37,C$2:C$291,1) -> 1 | E37: =VLOOKUP(A37,'Laboratory A'!A:M,12,0) -> 0 | F37: =_xlfn.RANK.AVG(E37,E$2:E$291,1) -> 1 | G37: =D37-F37 -> 0 | H37: =G37^2 -> 0 | I37: =(C37+E37)/2 -> 0 | J37: =((C37-I37)^2+(E37-I37)^2)/2 -> 0 | K37: =SQRT(J37) -> 0 | L37: 0 | M37: =(D37-$D$301) -> -144.08935 | N37: =(F37-$F$301) -> -144.04296 | O37: =(M37)^2 -> 20761.74 | P37: =(N37)^2 -> 20748.373 | Q37: =M37*N37 -> 20755.055
A38: Zeitler "Pinie" | B38: Wiesenrispengras | C38: =VLOOKUP(A38,'Laboratory A'!A:M,11,0) -> 523 | D38: =_xlfn.RANK.AVG(C38,C$2:C$291,1) -> 280 | E38: =VLOOKUP(A38,'Laboratory A'!A:M,12,0) -> 381 | F38: =_xlfn.RANK.AVG(E38,E$2:E$291,1) -> 266 | G38: =D38-F38 -> 14 | H38: =G38^2 -> 196 | I38: =(C38+E38)/2 -> 452 | J38: =((C38-I38)^2+(E38-I38)^2)/2 -> 5041 | K38: =SQRT(J38) -> 71 | L38: =(K38/I38)*100 -> 15.707965 | M38: =(D38-$D$301) -> 134.91065 | N38: =(F38-$F$301) -> 120.95704 | O38: =(M38)^2 -> 18200.884 | P38: =(N38)^2 -> 14630.607 | Q38: =M38*N38 -> 16318.394
A39: Mutscheller "Mira" | B39: Wiesenrispengras | C39: =VLOOKUP(A39,'Laboratory A'!A:M,11,0) -> 492 | D39: =_xlfn.RANK.AVG(C39,C$2:C$291,1) -> 278 | E39: =VLOOKUP(A39,'Laboratory A'!A:M,12,0) -> 595 | F39: =_xlfn.RANK.AVG(E39,E$2:E$291,1) -> 275 | G39: =D39-F39 -> 3 | H39: =G39^2 -> 9 | I39: =(C39+E39)/2 -> 543.5 | J39: =((C39-I39)^2+(E39-I39)^2)/2 -> 2652.25 | K39: =SQRT(J39) -> 51.5 | L39: =(K39/I39)*100 -> 9.475621 | M39: =(D39-$D$301) -> 132.91065 | N39: =(F39-$F$301) -> 129.95704 | O39: =(M39)^2 -> 17665.242 | P39: =(N39)^2 -> 16888.833 | Q39: =M39*N39 -> 17272.676
A40: Kern "Wayty" | B40: Wiesenrispengras | C40: =VLOOKUP(A40,'Laboratory A'!A:M,11,0) -> 83 | D40: =_xlfn.RANK.AVG(C40,C$2:C$291,1) -> 203 | E40: =VLOOKUP(A40,'Laboratory A'!A:M,12,0) -> 265 | F40: =_xlfn.RANK.AVG(E40,E$2:E$291,1) -> 252.5 | G40: =D40-F40 -> -49.5 | H40: =G40^2 -> 2450.25 | I40: =(C40+E40)/2 -> 174 | J40: =((C40-I40)^2+(E40-I40)^2)/2 -> 8281 | K40: =SQRT(J40) -> 91 | L40: =(K40/I40)*100 -> 52.298851 | M40: =(D40-$D$301) -> 57.910653 | N40: =(F40-$F$301) -> 107.45704 | O40: =(M40)^2 -> 3353.6437 | P40: =(N40)^2 -> 11547.016 | Q40: =M40*N40 -> 6222.9076
A41: Lang "Wenzl" | B41: Wiesenrispengras | C41: =VLOOKUP(A41,'Laboratory A'!A:M,11,0) -> 48 | D41: =_xlfn.RANK.AVG(C41,C$2:C$291,1) -> 145.5 | E41: =VLOOKUP(A41,'Laboratory A'!A:M,12,0) -> 55 | F41: =_xlfn.RANK.AVG(E41,E$2:E$291,1) -> 149.5 | G41: =D41-F41 -> -4 | H41: =G41^2 -> 16 | I41: =(C41+E41)/2 -> 51.5 | J41: =((C41-I41)^2+(E41-I41)^2)/2 -> 12.25 | K41: =SQRT(J41) -> 3.5 | L41: =(K41/I41)*100 -> 6.7961165 | M41: =(D41-$D$301) -> 0.41065292 | N41: =(F41-$F$301) -> 4.4570447 | O41: =(M41)^2 -> 0.16863582 | P41: =(N41)^2 -> 19.865247 | Q41: =M41*N41 -> 1.8302984
A42: Engelhardt "Pepa" | B42: Wiesenrispengras | C42: =VLOOKUP(A42,'Laboratory A'!A:M,11,0) -> 40 | D42: =_xlfn.RANK.AVG(C42,C$2:C$291,1) -> 122.5 | E42: =VLOOKUP(A42,'Laboratory A'!A:M,12,0) -> 33 | F42: =_xlfn.RANK.AVG(E42,E$2:E$291,1) -> 92.5 | G42: =D42-F42 -> 30 | H42: =G42^2 -> 900 | I42: =(C42+E42)/2 -> 36.5 | J42: =((C42-I42)^2+(E42-I42)^2)/2 -> 12.25 | K42: =SQRT(J42) -> 3.5 | L42: =(K42/I42)*100 -> 9.5890411 | M42: =(D42-$D$301) -> -22.589347 | N42: =(F42-$F$301) -> -52.542955 | O42: =(M42)^2 -> 510.2786 | P42: =(N42)^2 -> 2760.7622 | Q42: =M42*N42 -> 1186.9111
A43: Valic "Eric" | B43: Hundszahngras (Cynodon dactylon) | C43: =VLOOKUP(A43,'Laboratory A'!A:P,14,0) -> 50 | D43: =_xlfn.RANK.AVG(C43,C$2:C$291,1) -> 148 | E43: =VLOOKUP(A43,'Laboratory A'!A:P,15,0) -> 56 | F43: =_xlfn.RANK.AVG(E43,E$2:E$291,1) -> 154.5 | G43: =D43-F43 -> -6.5 | H43: =G43^2 -> 42.25 | I43: =(C43+E43)/2 -> 53 | J43: =((C43-I43)^2+(E43-I43)^2)/2 -> 9 | K43: =SQRT(J43) -> 3 | L43: =(K43/I43)*100 -> 5.6603774 | M43: =(D43-$D$301) -> 2.9106529 | N43: =(F43-$F$301) -> 9.4570447 | O43: =(M43)^2 -> 8.4719004 | P43: =(N43)^2 -> 89.435694 | Q43: =M43*N43 -> 27.526175
A44: Klenk "Fiete" | B44: Hundszahngras | C44: =VLOOKUP(A44,'Laboratory A'!A:P,14,0) -> 69 | D44: =_xlfn.RANK.AVG(C44,C$2:C$291,1) -> 187.5 | E44: =VLOOKUP(A44,'Laboratory A'!A:P,15,0) -> 60 | F44: =_xlfn.RANK.AVG(E44,E$2:E$291,1) -> 166.5 | G44: =D44-F44 -> 21 | H44: =G44^2 -> 441 | I44: =(C44+E44)/2 -> 64.5 | J44: =((C44-I44)^2+(E44-I44)^2)/2 -> 20.25 | K44: =SQRT(J44) -> 4.5 | L44: =(K44/I44)*100 -> 6.9767442 | M44: =(D44-$D$301) -> 42.410653 | N44: =(F44-$F$301) -> 21.457045 | O44: =(M44)^2 -> 1798.6635 | P44: =(N44)^2 -> 460.40477 | Q44: =M44*N44 -> 910.00727
A45: Pintsch "Lilly" | B45: Hundszahngras | C45: =VLOOKUP(A45,'Laboratory A'!A:P,14,0) -> 812 | D45: =_xlfn.RANK.AVG(C45,C$2:C$291,1) -> 289 | E45: =VLOOKUP(A45,'Laboratory A'!A:P,15,0) -> 763 | F45: =_xlfn.RANK.AVG(E45,E$2:E$291,1) -> 285 | G45: =D45-F45 -> 4 | H45: =G45^2 -> 16 | I45: =(C45+E45)/2 -> 787.5 | J45: =((C45-I45)^2+(E45-I45)^2)/2 -> 600.25 | K45: =SQRT(J45) -> 24.5 | L45: =(K45/I45)*100 -> 3.1111111 | M45: =(D45-$D$301) -> 143.91065 | N45: =(F45-$F$301) -> 139.95704 | O45: =(M45)^2 -> 20710.276 | P45: =(N45)^2 -> 19587.974 | Q45: =M45*N45 -> 20141.31
A46: Funken "Themba" | B46: Hundszahngras | C46: =VLOOKUP(A46,'Laboratory A'!A:P,14,0) -> 729 | D46: =_xlfn.RANK.AVG(C46,C$2:C$291,1) -> 286 | E46: =VLOOKUP(A46,'Laboratory A'!A:P,15,0) -> 725 | F46: =_xlfn.RANK.AVG(E46,E$2:E$291,1) -> 283 | G46: =D46-F46 -> 3 | H46: =G46^2 -> 9 | I46: =(C46+E46)/2 -> 727 | J46: =((C46-I46)^2+(E46-I46)^2)/2 -> 4 | K46: =SQRT(J46) -> 2 | L46: =(K46/I46)*100 -> 0.27510316 | M46: =(D46-$D$301) -> 140.91065 | N46: =(F46-$F$301) -> 137.95704 | O46: =(M46)^2 -> 19855.812 | P46: =(N46)^2 -> 19032.146 | Q46: =M46*N46 -> 19439.617
A47: Tietzen "Oscar" | B47: Hundszahngras | C47: =VLOOKUP(A47,'Laboratory A'!A:P,14,0) -> 219 | D47: =_xlfn.RANK.AVG(C47,C$2:C$291,1) -> 248 | E47: =VLOOKUP(A47,'Laboratory A'!A:P,15,0) -> 182 | F47: =_xlfn.RANK.AVG(E47,E$2:E$291,1) -> 233.5 | G47: =D47-F47 -> 14.5 | H47: =G47^2 -> 210.25 | I47: =(C47+E47)/2 -> 200.5 | J47: =((C47-I47)^2+(E47-I47)^2)/2 -> 342.25 | K47: =SQRT(J47) -> 18.5 | L47: =(K47/I47)*100 -> 9.2269327 | M47: =(D47-$D$301) -> 102.91065 | N47: =(F47-$F$301) -> 88.457045 | O47: =(M47)^2 -> 10590.602 | P47: =(N47)^2 -> 7824.6488 | Q47: =M47*N47 -> 9103.1722
A48: Zeitler "Pinie" | B48: Hundszahngras | C48: =VLOOKUP(A48,'Laboratory A'!A:P,14,0) -> 324 | D48: =_xlfn.RANK.AVG(C48,C$2:C$291,1) -> 264 | E48: =VLOOKUP(A48,'Laboratory A'!A:P,15,0) -> 178 | F48: =_xlfn.RANK.AVG(E48,E$2:E$291,1) -> 231 | G48: =D48-F48 -> 33 | H48: =G48^2 -> 1089 | I48: =(C48+E48)/2 -> 251 | J48: =((C48-I48)^2+(E48-I48)^2)/2 -> 5329 | K48: =SQRT(J48) -> 73 | L48: =(K48/I48)*100 -> 29.083665 | M48: =(D48-$D$301) -> 118.91065 | N48: =(F48-$F$301) -> 85.957045 | O48: =(M48)^2 -> 14139.743 | P48: =(N48)^2 -> 7388.6135 | Q48: =M48*N48 -> 10221.208
A49: Mutscheller "Mira" | B49: Hundszahngras | C49: =VLOOKUP(A49,'Laboratory A'!A:P,14,0) -> 522 | D49: =_xlfn.RANK.AVG(C49,C$2:C$291,1) -> 279 | E49: =VLOOKUP(A49,'Laboratory A'!A:P,15,0) -> 429 | F49: =_xlfn.RANK.AVG(E49,E$2:E$291,1) -> 268 | G49: =D49-F49 -> 11 | H49: =G49^2 -> 121 | I49: =(C49+E49)/2 -> 475.5 | J49: =((C49-I49)^2+(E49-I49)^2)/2 -> 2162.25 | K49: =SQRT(J49) -> 46.5 | L49: =(K49/I49)*100 -> 9.7791798 | M49: =(D49-$D$301) -> 133.91065 | N49: =(F49-$F$301) -> 122.95704 | O49: =(M49)^2 -> 17932.063 | P49: =(N49)^2 -> 15118.435 | Q49: =M49*N49 -> 16465.258
A50: Kern "Wayty" | B50: Hundszahngras | C50: =VLOOKUP(A50,'Laboratory A'!A:P,14,0) -> 221 | D50: =_xlfn.RANK.AVG(C50,C$2:C$291,1) -> 250 | E50: =VLOOKUP(A50,'Laboratory A'!A:P,15,0) -> 278 | F50: =_xlfn.RANK.AVG(E50,E$2:E$291,1) -> 255 | G50: =D50-F50 -> -5 | H50: =G50^2 -> 25 | I50: =(C50+E50)/2 -> 249.5 | J50: =((C50-I50)^2+(E50-I50)^2)/2 -> 812.25 | K50: =SQRT(J50) -> 28.5 | L50: =(K50/I50)*100 -> 11.422846 | M50: =(D50-$D$301) -> 104.91065 | N50: =(F50-$F$301) -> 109.95704 | O50: =(M50)^2 -> 11006.245 | P50: =(N50)^2 -> 12090.552 | Q50: =M50*N50 -> 11535.665
A51: Lang "Wenzl" | B51: Hundszahngras | C51: =VLOOKUP(A51,'Laboratory A'!A:P,14,0) -> 22 | D51: =_xlfn.RANK.AVG(C51,C$2:C$291,1) -> 38.5 | E51: =VLOOKUP(A51,'Laboratory A'!A:P,15,0) -> 43 | F51: =_xlfn.RANK.AVG(E51,E$2:E$291,1) -> 122 | G51: =D51-F51 -> -83.5 | H51: =G51^2 -> 6972.25 | I51: =(C51+E51)/2 -> 32.5 | J51: =((C51-I51)^2+(E51-I51)^2)/2 -> 110.25 | K51: =SQRT(J51) -> 10.5 | L51: =(K51/I51)*100 -> 32.307692 | M51: =(D51-$D$301) -> -106.58935 | N51: =(F51-$F$301) -> -23.042955 | O51: =(M51)^2 -> 11361.289 | P51: =(N51)^2 -> 530.97779 | Q51: =M51*N51 -> 2456.1336
A52: Engelhardt "Pepa" | B52: Hundszahngras | C52: =VLOOKUP(A52,'Laboratory A'!A:P,14,0) -> 28 | D52: =_xlfn.RANK.AVG(C52,C$2:C$291,1) -> 77.5 | E52: =VLOOKUP(A52,'Laboratory A'!A:P,15,0) -> 58 | F52: =_xlfn.RANK.AVG(E52,E$2:E$291,1) -> 161 | G52: =D52-F52 -> -83.5 | H52: =G52^2 -> 6972.25 | I52: =(C52+E52)/2 -> 43 | J52: =((C52-I52)^2+(E52-I52)^2)/2 -> 225 | K52: =SQRT(J52) -> 15 | L52: =(K52/I52)*100 -> 34.883721 | M52: =(D52-$D$301) -> -67.589347 | N52: =(F52-$F$301) -> 15.957045 | O52: =(M52)^2 -> 4568.3198 | P52: =(N52)^2 -> 254.62727 | Q52: =M52*N52 -> -1078.5262
A53: Valic "Eric" | B53: Saat-Hafer (Avena sativa) | C53: =VLOOKUP(A53,'Laboratory A'!A:S,17,0) -> 48 | D53: =_xlfn.RANK.AVG(C53,C$2:C$291,1) -> 145.5 | E53: =VLOOKUP(A53,'Laboratory A'!A:S,18,0) -> 56 | F53: =_xlfn.RANK.AVG(E53,E$2:E$291,1) -> 154.5 | G53: =D53-F53 -> -9 | H53: =G53^2 -> 81 | I53: =(C53+E53)/2 -> 52 | J53: =((C53-I53)^2+(E53-I53)^2)/2 -> 16 | K53: =SQRT(J53) -> 4 | L53: =(K53/I53)*100 -> 7.6923077 | M53: =(D53-$D$301) -> 0.41065292 | N53: =(F53-$F$301) -> 9.4570447 | O53: =(M53)^2 -> 0.16863582 | P53: =(N53)^2 -> 89.435694 | Q53: =M53*N53 -> 3.883563
A54: Klenk "Fiete" | B54: Saat-Hafer | C54: =VLOOKUP(A54,'Laboratory A'!A:S,17,0) -> 10 | D54: =_xlfn.RANK.AVG(C54,C$2:C$291,1) -> 3 | E54: =VLOOKUP(A54,'Laboratory A'!A:S,18,0) -> 59 | F54: =_xlfn.RANK.AVG(E54,E$2:E$291,1) -> 164 | G54: =D54-F54 -> -161 | H54: =G54^2 -> 25921 | I54: =(C54+E54)/2 -> 34.5 | J54: =((C54-I54)^2+(E54-I54)^2)/2 -> 600.25 | K54: =SQRT(J54) -> 24.5 | L54: =(K54/I54)*100 -> 71.014493 | M54: =(D54-$D$301) -> -142.08935 | N54: =(F54-$F$301) -> 18.957045 | O54: =(M54)^2 -> 20189.383 | P54: =(N54)^2 -> 359.36954 | Q54: =M54*N54 -> -2693.5941
A55: Pintsch "Lilly" | B55: Saat-Hafer | C55: =VLOOKUP(A55,'Laboratory A'!A:S,17,0) -> 35 | D55: =_xlfn.RANK.AVG(C55,C$2:C$291,1) -> 112.5 | E55: =VLOOKUP(A55,'Laboratory A'!A:S,18,0) -> 71 | F55: =_xlfn.RANK.AVG(E55,E$2:E$291,1) -> 184.5 | G55: =D55-F55 -> -72 | H55: =G55^2 -> 5184 | I55: =(C55+E55)/2 -> 53 | J55: =((C55-I55)^2+(E55-I55)^2)/2 -> 324 | K55: =SQRT(J55) -> 18 | L55: =(K55/I55)*100 -> 33.962264 | M55: =(D55-$D$301) -> -32.589347 | N55: =(F55-$F$301) -> 39.457045 | O55: =(M55)^2 -> 1062.0655 | P55: =(N55)^2 -> 1556.8584 | Q55: =M55*N55 -> -1285.8793
A56: Funken "Themba" | B56: Saat-Hafer | C56: =VLOOKUP(A56,'Laboratory A'!A:S,17,0) -> 142 | D56: =_xlfn.RANK.AVG(C56,C$2:C$291,1) -> 221 | E56: =VLOOKUP(A56,'Laboratory A'!A:S,18,0) -> 377 | F56: =_xlfn.RANK.AVG(E56,E$2:E$291,1) -> 265 | G56: =D56-F56 -> -44 | H56: =G56^2 -> 1936 | I56: =(C56+E56)/2 -> 259.5 | J56: =((C56-I56)^2+(E56-I56)^2)/2 -> 13806.25 | K56: =SQRT(J56) -> 117.5 | L56: =(K56/I56)*100 -> 45.279383 | M56: =(D56-$D$301) -> 75.910653 | N56: =(F56-$F$301) -> 119.95704 | O56: =(M56)^2 -> 5762.4272 | P56: =(N56)^2 -> 14389.693 | Q56: =M56*N56 -> 9106.0176
A57: Tietzen "Oscar" | B57: Saat-Hafer | C57: =VLOOKUP(A57,'Laboratory A'!A:S,17,0) -> 36 | D57: =_xlfn.RANK.AVG(C57,C$2:C$291,1) -> 116 | E57: =VLOOKUP(A57,'Laboratory A'!A:S,18,0) -> 34 | F57: =_xlfn.RANK.AVG(E57,E$2:E$291,1) -> 98 | G57: =D57-F57 -> 18 | H57: =G57^2 -> 324 | I57: =(C57+E57)/2 -> 35 | J57: =((C57-I57)^2+(E57-I57)^2)/2 -> 1 | K57: =SQRT(J57) -> 1 | L57: =(K57/I57)*100 -> 2.8571429 | M57: =(D57-$D$301) -> -29.089347 | N57: =(F57-$F$301) -> -47.042955 | O57: =(M57)^2 -> 846.19011 | P57: =(N57)^2 -> 2213.0396 | Q57: =M57*N57 -> 1368.4489
A58: Zeitler "Pinie" | B58: Saat-Hafer | C58: =VLOOKUP(A58,'Laboratory A'!A:S,17,0) -> 43 | D58: =_xlfn.RANK.AVG(C58,C$2:C$291,1) -> 128.5 | E58: =VLOOKUP(A58,'Laboratory A'!A:S,18,0) -> 35 | F58: =_xlfn.RANK.AVG(E58,E$2:E$291,1) -> 105 | G58: =D58-F58 -> 23.5 | H58: =G58^2 -> 552.25 | I58: =(C58+E58)/2 -> 39 | J58: =((C58-I58)^2+(E58-I58)^2)/2 -> 16 | K58: =SQRT(J58) -> 4 | L58: =(K58/I58)*100 -> 10.25641 | M58: =(D58-$D$301) -> -16.589347 | N58: =(F58-$F$301) -> -40.042955 | O58: =(M58)^2 -> 275.20644 | P58: =(N58)^2 -> 1603.4383 | Q58: =M58*N58 -> 664.28648
A59: Mutscheller "Mira" | B59: Saat-Hafer | C59: =VLOOKUP(A59,'Laboratory A'!A:S,17,0) -> 47 | D59: =_xlfn.RANK.AVG(C59,C$2:C$291,1) -> 142 | E59: =VLOOKUP(A59,'Laboratory A'!A:S,18,0) -> 37 | F59: =_xlfn.RANK.AVG(E59,E$2:E$291,1) -> 112.5 | G59: =D59-F59 -> 29.5 | H59: =G59^2 -> 870.25 | I59: =(C59+E59)/2 -> 42 | J59: =((C59-I59)^2+(E59-I59)^2)/2 -> 25 | K59: =SQRT(J59) -> 5 | L59: =(K59/I59)*100 -> 11.904762 | M59: =(D59-$D$301) -> -3.0893471 | N59: =(F59-$F$301) -> -32.542955 | O59: =(M59)^2 -> 9.5440654 | P59: =(N59)^2 -> 1059.0439 | Q59: =M59*N59 -> 100.53648
A60: Kern "Wayty" | B60: Saat-Hafer | C60: =VLOOKUP(A60,'Laboratory A'!A:S,17,0) -> 29 | D60: =_xlfn.RANK.AVG(C60,C$2:C$291,1) -> 84 | E60: =VLOOKUP(A60,'Laboratory A'!A:S,18,0) -> 32 | F60: =_xlfn.RANK.AVG(E60,E$2:E$291,1) -> 89 | G60: =D60-F60 -> -5 | H60: =G60^2 -> 25 | I60: =(C60+E60)/2 -> 30.5 | J60: =((C60-I60)^2+(E60-I60)^2)/2 -> 2.25 | K60: =SQRT(J60) -> 1.5 | L60: =(K60/I60)*100 -> 4.9180328 | M60: =(D60-$D$301) -> -61.089347 | N60: =(F60-$F$301) -> -56.042955 | O60: =(M60)^2 -> 3731.9083 | P60: =(N60)^2 -> 3140.8128 | Q60: =M60*N60 -> 3423.6275
A61: Lang "Wenzl" | B61: Saat-Hafer | C61: =VLOOKUP(A61,'Laboratory A'!A:S,17,0) -> 21 | D61: =_xlfn.RANK.AVG(C61,C$2:C$291,1) -> 33.5 | E61: =VLOOKUP(A61,'Laboratory A'!A:S,18,0) -> 19 | F61: =_xlfn.RANK.AVG(E61,E$2:E$291,1) -> 20.5 | G61: =D61-F61 -> 13 | H61: =G61^2 -> 169 | I61: =(C61+E61)/2 -> 20 | J61: =((C61-I61)^2+(E61-I61)^2)/2 -> 1 | K61: =SQRT(J61) -> 1 | L61: =(K61/I61)*100 -> 5 | M61: =(D61-$D$301) -> -111.58935 | N61: =(F61-$F$301) -> -124.54296 | O61: =(M61)^2 -> 12452.182 | P61: =(N61)^2 -> 15510.948 | Q61: =M61*N61 -> 13897.667
A62: Engelhardt "Pepa" | B62: Saat-Hafer | C62: =VLOOKUP(A62,'Laboratory A'!A:S,17,0) -> 54 | D62: =_xlfn.RANK.AVG(C62,C$2:C$291,1) -> 157 | E62: =VLOOKUP(A62,'Laboratory A'!A:S,18,0) -> 58 | F62: =_xlfn.RANK.AVG(E62,E$2:E$291,1) -> 161 | G62: =D62-F62 -> -4 | H62: =G62^2 -> 16 | I62: =(C62+E62)/2 -> 56 | J62: =((C62-I62)^2+(E62-I62)^2)/2 -> 4 | K62: =SQRT(J62) -> 2 | L62: =(K62/I62)*100 -> 3.5714286 | M62: =(D62-$D$301) -> 11.910653 | N62: =(F62-$F$301) -> 15.957045 | O62: =(M62)^2 -> 141.86365 | P62: =(N62)^2 -> 254.62727 | Q62: =M62*N62 -> 190.05882
A63: Valic "Eric" | B63: Roggen (Secale cerela) | C63: =VLOOKUP(A63,'Laboratory A'!A:V,20,0) -> 44 | D63: =_xlfn.RANK.AVG(C63,C$2:C$291,1) -> 131 | E63: =VLOOKUP(A63,'Laboratory A'!A:V,21,0) -> 25 | F63: =_xlfn.RANK.AVG(E63,E$2:E$291,1) -> 53.5 | G63: =D63-F63 -> 77.5 | H63: =G63^2 -> 6006.25 | I63: =(C63+E63)/2 -> 34.5 | J63: =((C63-I63)^2+(E63-I63)^2)/2 -> 90.25 | K63: =SQRT(J63) -> 9.5 | L63: =(K63/I63)*100 -> 27.536232 | M63: =(D63-$D$301) -> -14.089347 | N63: =(F63-$F$301) -> -91.542955 | O63: =(M63)^2 -> 198.5097 | P63: =(N63)^2 -> 8380.1127 | Q63: =M63*N63 -> 1289.7805
A64: Klenk "Fiete" | B64: Roggen | C64: =VLOOKUP(A64,'Laboratory A'!A:V,20,0) -> 34 | D64: =_xlfn.RANK.AVG(C64,C$2:C$291,1) -> 109 | E64: =VLOOKUP(A64,'Laboratory A'!A:V,21,0) -> 63 | F64: =_xlfn.RANK.AVG(E64,E$2:E$291,1) -> 172 | G64: =D64-F64 -> -63 | H64: =G64^2 -> 3969 | I64: =(C64+E64)/2 -> 48.5 | J64: =((C64-I64)^2+(E64-I64)^2)/2 -> 210.25 | K64: =SQRT(J64) -> 14.5 | L64: =(K64/I64)*100 -> 29.896907 | M64: =(D64-$D$301) -> -36.089347 | N64: =(F64-$F$301) -> 26.957045 | O64: =(M64)^2 -> 1302.441 | P64: =(N64)^2 -> 726.68226 | Q64: =M64*N64 -> -972.86214
A65: Pintsch "Lilly" | B65: Roggen | C65: =VLOOKUP(A65,'Laboratory A'!A:V,20,0) -> 82 | D65: =_xlfn.RANK.AVG(C65,C$2:C$291,1) -> 200.5 | E65: =VLOOKUP(A65,'Laboratory A'!A:V,21,0) -> 201 | F65: =_xlfn.RANK.AVG(E65,E$2:E$291,1) -> 238 | G65: =D65-F65 -> -37.5 | H65: =G65^2 -> 1406.25 | I65: =(C65+E65)/2 -> 141.5 | J65: =((C65-I65)^2+(E65-I65)^2)/2 -> 3540.25 | K65: =SQRT(J65) -> 59.5 | L65: =(K65/I65)*100 -> 42.04947 | M65: =(D65-$D$301) -> 55.410653 | N65: =(F65-$F$301) -> 92.957045 | O65: =(M65)^2 -> 3070.3405 | P65: =(N65)^2 -> 8641.0122 | Q65: =M65*N65 -> 5150.8105
A66: Funken "Themba" | B66: Roggen | C66: =VLOOKUP(A66,'Laboratory A'!A:V,20,0) -> 278 | D66: =_xlfn.RANK.AVG(C66,C$2:C$291,1) -> 259 | E66: =VLOOKUP(A66,'Laboratory A'!A:V,21,0) -> 320 | F66: =_xlfn.RANK.AVG(E66,E$2:E$291,1) -> 262 | G66: =D66-F66 -> -3 | H66: =G66^2 -> 9 | I66: =(C66+E66)/2 -> 299 | J66: =((C66-I66)^2+(E66-I66)^2)/2 -> 441 | K66: =SQRT(J66) -> 21 | L66: =(K66/I66)*100 -> 7.0234114 | M66: =(D66-$D$301) -> 113.91065 | N66: =(F66-$F$301) -> 116.95704 | O66: =(M66)^2 -> 12975.637 | P66: =(N66)^2 -> 13678.95 | Q66: =M66*N66 -> 13322.653
A67: Tietzen "Oscar" | B67: Roggen | C67: =VLOOKUP(A67,'Laboratory A'!A:V,20,0) -> 61 | D67: =_xlfn.RANK.AVG(C67,C$2:C$291,1) -> 178 | E67: =VLOOKUP(A67,'Laboratory A'!A:V,21,0) -> 64 | F67: =_xlfn.RANK.AVG(E67,E$2:E$291,1) -> 174 | G67: =D67-F67 -> 4 | H67: =G67^2 -> 16 | I67: =(C67+E67)/2 -> 62.5 | J67: =((C67-I67)^2+(E67-I67)^2)/2 -> 2.25 | K67: =SQRT(J67) -> 1.5 | L67: =(K67/I67)*100 -> 2.4 | M67: =(D67-$D$301) -> 32.910653 | N67: =(F67-$F$301) -> 28.957045 | O67: =(M67)^2 -> 1083.1111 | P67: =(N67)^2 -> 838.51044 | Q67: =M67*N67 -> 952.99525
A68: Zeitler "Pinie" | B68: Roggen | C68: =VLOOKUP(A68,'Laboratory A'!A:V,20,0) -> 158 | D68: =_xlfn.RANK.AVG(C68,C$2:C$291,1) -> 228.5 | E68: =VLOOKUP(A68,'Laboratory A'!A:V,21,0) -> 52 | F68: =_xlfn.RANK.AVG(E68,E$2:E$291,1) -> 142 | G68: =D68-F68 -> 86.5 | H68: =G68^2 -> 7482.25 | I68: =(C68+E68)/2 -> 105 | J68: =((C68-I68)^2+(E68-I68)^2)/2 -> 2809 | K68: =SQRT(J68) -> 53 | L68: =(K68/I68)*100 -> 50.47619 | M68: =(D68-$D$301) -> 83.410653 | N68: =(F68-$F$301) -> -3.0429553 | O68: =(M68)^2 -> 6957.337 | P68: =(N68)^2 -> 9.2595771 | Q68: =M68*N68 -> -253.81489
A69: Mutscheller "Mira" | B69: Roggen | C69: =VLOOKUP(A69,'Laboratory A'!A:V,20,0) -> 105 | D69: =_xlfn.RANK.AVG(C69,C$2:C$291,1) -> 215.5 | E69: =VLOOKUP(A69,'Laboratory A'!A:V,21,0) -> 96 | F69: =_xlfn.RANK.AVG(E69,E$2:E$291,1) -> 204 | G69: =D69-F69 -> 11.5 | H69: =G69^2 -> 132.25 | I69: =(C69+E69)/2 -> 100.5 | J69: =((C69-I69)^2+(E69-I69)^2)/2 -> 20.25 | K69: =SQRT(J69) -> 4.5 | L69: =(K69/I69)*100 -> 4.4776119 | M69: =(D69-$D$301) -> 70.410653 | N69: =(F69-$F$301) -> 58.957045 | O69: =(M69)^2 -> 4957.66 | P69: =(N69)^2 -> 3475.9331 | Q69: =M69*N69 -> 4151.204
A70: Kern "Wayty" | B70: Roggen | C70: =VLOOKUP(A70,'Laboratory A'!A:V,20,0) -> 147 | D70: =_xlfn.RANK.AVG(C70,C$2:C$291,1) -> 222 | E70: =VLOOKUP(A70,'Laboratory A'!A:V,21,0) -> 51 | F70: =_xlfn.RANK.AVG(E70,E$2:E$291,1) -> 139 | G70: =D70-F70 -> 83 | H70: =G70^2 -> 6889 | I70: =(C70+E70)/2 -> 99 | J70: =((C70-I70)^2+(E70-I70)^2)/2 -> 2304 | K70: =SQRT(J70) -> 48 | L70: =(K70/I70)*100 -> 48.484848 | M70: =(D70-$D$301) -> 76.910653 | N70: =(F70-$F$301) -> -6.0429553 | O70: =(M70)^2 -> 5915.2485 | P70: =(N70)^2 -> 36.517309 | Q70: =M70*N70 -> -464.76764
A71: Lang "Wenzl" | B71: Roggen | C71: =VLOOKUP(A71,'Laboratory A'!A:V,20,0) -> 15 | D71: =_xlfn.RANK.AVG(C71,C$2:C$291,1) -> 10 | E71: =VLOOKUP(A71,'Laboratory A'!A:V,21,0) -> 49 | F71: =_xlfn.RANK.AVG(E71,E$2:E$291,1) -> 135 | G71: =D71-F71 -> -125 | H71: =G71^2 -> 15625 | I71: =(C71+E71)/2 -> 32 | J71: =((C71-I71)^2+(E71-I71)^2)/2 -> 289 | K71: =SQRT(J71) -> 17 | L71: =(K71/I71)*100 -> 53.125 | M71: =(D71-$D$301) -> -135.08935 | N71: =(F71-$F$301) -> -10.042955 | O71: =(M71)^2 -> 18249.132 | P71: =(N71)^2 -> 100.86095 | Q71: =M71*N71 -> 1356.6963
A72: Engelhardt "Pepa" | B72: Roggen | C72: =VLOOKUP(A72,'Laboratory A'!A:V,20,0) -> 56 | D72: =_xlfn.RANK.AVG(C72,C$2:C$291,1) -> 162 | E72: =VLOOKUP(A72,'Laboratory A'!A:V,21,0) -> 56 | F72: =_xlfn.RANK.AVG(E72,E$2:E$291,1) -> 154.5 | G72: =D72-F72 -> 7.5 | H72: =G72^2 -> 56.25 | I72: =(C72+E72)/2 -> 56 | J72: =((C72-I72)^2+(E72-I72)^2)/2 -> 0 | K72: =SQRT(J72) -> 0 | L72: =(K72/I72)*100 -> 0 | M72: =(D72-$D$301) -> 16.910653 | N72: =(F72-$F$301) -> 9.4570447 | O72: =(M72)^2 -> 285.97018 | P72: =(N72)^2 -> 89.435694 | Q72: =M72*N72 -> 159.9248
A73: Valic "Eric" | B73: Speisemilbe (Tyrophagus putrescentiae) | C73: =VLOOKUP(A73,'Laboratory A'!A:Y,23,0) -> 61 | D73: =_xlfn.RANK.AVG(C73,C$2:C$291,1) -> 178 | E73: =VLOOKUP(A73,'Laboratory A'!A:Y,24,0) -> 212 | F73: =_xlfn.RANK.AVG(E73,E$2:E$291,1) -> 242.5 | G73: =D73-F73 -> -64.5 | H73: =G73^2 -> 4160.25 | I73: =(C73+E73)/2 -> 136.5 | J73: =((C73-I73)^2+(E73-I73)^2)/2 -> 5700.25 | K73: =SQRT(J73) -> 75.5 | L73: =(K73/I73)*100 -> 55.311355 | M73: =(D73-$D$301) -> 32.910653 | N73: =(F73-$F$301) -> 97.457045 | O73: =(M73)^2 -> 1083.1111 | P73: =(N73)^2 -> 9497.8756 | Q73: =M73*N73 -> 3207.375
A74: Klenk "Fiete" | B74: Speisemilbe | C74: =VLOOKUP(A74,'Laboratory A'!A:Y,23,0) -> 51 | D74: =_xlfn.RANK.AVG(C74,C$2:C$291,1) -> 151.5 | E74: =VLOOKUP(A74,'Laboratory A'!A:Y,24,0) -> 56 | F74: =_xlfn.RANK.AVG(E74,E$2:E$291,1) -> 154.5 | G74: =D74-F74 -> -3 | H74: =G74^2 -> 9 | I74: =(C74+E74)/2 -> 53.5 | J74: =((C74-I74)^2+(E74-I74)^2)/2 -> 6.25 | K74: =SQRT(J74) -> 2.5 | L74: =(K74/I74)*100 -> 4.6728972 | M74: =(D74-$D$301) -> 6.4106529 | N74: =(F74-$F$301) -> 9.4570447 | O74: =(M74)^2 -> 41.096471 | P74: =(N74)^2 -> 89.435694 | Q74: =M74*N74 -> 60.625831
A75: Pintsch "Lilly" | B75: Speisemilbe | C75: =VLOOKUP(A75,'Laboratory A'!A:Y,23,0) -> 456 | D75: =_xlfn.RANK.AVG(C75,C$2:C$291,1) -> 276 | E75: =VLOOKUP(A75,'Laboratory A'!A:Y,24,0) -> 500 | F75: =_xlfn.RANK.AVG(E75,E$2:E$291,1) -> 273 | G75: =D75-F75 -> 3 | H75: =G75^2 -> 9 | I75: =(C75+E75)/2 -> 478 | J75: =((C75-I75)^2+(E75-I75)^2)/2 -> 484 | K75: =SQRT(J75) -> 22 | L75: =(K75/I75)*100 -> 4.6025105 | M75: =(D75-$D$301) -> 130.91065 | N75: =(F75-$F$301) -> 127.95704 | O75: =(M75)^2 -> 17137.599 | P75: =(N75)^2 -> 16373.005 | Q75: =M75*N75 -> 16750.94
A76: Funken "Themba" | B76: Speisemilbe | C76: =VLOOKUP(A76,'Laboratory A'!A:Y,23,0) -> 455 | D76: =_xlfn.RANK.AVG(C76,C$2:C$291,1) -> 275 | E76: =VLOOKUP(A76,'Laboratory A'!A:Y,24,0) -> 494 | F76: =_xlfn.RANK.AVG(E76,E$2:E$291,1) -> 271 | G76: =D76-F76 -> 4 | H76: =G76^2 -> 16 | I76: =(C76+E76)/2 -> 474.5 | J76: =((C76-I76)^2+(E76-I76)^2)/2 -> 380.25 | K76: =SQRT(J76) -> 19.5 | L76: =(K76/I76)*100 -> 4.109589 | M76: =(D76-$D$301) -> 129.91065 | N76: =(F76-$F$301) -> 125.95704 | O76: =(M76)^2 -> 16876.778 | P76: =(N76)^2 -> 15865.177 | Q76: =M76*N76 -> 16363.162
A77: Tietzen "Oscar" | B77: Speisemilbe | C77: =VLOOKUP(A77,'Laboratory A'!A:Y,23,0) -> 411 | D77: =_xlfn.RANK.AVG(C77,C$2:C$291,1) -> 270 | E77: =VLOOKUP(A77,'Laboratory A'!A:Y,24,0) -> 258 | F77: =_xlfn.RANK.AVG(E77,E$2:E$291,1) -> 251 | G77: =D77-F77 -> 19 | H77: =G77^2 -> 361 | I77: =(C77+E77)/2 -> 334.5 | J77: =((C77-I77)^2+(E77-I77)^2)/2 -> 5852.25 | K77: =SQRT(J77) -> 76.5 | L77: =(K77/I77)*100 -> 22.869955 | M77: =(D77-$D$301) -> 124.91065 | N77: =(F77-$F$301) -> 105.95704 | O77: =(M77)^2 -> 15602.671 | P77: =(N77)^2 -> 11226.895 | Q77: =M77*N77 -> 13235.164
A78: Zeitler "Pinie" | B78: Speisemilbe | C78: =VLOOKUP(A78,'Laboratory A'!A:Y,23,0) -> 187 | D78: =_xlfn.RANK.AVG(C78,C$2:C$291,1) -> 240 | E78: =VLOOKUP(A78,'Laboratory A'!A:Y,24,0) -> 908 | F78: =_xlfn.RANK.AVG(E78,E$2:E$291,1) -> 288 | G78: =D78-F78 -> -48 | H78: =G78^2 -> 2304 | I78: =(C78+E78)/2 -> 547.5 | J78: =((C78-I78)^2+(E78-I78)^2)/2 -> 129960.25 | K78: =SQRT(J78) -> 360.5 | L78: =(K78/I78)*100 -> 65.844749 | M78: =(D78-$D$301) -> 94.910653 | N78: =(F78-$F$301) -> 142.95704 | O78: =(M78)^2 -> 9008.032 | P78: =(N78)^2 -> 20436.717 | Q78: =M78*N78 -> 13568.146
A79: Mutscheller "Mira" | B79: Speisemilbe | C79: =VLOOKUP(A79,'Laboratory A'!A:Y,23,0) -> 618 | D79: =_xlfn.RANK.AVG(C79,C$2:C$291,1) -> 284 | E79: =VLOOKUP(A79,'Laboratory A'!A:Y,24,0) -> 497 | F79: =_xlfn.RANK.AVG(E79,E$2:E$291,1) -> 272 | G79: =D79-F79 -> 12 | H79: =G79^2 -> 144 | I79: =(C79+E79)/2 -> 557.5 | J79: =((C79-I79)^2+(E79-I79)^2)/2 -> 3660.25 | K79: =SQRT(J79) -> 60.5 | L79: =(K79/I79)*100 -> 10.852018 | M79: =(D79-$D$301) -> 138.91065 | N79: =(F79-$F$301) -> 126.95704 | O79: =(M79)^2 -> 19296.169 | P79: =(N79)^2 -> 16118.091 | Q79: =M79*N79 -> 17635.686
A80: Kern "Wayty" | B80: Speisemilbe | C80: =VLOOKUP(A80,'Laboratory A'!A:Y,23,0) -> 56 | D80: =_xlfn.RANK.AVG(C80,C$2:C$291,1) -> 162 | E80: =VLOOKUP(A80,'Laboratory A'!A:Y,24,0) -> 52 | F80: =_xlfn.RANK.AVG(E80,E$2:E$291,1) -> 142 | G80: =D80-F80 -> 20 | H80: =G80^2 -> 400 | I80: =(C80+E80)/2 -> 54 | J80: =((C80-I80)^2+(E80-I80)^2)/2 -> 4 | K80: =SQRT(J80) -> 2 | L80: =(K80/I80)*100 -> 3.7037037 | M80: =(D80-$D$301) -> 16.910653 | N80: =(F80-$F$301) -> -3.0429553 | O80: =(M80)^2 -> 285.97018 | P80: =(N80)^2 -> 9.2595771 | Q80: =M80*N80 -> -51.458361
A81: Lang "Wenzl" | B81: Speisemilbe | C81: =VLOOKUP(A81,'Laboratory A'!A:Y,23,0) -> 33 | D81: =_xlfn.RANK.AVG(C81,C$2:C$291,1) -> 105.5 | E81: =VLOOKUP(A81,'Laboratory A'!A:Y,24,0) -> 30 | F81: =_xlfn.RANK.AVG(E81,E$2:E$291,1) -> 77.5 | G81: =D81-F81 -> 28 | H81: =G81^2 -> 784 | I81: =(C81+E81)/2 -> 31.5 | J81: =((C81-I81)^2+(E81-I81)^2)/2 -> 2.25 | K81: =SQRT(J81) -> 1.5 | L81: =(K81/I81)*100 -> 4.7619048 | M81: =(D81-$D$301) -> -39.589347 | N81: =(F81-$F$301) -> -67.542955 | O81: =(M81)^2 -> 1567.3164 | P81: =(N81)^2 -> 4562.0508 | Q81: =M81*N81 -> 2673.9815
A82: Engelhardt "Pepa" | B82: Speisemilbe | C82: =VLOOKUP(A82,'Laboratory A'!A:Y,23,0) -> 27 | D82: =_xlfn.RANK.AVG(C82,C$2:C$291,1) -> 70.5 | E82: =VLOOKUP(A82,'Laboratory A'!A:Y,24,0) -> 37 | F82: =_xlfn.RANK.AVG(E82,E$2:E$291,1) -> 112.5 | G82: =D82-F82 -> -42 | H82: =G82^2 -> 1764 | I82: =(C82+E82)/2 -> 32 | J82: =((C82-I82)^2+(E82-I82)^2)/2 -> 25 | K82: =SQRT(J82) -> 5 | L82: =(K82/I82)*100 -> 15.625 | M82: =(D82-$D$301) -> -74.589347 | N82: =(F82-$F$301) -> -32.542955 | O82: =(M82)^2 -> 5563.5707 | P82: =(N82)^2 -> 1059.0439 | Q82: =M82*N82 -> 2427.3578
A83: Valic "Eric" | B83: Am. Hausstaubmilbe (D. farinae) | C83: =VLOOKUP(A83,'Laboratory A'!A:AB,26,0) -> 28 | D83: =_xlfn.RANK.AVG(C83,C$2:C$291,1) -> 77.5 | E83: =VLOOKUP(A83,'Laboratory A'!A:AB,27,0) -> 48 | F83: =_xlfn.RANK.AVG(E83,E$2:E$291,1) -> 131.5 | G83: =D83-F83 -> -54 | H83: =G83^2 -> 2916 | I83: =(C83+E83)/2 -> 38 | J83: =((C83-I83)^2+(E83-I83)^2)/2 -> 100 | K83: =SQRT(J83) -> 10 | L83: =(K83/I83)*100 -> 26.315789 | M83: =(D83-$D$301) -> -67.589347 | N83: =(F83-$F$301) -> -13.542955 | O83: =(M83)^2 -> 4568.3198 | P83: =(N83)^2 -> 183.41164 | Q83: =M83*N83 -> 915.35951
A84: Klenk "Fiete" | B84: Am. Hausstaubmilbe | C84: =VLOOKUP(A84,'Laboratory A'!A:AB,26,0) -> 32 | D84: =_xlfn.RANK.AVG(C84,C$2:C$291,1) -> 100.5 | E84: =VLOOKUP(A84,'Laboratory A'!A:AB,27,0) -> 41 | F84: =_xlfn.RANK.AVG(E84,E$2:E$291,1) -> 119 | G84: =D84-F84 -> -18.5 | H84: =G84^2 -> 342.25 | I84: =(C84+E84)/2 -> 36.5 | J84: =((C84-I84)^2+(E84-I84)^2)/2 -> 20.25 | K84: =SQRT(J84) -> 4.5 | L84: =(K84/I84)*100 -> 12.328767 | M84: =(D84-$D$301) -> -44.589347 | N84: =(F84-$F$301) -> -26.042955 | O84: =(M84)^2 -> 1988.2099 | P84: =(N84)^2 -> 678.23552 | Q84: =M84*N84 -> 1161.2384
A85: Pintsch "Lilly" | B85: Am. Hausstaubmilbe | C85: =VLOOKUP(A85,'Laboratory A'!A:AB,26,0) -> 199 | D85: =_xlfn.RANK.AVG(C85,C$2:C$291,1) -> 242 | E85: =VLOOKUP(A85,'Laboratory A'!A:AB,27,0) -> 207 | F85: =_xlfn.RANK.AVG(E85,E$2:E$291,1) -> 241 | G85: =D85-F85 -> 1 | H85: =G85^2 -> 1 | I85: =(C85+E85)/2 -> 203 | J85: =((C85-I85)^2+(E85-I85)^2)/2 -> 16 | K85: =SQRT(J85) -> 4 | L85: =(K85/I85)*100 -> 1.9704433 | M85: =(D85-$D$301) -> 96.910653 | N85: =(F85-$F$301) -> 95.957045 | O85: =(M85)^2 -> 9391.6746 | P85: =(N85)^2 -> 9207.7544 | Q85: =M85*N85 -> 9299.2599
A86: Funken "Themba" | B86: Am. Hausstaubmilbe | C86: =VLOOKUP(A86,'Laboratory A'!A:AB,26,0) -> 281 | D86: =_xlfn.RANK.AVG(C86,C$2:C$291,1) -> 261 | E86: =VLOOKUP(A86,'Laboratory A'!A:AB,27,0) -> 279 | F86: =_xlfn.RANK.AVG(E86,E$2:E$291,1) -> 256 | G86: =D86-F86 -> 5 | H86: =G86^2 -> 25 | I86: =(C86+E86)/2 -> 280 | J86: =((C86-I86)^2+(E86-I86)^2)/2 -> 1 | K86: =SQRT(J86) -> 1 | L86: =(K86/I86)*100 -> 0.35714286 | M86: =(D86-$D$301) -> 115.91065 | N86: =(F86-$F$301) -> 110.95704 | O86: =(M86)^2 -> 13435.279 | P86: =(N86)^2 -> 12311.466 | Q86: =M86*N86 -> 12861.103
A87: Tietzen "Oscar" | B87: Am. Hausstaubmilbe | C87: =VLOOKUP(A87,'Laboratory A'!A:AB,26,0) -> 257 | D87: =_xlfn.RANK.AVG(C87,C$2:C$291,1) -> 256 | E87: =VLOOKUP(A87,'Laboratory A'!A:AB,27,0) -> 272 | F87: =_xlfn.RANK.AVG(E87,E$2:E$291,1) -> 254 | G87: =D87-F87 -> 2 | H87: =G87^2 -> 4 | I87: =(C87+E87)/2 -> 264.5 | J87: =((C87-I87)^2+(E87-I87)^2)/2 -> 56.25 | K87: =SQRT(J87) -> 7.5 | L87: =(K87/I87)*100 -> 2.8355388 | M87: =(D87-$D$301) -> 110.91065 | N87: =(F87-$F$301) -> 108.95704 | O87: =(M87)^2 -> 12301.173 | P87: =(N87)^2 -> 11871.638 | Q87: =M87*N87 -> 12084.497
A88: Zeitler "Pinie" | B88: Am. Hausstaubmilbe | C88: =VLOOKUP(A88,'Laboratory A'!A:AB,26,0) -> 27 | D88: =_xlfn.RANK.AVG(C88,C$2:C$291,1) -> 70.5 | E88: =VLOOKUP(A88,'Laboratory A'!A:AB,27,0) -> 302 | F88: =_xlfn.RANK.AVG(E88,E$2:E$291,1) -> 260 | G88: =D88-F88 -> -189.5 | H88: =G88^2 -> 35910.25 | I88: =(C88+E88)/2 -> 164.5 | J88: =((C88-I88)^2+(E88-I88)^2)/2 -> 18906.25 | K88: =SQRT(J88) -> 137.5 | L88: =(K88/I88)*100 -> 83.586626 | M88: =(D88-$D$301) -> -74.589347 | N88: =(F88-$F$301) -> 114.95704 | O88: =(M88)^2 -> 5563.5707 | P88: =(N88)^2 -> 13215.122 | Q88: =M88*N88 -> -8574.5709
A89: Mutscheller "Mira" | B89: Am. Hausstaubmilbe | C89: =VLOOKUP(A89,'Laboratory A'!A:AB,26,0) -> 279 | D89: =_xlfn.RANK.AVG(C89,C$2:C$291,1) -> 260 | E89: =VLOOKUP(A89,'Laboratory A'!A:AB,27,0) -> 468 | F89: =_xlfn.RANK.AVG(E89,E$2:E$291,1) -> 269.5 | G89: =D89-F89 -> -9.5 | H89: =G89^2 -> 90.25 | I89: =(C89+E89)/2 -> 373.5 | J89: =((C89-I89)^2+(E89-I89)^2)/2 -> 8930.25 | K89: =SQRT(J89) -> 94.5 | L89: =(K89/I89)*100 -> 25.301205 | M89: =(D89-$D$301) -> 114.91065 | N89: =(F89-$F$301) -> 124.45704 | O89: =(M89)^2 -> 13204.458 | P89: =(N89)^2 -> 15489.556 | Q89: =M89*N89 -> 14301.44
A90: Kern "Wayty" | B90: Am. Hausstaubmilbe | C90: =VLOOKUP(A90,'Laboratory A'!A:AB,26,0) -> 34 | D90: =_xlfn.RANK.AVG(C90,C$2:C$291,1) -> 109 | E90: =VLOOKUP(A90,'Laboratory A'!A:AB,27,0) -> 35 | F90: =_xlfn.RANK.AVG(E90,E$2:E$291,1) -> 105 | G90: =D90-F90 -> 4 | H90: =G90^2 -> 16 | I90: =(C90+E90)/2 -> 34.5 | J90: =((C90-I90)^2+(E90-I90)^2)/2 -> 0.25 | K90: =SQRT(J90) -> 0.5 | L90: =(K90/I90)*100 -> 1.4492754 | M90: =(D90-$D$301) -> -36.089347 | N90: =(F90-$F$301) -> -40.042955 | O90: =(M90)^2 -> 1302.441 | P90: =(N90)^2 -> 1603.4383 | Q90: =M90*N90 -> 1445.1241
A91: Lang "Wenzl" | B91: Am. Hausstaubmilbe | C91: =VLOOKUP(A91,'Laboratory A'!A:AB,26,0) -> 10 | D91: =_xlfn.RANK.AVG(C91,C$2:C$291,1) -> 3 | E91: =VLOOKUP(A91,'Laboratory A'!A:AB,27,0) -> 33 | F91: =_xlfn.RANK.AVG(E91,E$2:E$291,1) -> 92.5 | G91: =D91-F91 -> -89.5 | H91: =G91^2 -> 8010.25 | I91: =(C91+E91)/2 -> 21.5 | J91: =((C91-I91)^2+(E91-I91)^2)/2 -> 132.25 | K91: =SQRT(J91) -> 11.5 | L91: =(K91/I91)*100 -> 53.488372 | M91: =(D91-$D$301) -> -142.08935 | N91: =(F91-$F$301) -> -52.542955 | O91: =(M91)^2 -> 20189.383 | P91: =(N91)^2 -> 2760.7622 | Q91: =M91*N91 -> 7465.7942
A92: Engelhardt "Pepa" | B92: Am. Hausstaubmilbe | C92: =VLOOKUP(A92,'Laboratory A'!A:AB,26,0) -> 25 | D92: =_xlfn.RANK.AVG(C92,C$2:C$291,1) -> 55.5 | E92: =VLOOKUP(A92,'Laboratory A'!A:AB,27,0) -> 27 | F92: =_xlfn.RANK.AVG(E92,E$2:E$291,1) -> 64 | G92: =D92-F92 -> -8.5 | H92: =G92^2 -> 72.25 | I92: =(C92+E92)/2 -> 26 | J92: =((C92-I92)^2+(E92-I92)^2)/2 -> 1 | K92: =SQRT(J92) -> 1 | L92: =(K92/I92)*100 -> 3.8461538 | M92: =(D92-$D$301) -> -89.589347 | N92: =(F92-$F$301) -> -81.042955 | O92: =(M92)^2 -> 8026.2511 | P92: =(N92)^2 -> 6567.9606 | Q92: =M92*N92 -> 7260.5855
A93: Valic "Eric" | B93: Heumilbe (Lepidoglyphus destructor) | C93: =VLOOKUP(A93,'Laboratory A'!A:AE,29,0) -> 56 | D93: =_xlfn.RANK.AVG(C93,C$2:C$291,1) -> 162 | E93: =VLOOKUP(A93,'Laboratory A'!A:AE,30,0) -> 43 | F93: =_xlfn.RANK.AVG(E93,E$2:E$291,1) -> 122 | G93: =D93-F93 -> 40 | H93: =G93^2 -> 1600 | I93: =(C93+E93)/2 -> 49.5 | J93: =((C93-I93)^2+(E93-I93)^2)/2 -> 42.25 | K93: =SQRT(J93) -> 6.5 | L93: =(K93/I93)*100 -> 13.131313 | M93: =(D93-$D$301) -> 16.910653 | N93: =(F93-$F$301) -> -23.042955 | O93: =(M93)^2 -> 285.97018 | P93: =(N93)^2 -> 530.97779 | Q93: =M93*N93 -> -389.67142
A94: Klenk "Fiete" | B94: Heumilbe | C94: =VLOOKUP(A94,'Laboratory A'!A:AE,29,0) -> 29 | D94: =_xlfn.RANK.AVG(C94,C$2:C$291,1) -> 84 | E94: =VLOOKUP(A94,'Laboratory A'!A:AE,30,0) -> 24 | F94: =_xlfn.RANK.AVG(E94,E$2:E$291,1) -> 46 | G94: =D94-F94 -> 38 | H94: =G94^2 -> 1444 | I94: =(C94+E94)/2 -> 26.5 | J94: =((C94-I94)^2+(E94-I94)^2)/2 -> 6.25 | K94: =SQRT(J94) -> 2.5 | L94: =(K94/I94)*100 -> 9.4339623 | M94: =(D94-$D$301) -> -61.089347 | N94: =(F94-$F$301) -> -99.042955 | O94: =(M94)^2 -> 3731.9083 | P94: =(N94)^2 -> 9809.507 | Q94: =M94*N94 -> 6050.4695
A95: Pintsch "Lilly" | B95: Heumilbe | C95: =VLOOKUP(A95,'Laboratory A'!A:AE,29,0) -> 29 | D95: =_xlfn.RANK.AVG(C95,C$2:C$291,1) -> 84 | E95: =VLOOKUP(A95,'Laboratory A'!A:AE,30,0) -> 29 | F95: =_xlfn.RANK.AVG(E95,E$2:E$291,1) -> 71.5 | G95: =D95-F95 -> 12.5 | H95: =G95^2 -> 156.25 | I95: =(C95+E95)/2 -> 29 | J95: =((C95-I95)^2+(E95-I95)^2)/2 -> 0 | K95: =SQRT(J95) -> 0 | L95: =(K95/I95)*100 -> 0 | M95: =(D95-$D$301) -> -61.089347 | N95: =(F95-$F$301) -> -73.542955 | O95: =(M95)^2 -> 3731.9083 | P95: =(N95)^2 -> 5408.5663 | Q95: =M95*N95 -> 4492.6911
A96: Funken "Themba" | B96: Heumilbe | C96: =VLOOKUP(A96,'Laboratory A'!A:AE,29,0) -> 39 | D96: =_xlfn.RANK.AVG(C96,C$2:C$291,1) -> 120 | E96: =VLOOKUP(A96,'Laboratory A'!A:AE,30,0) -> 40 | F96: =_xlfn.RANK.AVG(E96,E$2:E$291,1) -> 117 | G96: =D96-F96 -> 3 | H96: =G96^2 -> 9 | I96: =(C96+E96)/2 -> 39.5 | J96: =((C96-I96)^2+(E96-I96)^2)/2 -> 0.25 | K96: =SQRT(J96) -> 0.5 | L96: =(K96/I96)*100 -> 1.2658228 | M96: =(D96-$D$301) -> -25.089347 | N96: =(F96-$F$301) -> -28.042955 | O96: =(M96)^2 -> 629.47534 | P96: =(N96)^2 -> 786.40734 | Q96: =M96*N96 -> 703.57944
A97: Tietzen "Oscar" | B97: Heumilbe | C97: =VLOOKUP(A97,'Laboratory A'!A:AE,29,0) -> 22 | D97: =_xlfn.RANK.AVG(C97,C$2:C$291,1) -> 38.5 | E97: =VLOOKUP(A97,'Laboratory A'!A:AE,30,0) -> 28 | F97: =_xlfn.RANK.AVG(E97,E$2:E$291,1) -> 67.5 | G97: =D97-F97 -> -29 | H97: =G97^2 -> 841 | I97: =(C97+E97)/2 -> 25 | J97: =((C97-I97)^2+(E97-I97)^2)/2 -> 9 | K97: =SQRT(J97) -> 3 | L97: =(K97/I97)*100 -> 12 | M97: =(D97-$D$301) -> -106.58935 | N97: =(F97-$F$301) -> -77.542955 | O97: =(M97)^2 -> 11361.289 | P97: =(N97)^2 -> 6012.9099 | Q97: =M97*N97 -> 8265.253
A98: Zeitler "Pinie" | B98: Heumilbe | C98: =VLOOKUP(A98,'Laboratory A'!A:AE,29,0) -> 17 | D98: =_xlfn.RANK.AVG(C98,C$2:C$291,1) -> 19 | E98: =VLOOKUP(A98,'Laboratory A'!A:AE,30,0) -> 23 | F98: =_xlfn.RANK.AVG(E98,E$2:E$291,1) -> 42 | G98: =D98-F98 -> -23 | H98: =G98^2 -> 529 | I98: =(C98+E98)/2 -> 20 | J98: =((C98-I98)^2+(E98-I98)^2)/2 -> 9 | K98: =SQRT(J98) -> 3 | L98: =(K98/I98)*100 -> 15 | M98: =(D98-$D$301) -> -126.08935 | N98: =(F98-$F$301) -> -103.04296 | O98: =(M98)^2 -> 15898.523 | P98: =(N98)^2 -> 10617.851 | Q98: =M98*N98 -> 12992.619
A99: Mutscheller "Mira" | B99: Heumilbe | C99: =VLOOKUP(A99,'Laboratory A'!A:AE,29,0) -> 40 | D99: =_xlfn.RANK.AVG(C99,C$2:C$291,1) -> 122.5 | E99: =VLOOKUP(A99,'Laboratory A'!A:AE,30,0) -> 31 | F99: =_xlfn.RANK.AVG(E99,E$2:E$291,1) -> 84 | G99: =D99-F99 -> 38.5 | H99: =G99^2 -> 1482.25 | I99: =(C99+E99)/2 -> 35.5 | J99: =((C99-I99)^2+(E99-I99)^2)/2 -> 20.25 | K99: =SQRT(J99) -> 4.5 | L99: =(K99/I99)*100 -> 12.676056 | M99: =(D99-$D$301) -> -22.589347 | N99: =(F99-$F$301) -> -61.042955 | O99: =(M99)^2 -> 510.2786 | P99: =(N99)^2 -> 3726.2424 | Q99: =M99*N99 -> 1378.9205
A100: Kern "Wayty" | B100: Heumilbe | C100: =VLOOKUP(A100,'Laboratory A'!A:AE,29,0) -> 66 | D100: =_xlfn.RANK.AVG(C100,C$2:C$291,1) -> 184 | E100: =VLOOKUP(A100,'Laboratory A'!A:AE,30,0) -> 19 | F100: =_xlfn.RANK.AVG(E100,E$2:E$291,1) -> 20.5 | G100: =D100-F100 -> 163.5 | H100: =G100^2 -> 26732.25 | I100: =(C100+E100)/2 -> 42.5 | J100: =((C100-I100)^2+(E100-I100)^2)/2 -> 552.25 | K100: =SQRT(J100) -> 23.5 | L100: =(K100/I100)*100 -> 55.294118 | M100: =(D100-$D$301) -> 38.910653 | N100: =(F100-$F$301) -> -124.54296 | O100: =(M100)^2 -> 1514.0389 | P100: =(N100)^2 -> 15510.948 | Q100: =M100*N100 -> -4846.0477
...

Sheet Spearman rank Laboratory A, 1-3
A1: Hund (Dog) | B1: Allergen | C1: Wert 1 (Value 1) | D1: Rang,x (Rank,x) | E1: Wert 2 (Value 2) | F1: Rang,y (Rank,y) | G1: Diff (d) | H1: d^2 | I1: Mittelwert (mean value) | J1: Varianz (Variance) | K1: Standabw (Standard deviation) | L1: Variationskoeff. In % (Coefficient of variation in %) | M1: Subtraktion x (Subtraction x) | N1: Subtraktion y (Subtraction y) | O1: Subtraktion x^2 (subtraction x^2) | P1: Subtraktion y^2 (Subtraction y^2) | Q1: Multiplikation (Multiplication)
A2: Valic "Eric" | B2: Wiesenknäuelgras (Dactylis glomerata) | C2: =VLOOKUP(A2,'Laboratory A'!A:D,2,0) -> 51 | D2: =_xlfn.RANK.AVG(C2,C$2:C$291,1) -> 129.5 | E2: =VLOOKUP(A2,'Laboratory A'!A:D,4,0) -> 49 | F2: =_xlfn.RANK.AVG(E2,E$2:E$291,1) -> 108.5 | G2: =D2-F2 -> 21 | H2: =G2^2 -> 441 | I2: =(C2+E2)/2 -> 50 | J2: =((C2-I2)^2+(E2-I2)^2)/2 -> 1 | K2: =SQRT(J2) -> 1 | L2: =(K2/I2)*100 -> 2 | M2: =(D2-$D$295) -> -2 | N2: =(M2)^2 -> 4 | O2: =(F2-$F$295) -> -23 | P2: =(O2)^2 -> 529 | Q2: =(M2*O2) -> 46
A3: Klenk "Fiete" | B3: Wiesenknäuelgras | C3: =VLOOKUP(A3,'Laboratory A'!A:D,2,0) -> 61 | D3: =_xlfn.RANK.AVG(C3,C$2:C$291,1) -> 152 | E3: =VLOOKUP(A3,'Laboratory A'!A:D,4,0) -> 54 | F3: =_xlfn.RANK.AVG(E3,E$2:E$291,1) -> 120.5 | G3: =D3-F3 -> 31.5 | H3: =G3^2 -> 992.25 | I3: =(C3+E3)/2 -> 57.5 | J3: =((C3-I3)^2+(E3-I3)^2)/2 -> 12.25 | K3: =SQRT(J3) -> 3.5 | L3: =(K3/I3)*100 -> 6.0869565 | M3: =(D3-$D$295) -> 20.5 | N3: =(M3)^2 -> 420.25 | O3: =(F3-$F$295) -> -11 | P3: =(O3)^2 -> 121 | Q3: =(M3*O3) -> -225.5
A4: Pintsch "Lilly" | B4: Wiesenknäuelgras | C4: =VLOOKUP(A4,'Laboratory A'!A:D,2,0) -> 36 | D4: =_xlfn.RANK.AVG(C4,C$2:C$291,1) -> 95 | E4: =VLOOKUP(A4,'Laboratory A'!A:D,4,0) -> 34 | F4: =_xlfn.RANK.AVG(E4,E$2:E$291,1) -> 80.5 | G4: =D4-F4 -> 14.5 | H4: =G4^2 -> 210.25 | I4: =(C4+E4)/2 -> 35 | J4: =((C4-I4)^2+(E4-I4)^2)/2 -> 1 | K4: =SQRT(J4) -> 1 | L4: =(K4/I4)*100 -> 2.8571429 | M4: =(D4-$D$295) -> -36.5 | N4: =(M4)^2 -> 1332.25 | O4: =(F4-$F$295) -> -51 | P4: =(O4)^2 -> 2601 | Q4: =(M4*O4) -> 1861.5
A5: Funken "Themba" | B5: Wiesenknäuelgras | C5: =VLOOKUP(A5,'Laboratory A'!A:D,2,0) -> 425 | D5: =_xlfn.RANK.AVG(C5,C$2:C$291,1) -> 244 | E5: =VLOOKUP(A5,'Laboratory A'!A:D,4,0) -> 374 | F5: =_xlfn.RANK.AVG(E5,E$2:E$291,1) -> 239.5 | G5: =D5-F5 -> 4.5 | H5: =G5^2 -> 20.25 | I5: =(C5+E5)/2 -> 399.5 | J5: =((C5-I5)^2+(E5-I5)^2)/2 -> 650.25 | K5: =SQRT(J5) -> 25.5 | L5: =(K5/I5)*100 -> 6.3829787 | M5: =(D5-$D$295) -> 112.5 | N5: =(M5)^2 -> 12656.25 | O5: =(F5-$F$295) -> 108 | P5: =(O5)^2 -> 11664 | Q5: =(M5*O5) -> 12150
A6: Tietzen "Oscar" | B6: Wiesenknäuelgras | C6: =VLOOKUP(A6,'Laboratory A'!A:D,2,0) -> 154 | D6: =_xlfn.RANK.AVG(C6,C$2:C$291,1) -> 196.5 | E6: =VLOOKUP(A6,'Laboratory A'!A:D,4,0) -> 189 | F6: =_xlfn.RANK.AVG(E6,E$2:E$291,1) -> 209 | G6: =D6-F6 -> -12.5 | H6: =G6^2 -> 156.25 | I6: =(C6+E6)/2 -> 171.5 | J6: =((C6-I6)^2+(E6-I6)^2)/2 -> 306.25 | K6: =SQRT(J6) -> 17.5 | L6: =(K6/I6)*100 -> 10.204082 | M6: =(D6-$D$295) -> 65 | N6: =(M6)^2 -> 4225 | O6: =(F6-$F$295) -> 77.5 | P6: =(O6)^2 -> 6006.25 | Q6: =(M6*O6) -> 5037.5
A7: Zeitler "Pinie" | B7: Wiesenknäuelgras | C7: =VLOOKUP(A7,'Laboratory A'!A:D,2,0) -> 269 | D7: =_xlfn.RANK.AVG(C7,C$2:C$291,1) -> 230 | E7: =VLOOKUP(A7,'Laboratory A'!A:D,4,0) -> 165 | F7: =_xlfn.RANK.AVG(E7,E$2:E$291,1) -> 203 | G7: =D7-F7 -> 27 | H7: =G7^2 -> 729 | I7: =(C7+E7)/2 -> 217 | J7: =((C7-I7)^2+(E7-I7)^2)/2 -> 2704 | K7: =SQRT(J7) -> 52 | L7: =(K7/I7)*100 -> 23.963134 | M7: =(D7-$D$295) -> 98.5 | N7: =(M7)^2 -> 9702.25 | O7: =(F7-$F$295) -> 71.5 | P7: =(O7)^2 -> 5112.25 | Q7: =(M7*O7) -> 7042.75
A8: Mutscheller "Mira" | B8: Wiesenknäuelgras | C8: =VLOOKUP(A8,'Laboratory A'!A:D,2,0) -> 172 | D8: =_xlfn.RANK.AVG(C8,C$2:C$291,1) -> 204 | E8: =VLOOKUP(A8,'Laboratory A'!A:D,4,0) -> 26 | F8: =_xlfn.RANK.AVG(E8,E$2:E$291,1) -> 44.5 | G8: =D8-F8 -> 159.5 | H8: =G8^2 -> 25440.25 | I8: =(C8+E8)/2 -> 99 | J8: =((C8-I8)^2+(E8-I8)^2)/2 -> 5329 | K8: =SQRT(J8) -> 73 | L8: =(K8/I8)*100 -> 73.737374 | M8: =(D8-$D$295) -> 72.5 | N8: =(M8)^2 -> 5256.25 | O8: =(F8-$F$295) -> -87 | P8: =(O8)^2 -> 7569 | Q8: =(M8*O8) -> -6307.5
A9: Kern "Wayty" | B9: Wiesenknäuelgras | C9: =VLOOKUP(A9,'Laboratory A'!A:D,2,0) -> 27 | D9: =_xlfn.RANK.AVG(C9,C$2:C$291,1) -> 51.5 | E9: =VLOOKUP(A9,'Laboratory A'!A:D,4,0) -> 28 | F9: =_xlfn.RANK.AVG(E9,E$2:E$291,1) -> 53.5 | G9: =D9-F9 -> -2 | H9: =G9^2 -> 4 | I9: =(C9+E9)/2 -> 27.5 | J9: =((C9-I9)^2+(E9-I9)^2)/2 -> 0.25 | K9: =SQRT(J9) -> 0.5 | L9: =(K9/I9)*100 -> 1.8181818 | M9: =(D9-$D$295) -> -80 | N9: =(M9)^2 -> 6400 | O9: =(F9-$F$295) -> -78 | P9: =(O9)^2 -> 6084 | Q9: =(M9*O9) -> 6240
A10: Lang "Wenzl" | B10: Wiesenknäuelgras | C10: =VLOOKUP(A10,'Laboratory A'!A:D,2,0) -> 17 | D10: =_xlfn.RANK.AVG(C10,C$2:C$291,1) -> 14.5 | E10: =VLOOKUP(A10,'Laboratory A'!A:D,4,0) -> 74 | F10: =_xlfn.RANK.AVG(E10,E$2:E$291,1) -> 159 | G10: =D10-F10 -> -144.5 | H10: =G10^2 -> 20880.25 | I10: =(C10+E10)/2 -> 45.5 | J10: =((C10-I10)^2+(E10-I10)^2)/2 -> 812.25 | K10: =SQRT(J10) -> 28.5 | L10: =(K10/I10)*100 -> 62.637363 | M10: =(D10-$D$295) -> -117 | N10: =(M10)^2 -> 13689 | O10: =(F10-$F$295) -> 27.5 | P10: =(O10)^2 -> 756.25 | Q10: =(M10*O10) -> -3217.5
A11: Engelhardt "Pepa" | B11: Wiesenknäuelgras
A12: Valic "Eric" | B12: Wiesenlieschgras (Phleum pratense) | C12: =VLOOKUP(A2,'Laboratory A'!A:G,5,0) -> 88 | D12: =_xlfn.RANK.AVG(C12,C$2:C$291,1) -> 178 | E12: =VLOOKUP(A12,'Laboratory A'!A:G,7,0) -> 65 | F12: =_xlfn.RANK.AVG(E12,E$2:E$291,1) -> 141 | G12: =D12-F12 -> 37 | H12: =G12^2 -> 1369 | I12: =(C12+E12)/2 -> 76.5 | J12: =((C12-I12)^2+(E12-I12)^2)/2 -> 132.25 | K12: =SQRT(J12) -> 11.5 | L12: =(K12/I12)*100 -> 15.03268 | M12: =(D12-$D$295) -> 46.5 | N12: =(M12)^2 -> 2162.25 | O12: =(F12-$F$295) -> 9.5 | P12: =(O12)^2 -> 90.25 | Q12: =(M12*O12) -> 441.75
A13: Klenk "Fiete" | B13: Wiesenlieschgras | C13: =VLOOKUP(A3,'Laboratory A'!A:G,5,0) -> 30 | D13: =_xlfn.RANK.AVG(C13,C$2:C$291,1) -> 70 | E13: =VLOOKUP(A13,'Laboratory A'!A:G,7,0) -> 70 | F13: =_xlfn.RANK.AVG(E13,E$2:E$291,1) -> 151.5 | G13: =D13-F13 -> -81.5 | H13: =G13^2 -> 6642.25 | I13: =(C13+E13)/2 -> 50 | J13: =((C13-I13)^2+(E13-I13)^2)/2 -> 400 | K13: =SQRT(J13) -> 20 | L13: =(K13/I13)*100 -> 40 | M13: =(D13-$D$295) -> -61.5 | N13: =(M13)^2 -> 3782.25 | O13: =(F13-$F$295) -> 20 | P13: =(O13)^2 -> 400 | Q13: =(M13*O13) -> -1230
A14: Pintsch "Lilly" | B14: Wiesenlieschgras | C14: =VLOOKUP(A4,'Laboratory A'!A:G,5,0) -> 214 | D14: =_xlfn.RANK.AVG(C14,C$2:C$291,1) -> 218 | E14: =VLOOKUP(A14,'Laboratory A'!A:G,7,0) -> 286 | F14: =_xlfn.RANK.AVG(E14,E$2:E$291,1) -> 229 | G14: =D14-F14 -> -11 | H14: =G14^2 -> 121 | I14: =(C14+E14)/2 -> 250 | J14: =((C14-I14)^2+(E14-I14)^2)/2 -> 1296 | K14: =SQRT(J14) -> 36 | L14: =(K14/I14)*100 -> 14.4 | M14: =(D14-$D$295) -> 86.5 | N14: =(M14)^2 -> 7482.25 | O14: =(F14-$F$295) -> 97.5 | P14: =(O14)^2 -> 9506.25 | Q14: =(M14*O14) -> 8433.75
A15: Funken "Themba" | B15: Wiesenlieschgras | C15: =VLOOKUP(A5,'Laboratory A'!A:G,5,0) -> 209 | D15: =_xlfn.RANK.AVG(C15,C$2:C$291,1) -> 217 | E15: =VLOOKUP(A15,'Laboratory A'!A:G,7,0) -> 353 | F15: =_xlfn.RANK.AVG(E15,E$2:E$291,1) -> 236 | G15: =D15-F15 -> -19 | H15: =G15^2 -> 361 | I15: =(C15+E15)/2 -> 281 | J15: =((C15-I15)^2+(E15-I15)^2)/2 -> 5184 | K15: =SQRT(J15) -> 72 | L15: =(K15/I15)*100 -> 25.622776 | M15: =(D15-$D$295) -> 85.5 | N15: =(M15)^2 -> 7310.25 | O15: =(F15-$F$295) -> 104.5 | P15: =(O15)^2 -> 10920.25 | Q15: =(M15*O15) -> 8934.75
A16: Tietzen "Oscar" | B16: Wiesenlieschgras | C16: =VLOOKUP(A6,'Laboratory A'!A:G,5,0) -> 47 | D16: =_xlfn.RANK.AVG(C16,C$2:C$291,1) -> 120 | E16: =VLOOKUP(A16,'Laboratory A'!A:G,7,0) -> 54 | F16: =_xlfn.RANK.AVG(E16,E$2:E$291,1) -> 120.5 | G16: =D16-F16 -> -0.5 | H16: =G16^2 -> 0.25 | I16: =(C16+E16)/2 -> 50.5 | J16: =((C16-I16)^2+(E16-I16)^2)/2 -> 12.25 | K16: =SQRT(J16) -> 3.5 | L16: =(K16/I16)*100 -> 6.9306931 | M16: =(D16-$D$295) -> -11.5 | N16: =(M16)^2 -> 132.25 | O16: =(F16-$F$295) -> -11 | P16: =(O16)^2 -> 121 | Q16: =(M16*O16) -> 126.5
A17: Zeitler "Pinie" | B17: Wiesenlieschgras | C17: =VLOOKUP(A7,'Laboratory A'!A:G,5,0) -> 28 | D17: =_xlfn.RANK.AVG(C17,C$2:C$291,1) -> 57 | E17: =VLOOKUP(A17,'Laboratory A'!A:G,7,0) -> 34 | F17: =_xlfn.RANK.AVG(E17,E$2:E$291,1) -> 80.5 | G17: =D17-F17 -> -23.5 | H17: =G17^2 -> 552.25 | I17: =(C17+E17)/2 -> 31 | J17: =((C17-I17)^2+(E17-I17)^2)/2 -> 9 | K17: =SQRT(J17) -> 3 | L17: =(K17/I17)*100 -> 9.6774194 | M17: =(D17-$D$295) -> -74.5 | N17: =(M17)^2 -> 5550.25 | O17: =(F17-$F$295) -> -51 | P17: =(O17)^2 -> 2601 | Q17: =(M17*O17) -> 3799.5
A18: Mutscheller "Mira" | B18: Wiesenlieschgras | C18: =VLOOKUP(A8,'Laboratory A'!A:G,5,0) -> 55 | D18: =_xlfn.RANK.AVG(C18,C$2:C$291,1) -> 135.5 | E18: =VLOOKUP(A18,'Laboratory A'!A:G,7,0) -> 52 | F18: =_xlfn.RANK.AVG(E18,E$2:E$291,1) -> 115 | G18: =D18-F18 -> 20.5 | H18: =G18^2 -> 420.25 | I18: =(C18+E18)/2 -> 53.5 | J18: =((C18-I18)^2+(E18-I18)^2)/2 -> 2.25 | K18: =SQRT(J18) -> 1.5 | L18: =(K18/I18)*100 -> 2.8037383 | M18: =(D18-$D$295) -> 4 | N18: =(M18)^2 -> 16 | O18: =(F18-$F$295) -> -16.5 | P18: =(O18)^2 -> 272.25 | Q18: =(M18*O18) -> -66
A19: Kern "Wayty" | B19: Wiesenlieschgras | C19: =VLOOKUP(A9,'Laboratory A'!A:G,5,0) -> 50 | D19: =_xlfn.RANK.AVG(C19,C$2:C$291,1) -> 126 | E19: =VLOOKUP(A19,'Laboratory A'!A:G,7,0) -> 44 | F19: =_xlfn.RANK.AVG(E19,E$2:E$291,1) -> 98 | G19: =D19-F19 -> 28 | H19: =G19^2 -> 784 | I19: =(C19+E19)/2 -> 47 | J19: =((C19-I19)^2+(E19-I19)^2)/2 -> 9 | K19: =SQRT(J19) -> 3 | L19: =(K19/I19)*100 -> 6.3829787 | M19: =(D19-$D$295) -> -5.5 | N19: =(M19)^2 -> 30.25 | O19: =(F19-$F$295) -> -33.5 | P19: =(O19)^2 -> 1122.25 | Q19: =(M19*O19) -> 184.25
A20: Lang "Wenzl" | B20: Wiesenlieschgras | C20: =VLOOKUP(A10,'Laboratory A'!A:G,5,0) -> 18 | D20: =_xlfn.RANK.AVG(C20,C$2:C$291,1) -> 17 | E20: =VLOOKUP(A20,'Laboratory A'!A:G,7,0) -> 20 | F20: =_xlfn.RANK.AVG(E20,E$2:E$291,1) -> 25.5 | G20: =D20-F20 -> -8.5 | H20: =G20^2 -> 72.25 | I20: =(C20+E20)/2 -> 19 | J20: =((C20-I20)^2+(E20-I20)^2)/2 -> 1 | K20: =SQRT(J20) -> 1 | L20: =(K20/I20)*100 -> 5.2631579 | M20: =(D20-$D$295) -> -114.5 | N20: =(M20)^2 -> 13110.25 | O20: =(F20-$F$295) -> -106 | P20: =(O20)^2 -> 11236 | Q20: =(M20*O20) -> 12137
A21: Engelhardt "Pepa" | B21: Wiesenlieschgras
A22: Valic "Eric" | B22: Englisches Ryegras (Lolium perenne) | C22: =VLOOKUP(A22,'Laboratory A'!A:J,8,0) -> 30 | D22: =_xlfn.RANK.AVG(C22,C$2:C$291,1) -> 70 | E22: =VLOOKUP(A22,'Laboratory A'!A:J,10,0) -> 44 | F22: =_xlfn.RANK.AVG(E22,E$2:E$291,1) -> 98 | G22: =D22-F22 -> -28 | H22: =G22^2 -> 784 | I22: =(C22+E22)/2 -> 37 | J22: =((C22-I22)^2+(E22-I22)^2)/2 -> 49 | K22: =SQRT(J22) -> 7 | L22: =(K22/I22)*100 -> 18.918919 | M22: =(D22-$D$295) -> -61.5 | N22: =(M22)^2 -> 3782.25 | O22: =(F22-$F$295) -> -33.5 | P22: =(O22)^2 -> 1122.25 | Q22: =(M22*O22) -> 2060.25
A23: Klenk "Fiete" | B23: Englisches Ryegras | C23: =VLOOKUP(A23,'Laboratory A'!A:J,8,0) -> 228 | D23: =_xlfn.RANK.AVG(C23,C$2:C$291,1) -> 224 | E23: =VLOOKUP(A23,'Laboratory A'!A:J,10,0) -> 255 | F23: =_xlfn.RANK.AVG(E23,E$2:E$291,1) -> 223 | G23: =D23-F23 -> 1 | H23: =G23^2 -> 1 | I23: =(C23+E23)/2 -> 241.5 | J23: =((C23-I23)^2+(E23-I23)^2)/2 -> 182.25 | K23: =SQRT(J23) -> 13.5 | L23: =(K23/I23)*100 -> 5.5900621 | M23: =(D23-$D$295) -> 92.5 | N23: =(M23)^2 -> 8556.25 | O23: =(F23-$F$295) -> 91.5 | P23: =(O23)^2 -> 8372.25 | Q23: =(M23*O23) -> 8463.75
A24: Pintsch "Lilly" | B24: Englisches Ryegras | C24: =VLOOKUP(A24,'Laboratory A'!A:J,8,0) -> 780 | D24: =_xlfn.RANK.AVG(C24,C$2:C$291,1) -> 260 | E24: =VLOOKUP(A24,'Laboratory A'!A:J,10,0) -> 424 | F24: =_xlfn.RANK.AVG(E24,E$2:E$291,1) -> 250 | G24: =D24-F24 -> 10 | H24: =G24^2 -> 100 | I24: =(C24+E24)/2 -> 602 | J24: =((C24-I24)^2+(E24-I24)^2)/2 -> 31684 | K24: =SQRT(J24) -> 178 | L24: =(K24/I24)*100 -> 29.568106 | M24: =(D24-$D$295) -> 128.5 | N24: =(M24)^2 -> 16512.25 | O24: =(F24-$F$295) -> 118.5 | P24: =(O24)^2 -> 14042.25 | Q24: =(M24*O24) -> 15227.25
A25: Funken "Themba" | B25: Englisches Ryegras | C25: =VLOOKUP(A25,'Laboratory A'!A:J,8,0) -> 380 | D25: =_xlfn.RANK.AVG(C25,C$2:C$291,1) -> 240 | E25: =VLOOKUP(A25,'Laboratory A'!A:J,10,0) -> 358 | F25: =_xlfn.RANK.AVG(E25,E$2:E$291,1) -> 237 | G25: =D25-F25 -> 3 | H25: =G25^2 -> 9 | I25: =(C25+E25)/2 -> 369 | J25: =((C25-I25)^2+(E25-I25)^2)/2 -> 121 | K25: =SQRT(J25) -> 11 | L25: =(K25/I25)*100 -> 2.9810298 | M25: =(D25-$D$295) -> 108.5 | N25: =(M25)^2 -> 11772.25 | O25: =(F25-$F$295) -> 105.5 | P25: =(O25)^2 -> 11130.25 | Q25: =(M25*O25) -> 11446.75
A26: Tietzen "Oscar" | B26: Englisches Ryegras | C26: =VLOOKUP(A26,'Laboratory A'!A:J,8,0) -> 94 | D26: =_xlfn.RANK.AVG(C26,C$2:C$291,1) -> 182.5 | E26: =VLOOKUP(A26,'Laboratory A'!A:J,10,0) -> 87 | F26: =_xlfn.RANK.AVG(E26,E$2:E$291,1) -> 173.5 | G26: =D26-F26 -> 9 | H26: =G26^2 -> 81 | I26: =(C26+E26)/2 -> 90.5 | J26: =((C26-I26)^2+(E26-I26)^2)/2 -> 12.25 | K26: =SQRT(J26) -> 3.5 | L26: =(K26/I26)*100 -> 3.8674033 | M26: =(D26-$D$295) -> 51 | N26: =(M26)^2 -> 2601 | O26: =(F26-$F$295) -> 42 | P26: =(O26)^2 -> 1764 | Q26: =(M26*O26) -> 2142
A27: Zeitler "Pinie" | B27: Englisches Ryegras | C27: =VLOOKUP(A27,'Laboratory A'!A:J,8,0) -> 67 | D27: =_xlfn.RANK.AVG(C27,C$2:C$291,1) -> 158 | E27: =VLOOKUP(A27,'Laboratory A'!A:J,10,0) -> 73 | F27: =_xlfn.RANK.AVG(E27,E$2:E$291,1) -> 156 | G27: =D27-F27 -> 2 | H27: =G27^2 -> 4 | I27: =(C27+E27)/2 -> 70 | J27: =((C27-I27)^2+(E27-I27)^2)/2 -> 9 | K27: =SQRT(J27) -> 3 | L27: =(K27/I27)*100 -> 4.2857143 | M27: =(D27-$D$295) -> 26.5 | N27: =(M27)^2 -> 702.25 | O27: =(F27-$F$295) -> 24.5 | P27: =(O27)^2 -> 600.25 | Q27: =(M27*O27) -> 649.25
A28: Mutscheller "Mira" | B28: Englisches Ryegras | C28: =VLOOKUP(A28,'Laboratory A'!A:J,8,0) -> 175 | D28: =_xlfn.RANK.AVG(C28,C$2:C$291,1) -> 205.5 | E28: =VLOOKUP(A28,'Laboratory A'!A:J,10,0) -> 81 | F28: =_xlfn.RANK.AVG(E28,E$2:E$291,1) -> 168 | G28: =D28-F28 -> 37.5 | H28: =G28^2 -> 1406.25 | I28: =(C28+E28)/2 -> 128 | J28: =((C28-I28)^2+(E28-I28)^2)/2 -> 2209 | K28: =SQRT(J28) -> 47 | L28: =(K28/I28)*100 -> 36.71875 | M28: =(D28-$D$295) -> 74 | N28: =(M28)^2 -> 5476 | O28: =(F28-$F$295) -> 36.5 | P28: =(O28)^2 -> 1332.25 | Q28: =(M28*O28) -> 2701
A29: Kern "Wayty" | B29: Englisches Ryegras | C29: =VLOOKUP(A29,'Laboratory A'!A:J,8,0) -> 74 | D29: =_xlfn.RANK.AVG(C29,C$2:C$291,1) -> 163.5 | E29: =VLOOKUP(A29,'Laboratory A'!A:J,10,0) -> 80 | F29: =_xlfn.RANK.AVG(E29,E$2:E$291,1) -> 167 | G29: =D29-F29 -> -3.5 | H29: =G29^2 -> 12.25 | I29: =(C29+E29)/2 -> 77 | J29: =((C29-I29)^2+(E29-I29)^2)/2 -> 9 | K29: =SQRT(J29) -> 3 | L29: =(K29/I29)*100 -> 3.8961039 | M29: =(D29-$D$295) -> 32 | N29: =(M29)^2 -> 1024 | O29: =(F29-$F$295) -> 35.5 | P29: =(O29)^2 -> 1260.25 | Q29: =(M29*O29) -> 1136
A30: Lang "Wenzl" | B30: Englisches Ryegras | C30: =VLOOKUP(A30,'Laboratory A'!A:J,8,0) -> 16 | D30: =_xlfn.RANK.AVG(C30,C$2:C$291,1) -> 11 | E30: =VLOOKUP(A30,'Laboratory A'!A:J,10,0) -> 16 | F30: =_xlfn.RANK.AVG(E30,E$2:E$291,1) -> 11.5 | G30: =D30-F30 -> -0.5 | H30: =G30^2 -> 0.25 | I30: =(C30+E30)/2 -> 16 | J30: =((C30-I30)^2+(E30-I30)^2)/2 -> 0 | K30: =SQRT(J30) -> 0 | L30: =(K30/I30)*100 -> 0 | M30: =(D30-$D$295) -> -120.5 | N30: =(M30)^2 -> 14520.25 | O30: =(F30-$F$295) -> -120 | P30: =(O30)^2 -> 14400 | Q30: =(M30*O30) -> 14460
A31: Engelhardt "Pepa" | B31: Englisches Ryegras
A32: Valic "Eric" | B32: Wiesenrispengras (Poa pratensis) | C32: =VLOOKUP(A32,'Laboratory A'!A:M,11,0) -> 94 | D32: =_xlfn.RANK.AVG(C32,C$2:C$291,1) -> 182.5 | E32: =VLOOKUP(A32,'Laboratory A'!A:M,13,0) -> 36 | F32: =_xlfn.RANK.AVG(E32,E$2:E$291,1) -> 85 | G32: =D32-F32 -> 97.5 | H32: =G32^2 -> 9506.25 | I32: =(C32+E32)/2 -> 65 | J32: =((C32-I32)^2+(E32-I32)^2)/2 -> 841 | K32: =SQRT(J32) -> 29 | L32: =(K32/I32)*100 -> 44.615385 | M32: =(D32-$D$295) -> 51 | N32: =(M32)^2 -> 2601 | O32: =(F32-$F$295) -> -46.5 | P32: =(O32)^2 -> 2162.25 | Q32: =(M32*O32) -> -2371.5
A33: Klenk "Fiete" | B33: Wiesenrispengras | C33: =VLOOKUP(A33,'Laboratory A'!A:M,11,0) -> 229 | D33: =_xlfn.RANK.AVG(C33,C$2:C$291,1) -> 225 | E33: =VLOOKUP(A33,'Laboratory A'!A:M,13,0) -> 167 | F33: =_xlfn.RANK.AVG(E33,E$2:E$291,1) -> 204 | G33: =D33-F33 -> 21 | H33: =G33^2 -> 441 | I33: =(C33+E33)/2 -> 198 | J33: =((C33-I33)^2+(E33-I33)^2)/2 -> 961 | K33: =SQRT(J33) -> 31 | L33: =(K33/I33)*100 -> 15.656566 | M33: =(D33-$D$295) -> 93.5 | N33: =(M33)^2 -> 8742.25 | O33: =(F33-$F$295) -> 72.5 | P33: =(O33)^2 -> 5256.25 | Q33: =(M33*O33) -> 6778.75
A34: Pintsch "Lilly" | B34: Wiesenrispengras | C34: =VLOOKUP(A34,'Laboratory A'!A:M,11,0) -> 329 | D34: =_xlfn.RANK.AVG(C34,C$2:C$291,1) -> 237 | E34: =VLOOKUP(A34,'Laboratory A'!A:M,13,0) -> 435 | F34: =_xlfn.RANK.AVG(E34,E$2:E$291,1) -> 252 | G34: =D34-F34 -> -15 | H34: =G34^2 -> 225 | I34: =(C34+E34)/2 -> 382 | J34: =((C34-I34)^2+(E34-I34)^2)/2 -> 2809 | K34: =SQRT(J34) -> 53 | L34: =(K34/I34)*100 -> 13.874346 | M34: =(D34-$D$295) -> 105.5 | N34: =(M34)^2 -> 11130.25 | O34: =(F34-$F$295) -> 120.5 | P34: =(O34)^2 -> 14520.25 | Q34: =(M34*O34) -> 12712.75
A35: Funken "Themba" | B35: Wiesenrispengras | C35: =VLOOKUP(A35,'Laboratory A'!A:M,11,0) -> 955 | D35: =_xlfn.RANK.AVG(C35,C$2:C$291,1) -> 262 | E35: =VLOOKUP(A35,'Laboratory A'!A:M,13,0) -> 882 | F35: =_xlfn.RANK.AVG(E35,E$2:E$291,1) -> 261 | G35: =D35-F35 -> 1 | H35: =G35^2 -> 1 | I35: =(C35+E35)/2 -> 918.5 | J35: =((C35-I35)^2+(E35-I35)^2)/2 -> 1332.25 | K35: =SQRT(J35) -> 36.5 | L35: =(K35/I35)*100 -> 3.9738704 | M35: =(D35-$D$295) -> 130.5 | N35: =(M35)^2 -> 17030.25 | O35: =(F35-$F$295) -> 129.5 | P35: =(O35)^2 -> 16770.25 | Q35: =(M35*O35) -> 16899.75
A36: Tietzen "Oscar" | B36: Wiesenrispengras | C36: =VLOOKUP(A36,'Laboratory A'!A:M,11,0) -> 196 | D36: =_xlfn.RANK.AVG(C36,C$2:C$291,1) -> 213 | E36: =VLOOKUP(A36,'Laboratory A'!A:M,13,0) -> 298 | F36: =_xlfn.RANK.AVG(E36,E$2:E$291,1) -> 233 | G36: =D36-F36 -> -20 | H36: =G36^2 -> 400 | I36: =(C36+E36)/2 -> 247 | J36: =((C36-I36)^2+(E36-I36)^2)/2 -> 2601 | K36: =SQRT(J36) -> 51 | L36: =(K36/I36)*100 -> 20.647773 | M36: =(D36-$D$295) -> 81.5 | N36: =(M36)^2 -> 6642.25 | O36: =(F36-$F$295) -> 101.5 | P36: =(O36)^2 -> 10302.25 | Q36: =(M36*O36) -> 8272.25
A37: extern | B37: Wiesenrispengras | C37: =VLOOKUP(A37,'Laboratory A'!A:M,11,0) -> 0 | D37: =_xlfn.RANK.AVG(C37,C$2:C$291,1) -> 1 | E37: =VLOOKUP(A37,'Laboratory A'!A:M,13,0) -> 0 | F37: =_xlfn.RANK.AVG(E37,E$2:E$291,1) -> 1 | G37: =D37-F37 -> 0 | H37: =G37^2 -> 0 | I37: =(C37+E37)/2 -> 0 | J37: =((C37-I37)^2+(E37-I37)^2)/2 -> 0 | K37: =SQRT(J37) -> 0 | L37: 0 | M37: =(D37-$D$295) -> -130.5 | N37: =(M37)^2 -> 17030.25 | O37: =(F37-$F$295) -> -130.5 | P37: =(O37)^2 -> 17030.25 | Q37: =(M37*O37) -> 17030.25
A38: Zeitler "Pinie" | B38: Wiesenrispengras | C38: =VLOOKUP(A38,'Laboratory A'!A:M,11,0) -> 523 | D38: =_xlfn.RANK.AVG(C38,C$2:C$291,1) -> 252 | E38: =VLOOKUP(A38,'Laboratory A'!A:M,13,0) -> 418 | F38: =_xlfn.RANK.AVG(E38,E$2:E$291,1) -> 246 | G38: =D38-F38 -> 6 | H38: =G38^2 -> 36 | I38: =(C38+E38)/2 -> 470.5 | J38: =((C38-I38)^2+(E38-I38)^2)/2 -> 2756.25 | K38: =SQRT(J38) -> 52.5 | L38: =(K38/I38)*100 -> 11.158342 | M38: =(D38-$D$295) -> 120.5 | N38: =(M38)^2 -> 14520.25 | O38: =(F38-$F$295) -> 114.5 | P38: =(O38)^2 -> 13110.25 | Q38: =(M38*O38) -> 13797.25
A39: Mutscheller "Mira" | B39: Wiesenrispengras | C39: =VLOOKUP(A39,'Laboratory A'!A:M,11,0) -> 492 | D39: =_xlfn.RANK.AVG(C39,C$2:C$291,1) -> 250 | E39: =VLOOKUP(A39,'Laboratory A'!A:M,13,0) -> 395 | F39: =_xlfn.RANK.AVG(E39,E$2:E$291,1) -> 243 | G39: =D39-F39 -> 7 | H39: =G39^2 -> 49 | I39: =(C39+E39)/2 -> 443.5 | J39: =((C39-I39)^2+(E39-I39)^2)/2 -> 2352.25 | K39: =SQRT(J39) -> 48.5 | L39: =(K39/I39)*100 -> 10.935738 | M39: =(D39-$D$295) -> 118.5 | N39: =(M39)^2 -> 14042.25 | O39: =(F39-$F$295) -> 111.5 | P39: =(O39)^2 -> 12432.25 | Q39: =(M39*O39) -> 13212.75
A40: Kern "Wayty" | B40: Wiesenrispengras | C40: =VLOOKUP(A40,'Laboratory A'!A:M,11,0) -> 83 | D40: =_xlfn.RANK.AVG(C40,C$2:C$291,1) -> 175 | E40: =VLOOKUP(A40,'Laboratory A'!A:M,13,0) -> 42 | F40: =_xlfn.RANK.AVG(E40,E$2:E$291,1) -> 94.5 | G40: =D40-F40 -> 80.5 | H40: =G40^2 -> 6480.25 | I40: =(C40+E40)/2 -> 62.5 | J40: =((C40-I40)^2+(E40-I40)^2)/2 -> 420.25 | K40: =SQRT(J40) -> 20.5 | L40: =(K40/I40)*100 -> 32.8 | M40: =(D40-$D$295) -> 43.5 | N40: =(M40)^2 -> 1892.25 | O40: =(F40-$F$295) -> -37 | P40: =(O40)^2 -> 1369 | Q40: =(M40*O40) -> -1609.5
A41: Lang "Wenzl" | B41: Wiesenrispengras | C41: =VLOOKUP(A41,'Laboratory A'!A:M,11,0) -> 48 | D41: =_xlfn.RANK.AVG(C41,C$2:C$291,1) -> 123.5 | E41: =VLOOKUP(A41,'Laboratory A'!A:M,13,0) -> 49 | F41: =_xlfn.RANK.AVG(E41,E$2:E$291,1) -> 108.5 | G41: =D41-F41 -> 15 | H41: =G41^2 -> 225 | I41: =(C41+E41)/2 -> 48.5 | J41: =((C41-I41)^2+(E41-I41)^2)/2 -> 0.25 | K41: =SQRT(J41) -> 0.5 | L41: =(K41/I41)*100 -> 1.0309278 | M41: =(D41-$D$295) -> -8 | N41: =(M41)^2 -> 64 | O41: =(F41-$F$295) -> -23 | P41: =(O41)^2 -> 529 | Q41: =(M41*O41) -> 184
A42: Engelhardt "Pepa" | B42: Wiesenrispengras
A43: Valic "Eric" | B43: Hundszahngras (Cynodon dactylon) | C43: =VLOOKUP(A43,'Laboratory A'!A:P,14,0) -> 50 | D43: =_xlfn.RANK.AVG(C43,C$2:C$291,1) -> 126 | E43: =VLOOKUP(A43,'Laboratory A'!A:P,16,0) -> 52 | F43: =_xlfn.RANK.AVG(E43,E$2:E$291,1) -> 115 | G43: =D43-F43 -> 11 | H43: =G43^2 -> 121 | I43: =(C43+E43)/2 -> 51 | J43: =((C43-I43)^2+(E43-I43)^2)/2 -> 1 | K43: =SQRT(J43) -> 1 | L43: =(K43/I43)*100 -> 1.9607843 | M43: =(D43-$D$295) -> -5.5 | N43: =(M43)^2 -> 30.25 | O43: =(F43-$F$295) -> -16.5 | P43: =(O43)^2 -> 272.25 | Q43: =(M43*O43) -> 90.75
A44: Klenk "Fiete" | B44: Hundszahngras | C44: =VLOOKUP(A44,'Laboratory A'!A:P,14,0) -> 69 | D44: =_xlfn.RANK.AVG(C44,C$2:C$291,1) -> 159.5 | E44: =VLOOKUP(A44,'Laboratory A'!A:P,16,0) -> 253 | F44: =_xlfn.RANK.AVG(E44,E$2:E$291,1) -> 222 | G44: =D44-F44 -> -62.5 | H44: =G44^2 -> 3906.25 | I44: =(C44+E44)/2 -> 161 | J44: =((C44-I44)^2+(E44-I44)^2)/2 -> 8464 | K44: =SQRT(J44) -> 92 | L44: =(K44/I44)*100 -> 57.142857 | M44: =(D44-$D$295) -> 28 | N44: =(M44)^2 -> 784 | O44: =(F44-$F$295) -> 90.5 | P44: =(O44)^2 -> 8190.25 | Q44: =(M44*O44) -> 2534
A45: Pintsch "Lilly" | B45: Hundszahngras | C45: =VLOOKUP(A45,'Laboratory A'!A:P,14,0) -> 812 | D45: =_xlfn.RANK.AVG(C45,C$2:C$291,1) -> 261 | E45: =VLOOKUP(A45,'Laboratory A'!A:P,16,0) -> 887 | F45: =_xlfn.RANK.AVG(E45,E$2:E$291,1) -> 262 | G45: =D45-F45 -> -1 | H45: =G45^2 -> 1 | I45: =(C45+E45)/2 -> 849.5 | J45: =((C45-I45)^2+(E45-I45)^2)/2 -> 1406.25 | K45: =SQRT(J45) -> 37.5 | L45: =(K45/I45)*100 -> 4.4143614 | M45: =(D45-$D$295) -> 129.5 | N45: =(M45)^2 -> 16770.25 | O45: =(F45-$F$295) -> 130.5 | P45: =(O45)^2 -> 17030.25 | Q45: =(M45*O45) -> 16899.75
A46: Funken "Themba" | B46: Hundszahngras | C46: =VLOOKUP(A46,'Laboratory A'!A:P,14,0) -> 729 | D46: =_xlfn.RANK.AVG(C46,C$2:C$291,1) -> 258 | E46: =VLOOKUP(A46,'Laboratory A'!A:P,16,0) -> 613 | F46: =_xlfn.RANK.AVG(E46,E$2:E$291,1) -> 258 | G46: =D46-F46 -> 0 | H46: =G46^2 -> 0 | I46: =(C46+E46)/2 -> 671 | J46: =((C46-I46)^2+(E46-I46)^2)/2 -> 3364 | K46: =SQRT(J46) -> 58 | L46: =(K46/I46)*100 -> 8.6438152 | M46: =(D46-$D$295) -> 126.5 | N46: =(M46)^2 -> 16002.25 | O46: =(F46-$F$295) -> 126.5 | P46: =(O46)^2 -> 16002.25 | Q46: =(M46*O46) -> 16002.25
A47: Tietzen "Oscar" | B47: Hundszahngras | C47: =VLOOKUP(A47,'Laboratory A'!A:P,14,0) -> 219 | D47: =_xlfn.RANK.AVG(C47,C$2:C$291,1) -> 220 | E47: =VLOOKUP(A47,'Laboratory A'!A:P,16,0) -> 151 | F47: =_xlfn.RANK.AVG(E47,E$2:E$291,1) -> 196 | G47: =D47-F47 -> 24 | H47: =G47^2 -> 576 | I47: =(C47+E47)/2 -> 185 | J47: =((C47-I47)^2+(E47-I47)^2)/2 -> 1156 | K47: =SQRT(J47) -> 34 | L47: =(K47/I47)*100 -> 18.378378 | M47: =(D47-$D$295) -> 88.5 | N47: =(M47)^2 -> 7832.25 | O47: =(F47-$F$295) -> 64.5 | P47: =(O47)^2 -> 4160.25 | Q47: =(M47*O47) -> 5708.25
A48: Zeitler "Pinie" | B48: Hundszahngras | C48: =VLOOKUP(A48,'Laboratory A'!A:P,14,0) -> 324 | D48: =_xlfn.RANK.AVG(C48,C$2:C$291,1) -> 236 | E48: =VLOOKUP(A48,'Laboratory A'!A:P,16,0) -> 215 | F48: =_xlfn.RANK.AVG(E48,E$2:E$291,1) -> 217 | G48: =D48-F48 -> 19 | H48: =G48^2 -> 361 | I48: =(C48+E48)/2 -> 269.5 | J48: =((C48-I48)^2+(E48-I48)^2)/2 -> 2970.25 | K48: =SQRT(J48) -> 54.5 | L48: =(K48/I48)*100 -> 20.222635 | M48: =(D48-$D$295) -> 104.5 | N48: =(M48)^2 -> 10920.25 | O48: =(F48-$F$295) -> 85.5 | P48: =(O48)^2 -> 7310.25 | Q48: =(M48*O48) -> 8934.75
A49: Mutscheller "Mira" | B49: Hundszahngras | C49: =VLOOKUP(A49,'Laboratory A'!A:P,14,0) -> 522 | D49: =_xlfn.RANK.AVG(C49,C$2:C$291,1) -> 251 | E49: =VLOOKUP(A49,'Laboratory A'!A:P,16,0) -> 287 | F49: =_xlfn.RANK.AVG(E49,E$2:E$291,1) -> 230.5 | G49: =D49-F49 -> 20.5 | H49: =G49^2 -> 420.25 | I49: =(C49+E49)/2 -> 404.5 | J49: =((C49-I49)^2+(E49-I49)^2)/2 -> 13806.25 | K49: =SQRT(J49) -> 117.5 | L49: =(K49/I49)*100 -> 29.048208 | M49: =(D49-$D$295) -> 119.5 | N49: =(M49)^2 -> 14280.25 | O49: =(F49-$F$295) -> 99 | P49: =(O49)^2 -> 9801 | Q49: =(M49*O49) -> 11830.5
A50: Kern "Wayty" | B50: Hundszahngras | C50: =VLOOKUP(A50,'Laboratory A'!A:P,14,0) -> 221 | D50: =_xlfn.RANK.AVG(C50,C$2:C$291,1) -> 222 | E50: =VLOOKUP(A50,'Laboratory A'!A:P,16,0) -> 119 | F50: =_xlfn.RANK.AVG(E50,E$2:E$291,1) -> 192 | G50: =D50-F50 -> 30 | H50: =G50^2 -> 900 | I50: =(C50+E50)/2 -> 170 | J50: =((C50-I50)^2+(E50-I50)^2)/2 -> 2601 | K50: =SQRT(J50) -> 51 | L50: =(K50/I50)*100 -> 30 | M50: =(D50-$D$295) -> 90.5 | N50: =(M50)^2 -> 8190.25 | O50: =(F50-$F$295) -> 60.5 | P50: =(O50)^2 -> 3660.25 | Q50: =(M50*O50) -> 5475.25
A51: Lang "Wenzl" | B51: Hundszahngras | C51: =VLOOKUP(A51,'Laboratory A'!A:P,14,0) -> 22 | D51: =_xlfn.RANK.AVG(C51,C$2:C$291,1) -> 26.5 | E51: =VLOOKUP(A51,'Laboratory A'!A:P,16,0) -> 32 | F51: =_xlfn.RANK.AVG(E51,E$2:E$291,1) -> 72 | G51: =D51-F51 -> -45.5 | H51: =G51^2 -> 2070.25 | I51: =(C51+E51)/2 -> 27 | J51: =((C51-I51)^2+(E51-I51)^2)/2 -> 25 | K51: =SQRT(J51) -> 5 | L51: =(K51/I51)*100 -> 18.518519 | M51: =(D51-$D$295) -> -105 | N51: =(M51)^2 -> 11025 | O51: =(F51-$F$295) -> -59.5 | P51: =(O51)^2 -> 3540.25 | Q51: =(M51*O51) -> 6247.5
A52: Engelhardt "Pepa" | B52: Hundszahngras
A53: Valic "Eric" | B53: Saat-Hafer (Avena sativa) | C53: =VLOOKUP(A53,'Laboratory A'!A:S,17,0) -> 48 | D53: =_xlfn.RANK.AVG(C53,C$2:C$291,1) -> 123.5 | E53: =VLOOKUP(A53,'Laboratory A'!A:S,19,0) -> 47 | F53: =_xlfn.RANK.AVG(E53,E$2:E$291,1) -> 103.5 | G53: =D53-F53 -> 20 | H53: =G53^2 -> 400 | I53: =(C53+E53)/2 -> 47.5 | J53: =((C53-I53)^2+(E53-I53)^2)/2 -> 0.25 | K53: =SQRT(J53) -> 0.5 | L53: =(K53/I53)*100 -> 1.0526316 | M53: =(D53-$D$295) -> -8 | N53: =(M53)^2 -> 64 | O53: =(F53-$F$295) -> -28 | P53: =(O53)^2 -> 784 | Q53: =(M53*O53) -> 224
A54: Klenk "Fiete" | B54: Saat-Hafer | C54: =VLOOKUP(A54,'Laboratory A'!A:S,17,0) -> 10 | D54: =_xlfn.RANK.AVG(C54,C$2:C$291,1) -> 3 | E54: =VLOOKUP(A54,'Laboratory A'!A:S,19,0) -> 59 | F54: =_xlfn.RANK.AVG(E54,E$2:E$291,1) -> 132 | G54: =D54-F54 -> -129 | H54: =G54^2 -> 16641 | I54: =(C54+E54)/2 -> 34.5 | J54: =((C54-I54)^2+(E54-I54)^2)/2 -> 600.25 | K54: =SQRT(J54) -> 24.5 | L54: =(K54/I54)*100 -> 71.014493 | M54: =(D54-$D$295) -> -128.5 | N54: =(M54)^2 -> 16512.25 | O54: =(F54-$F$295) -> 0.5 | P54: =(O54)^2 -> 0.25 | Q54: =(M54*O54) -> -64.25
A55: Pintsch "Lilly" | B55: Saat-Hafer | C55: =VLOOKUP(A55,'Laboratory A'!A:S,17,0) -> 35 | D55: =_xlfn.RANK.AVG(C55,C$2:C$291,1) -> 91.5 | E55: =VLOOKUP(A55,'Laboratory A'!A:S,19,0) -> 34 | F55: =_xlfn.RANK.AVG(E55,E$2:E$291,1) -> 80.5 | G55: =D55-F55 -> 11 | H55: =G55^2 -> 121 | I55: =(C55+E55)/2 -> 34.5 | J55: =((C55-I55)^2+(E55-I55)^2)/2 -> 0.25 | K55: =SQRT(J55) -> 0.5 | L55: =(K55/I55)*100 -> 1.4492754 | M55: =(D55-$D$295) -> -40 | N55: =(M55)^2 -> 1600 | O55: =(F55-$F$295) -> -51 | P55: =(O55)^2 -> 2601 | Q55: =(M55*O55) -> 2040
A56: Funken "Themba" | B56: Saat-Hafer | C56: =VLOOKUP(A56,'Laboratory A'!A:S,17,0) -> 142 | D56: =_xlfn.RANK.AVG(C56,C$2:C$291,1) -> 193 | E56: =VLOOKUP(A56,'Laboratory A'!A:S,19,0) -> 68 | F56: =_xlfn.RANK.AVG(E56,E$2:E$291,1) -> 147 | G56: =D56-F56 -> 46 | H56: =G56^2 -> 2116 | I56: =(C56+E56)/2 -> 105 | J56: =((C56-I56)^2+(E56-I56)^2)/2 -> 1369 | K56: =SQRT(J56) -> 37 | L56: =(K56/I56)*100 -> 35.238095 | M56: =(D56-$D$295) -> 61.5 | N56: =(M56)^2 -> 3782.25 | O56: =(F56-$F$295) -> 15.5 | P56: =(O56)^2 -> 240.25 | Q56: =(M56*O56) -> 953.25
A57: Tietzen "Oscar" | B57: Saat-Hafer | C57: =VLOOKUP(A57,'Laboratory A'!A:S,17,0) -> 36 | D57: =_xlfn.RANK.AVG(C57,C$2:C$291,1) -> 95 | E57: =VLOOKUP(A57,'Laboratory A'!A:S,19,0) -> 33 | F57: =_xlfn.RANK.AVG(E57,E$2:E$291,1) -> 77 | G57: =D57-F57 -> 18 | H57: =G57^2 -> 324 | I57: =(C57+E57)/2 -> 34.5 | J57: =((C57-I57)^2+(E57-I57)^2)/2 -> 2.25 | K57: =SQRT(J57) -> 1.5 | L57: =(K57/I57)*100 -> 4.3478261 | M57: =(D57-$D$295) -> -36.5 | N57: =(M57)^2 -> 1332.25 | O57: =(F57-$F$295) -> -54.5 | P57: =(O57)^2 -> 2970.25 | Q57: =(M57*O57) -> 1989.25
A58: Zeitler "Pinie" | B58: Saat-Hafer | C58: =VLOOKUP(A58,'Laboratory A'!A:S,17,0) -> 43 | D58: =_xlfn.RANK.AVG(C58,C$2:C$291,1) -> 106.5 | E58: =VLOOKUP(A58,'Laboratory A'!A:S,19,0) -> 24 | F58: =_xlfn.RANK.AVG(E58,E$2:E$291,1) -> 37.5 | G58: =D58-F58 -> 69 | H58: =G58^2 -> 4761 | I58: =(C58+E58)/2 -> 33.5 | J58: =((C58-I58)^2+(E58-I58)^2)/2 -> 90.25 | K58: =SQRT(J58) -> 9.5 | L58: =(K58/I58)*100 -> 28.358209 | M58: =(D58-$D$295) -> -25 | N58: =(M58)^2 -> 625 | O58: =(F58-$F$295) -> -94 | P58: =(O58)^2 -> 8836 | Q58: =(M58*O58) -> 2350
A59: Mutscheller "Mira" | B59: Saat-Hafer | C59: =VLOOKUP(A59,'Laboratory A'!A:S,17,0) -> 47 | D59: =_xlfn.RANK.AVG(C59,C$2:C$291,1) -> 120 | E59: =VLOOKUP(A59,'Laboratory A'!A:S,19,0) -> 30 | F59: =_xlfn.RANK.AVG(E59,E$2:E$291,1) -> 66 | G59: =D59-F59 -> 54 | H59: =G59^2 -> 2916 | I59: =(C59+E59)/2 -> 38.5 | J59: =((C59-I59)^2+(E59-I59)^2)/2 -> 72.25 | K59: =SQRT(J59) -> 8.5 | L59: =(K59/I59)*100 -> 22.077922 | M59: =(D59-$D$295) -> -11.5 | N59: =(M59)^2 -> 132.25 | O59: =(F59-$F$295) -> -65.5 | P59: =(O59)^2 -> 4290.25 | Q59: =(M59*O59) -> 753.25
A60: Kern "Wayty" | B60: Saat-Hafer | C60: =VLOOKUP(A60,'Laboratory A'!A:S,17,0) -> 29 | D60: =_xlfn.RANK.AVG(C60,C$2:C$291,1) -> 63 | E60: =VLOOKUP(A60,'Laboratory A'!A:S,19,0) -> 200 | F60: =_xlfn.RANK.AVG(E60,E$2:E$291,1) -> 211 | G60: =D60-F60 -> -148 | H60: =G60^2 -> 21904 | I60: =(C60+E60)/2 -> 114.5 | J60: =((C60-I60)^2+(E60-I60)^2)/2 -> 7310.25 | K60: =SQRT(J60) -> 85.5 | L60: =(K60/I60)*100 -> 74.672489 | M60: =(D60-$D$295) -> -68.5 | N60: =(M60)^2 -> 4692.25 | O60: =(F60-$F$295) -> 79.5 | P60: =(O60)^2 -> 6320.25 | Q60: =(M60*O60) -> -5445.75
A61: Lang "Wenzl" | B61: Saat-Hafer | C61: =VLOOKUP(A61,'Laboratory A'!A:S,17,0) -> 21 | D61: =_xlfn.RANK.AVG(C61,C$2:C$291,1) -> 22.5 | E61: =VLOOKUP(A61,'Laboratory A'!A:S,19,0) -> 23 | F61: =_xlfn.RANK.AVG(E61,E$2:E$291,1) -> 32.5 | G61: =D61-F61 -> -10 | H61: =G61^2 -> 100 | I61: =(C61+E61)/2 -> 22 | J61: =((C61-I61)^2+(E61-I61)^2)/2 -> 1 | K61: =SQRT(J61) -> 1 | L61: =(K61/I61)*100 -> 4.5454545 | M61: =(D61-$D$295) -> -109 | N61: =(M61)^2 -> 11881 | O61: =(F61-$F$295) -> -99 | P61: =(O61)^2 -> 9801 | Q61: =(M61*O61) -> 10791
A62: Engelhardt "Pepa" | B62: Saat-Hafer
A63: Valic "Eric" | B63: Roggen (Secale cereale) | C63: =VLOOKUP(A63,'Laboratory A'!A:V,20,0) -> 44 | D63: =_xlfn.RANK.AVG(C63,C$2:C$291,1) -> 109 | E63: =VLOOKUP(A63,'Laboratory A'!A:V,22,0) -> 88 | F63: =_xlfn.RANK.AVG(E63,E$2:E$291,1) -> 175.5 | G63: =D63-F63 -> -66.5 | H63: =G63^2 -> 4422.25 | I63: =(C63+E63)/2 -> 66 | J63: =((C63-I63)^2+(E63-I63)^2)/2 -> 484 | K63: =SQRT(J63) -> 22 | L63: =(K63/I63)*100 -> 33.333333 | M63: =(D63-$D$295) -> -22.5 | N63: =(M63)^2 -> 506.25 | O63: =(F63-$F$295) -> 44 | P63: =(O63)^2 -> 1936 | Q63: =(M63*O63) -> -990
A64: Klenk "Fiete" | B64: Roggen | C64: =VLOOKUP(A64,'Laboratory A'!A:V,20,0) -> 34 | D64: =_xlfn.RANK.AVG(C64,C$2:C$291,1) -> 88 | E64: =VLOOKUP(A64,'Laboratory A'!A:V,22,0) -> 77 | F64: =_xlfn.RANK.AVG(E64,E$2:E$291,1) -> 165 | G64: =D64-F64 -> -77 | H64: =G64^2 -> 5929 | I64: =(C64+E64)/2 -> 55.5 | J64: =((C64-I64)^2+(E64-I64)^2)/2 -> 462.25 | K64: =SQRT(J64) -> 21.5 | L64: =(K64/I64)*100 -> 38.738739 | M64: =(D64-$D$295) -> -43.5 | N64: =(M64)^2 -> 1892.25 | O64: =(F64-$F$295) -> 33.5 | P64: =(O64)^2 -> 1122.25 | Q64: =(M64*O64) -> -1457.25
A65: Pintsch "Lilly" | B65: Roggen | C65: =VLOOKUP(A65,'Laboratory A'!A:V,20,0) -> 82 | D65: =_xlfn.RANK.AVG(C65,C$2:C$291,1) -> 172.5 | E65: =VLOOKUP(A65,'Laboratory A'!A:V,22,0) -> 287 | F65: =_xlfn.RANK.AVG(E65,E$2:E$291,1) -> 230.5 | G65: =D65-F65 -> -58 | H65: =G65^2 -> 3364 | I65: =(C65+E65)/2 -> 184.5 | J65: =((C65-I65)^2+(E65-I65)^2)/2 -> 10506.25 | K65: =SQRT(J65) -> 102.5 | L65: =(K65/I65)*100 -> 55.555556 | M65: =(D65-$D$295) -> 41 | N65: =(M65)^2 -> 1681 | O65: =(F65-$F$295) -> 99 | P65: =(O65)^2 -> 9801 | Q65: =(M65*O65) -> 4059
A66: Funken "Themba" | B66: Roggen | C66: =VLOOKUP(A66,'Laboratory A'!A:V,20,0) -> 278 | D66: =_xlfn.RANK.AVG(C66,C$2:C$291,1) -> 231 | E66: =VLOOKUP(A66,'Laboratory A'!A:V,22,0) -> 273 | F66: =_xlfn.RANK.AVG(E66,E$2:E$291,1) -> 226 | G66: =D66-F66 -> 5 | H66: =G66^2 -> 25 | I66: =(C66+E66)/2 -> 275.5 | J66: =((C66-I66)^2+(E66-I66)^2)/2 -> 6.25 | K66: =SQRT(J66) -> 2.5 | L66: =(K66/I66)*100 -> 0.90744102 | M66: =(D66-$D$295) -> 99.5 | N66: =(M66)^2 -> 9900.25 | O66: =(F66-$F$295) -> 94.5 | P66: =(O66)^2 -> 8930.25 | Q66: =(M66*O66) -> 9402.75
A67: Tietzen "Oscar" | B67: Roggen | C67: =VLOOKUP(A67,'Laboratory A'!A:V,20,0) -> 61 | D67: =_xlfn.RANK.AVG(C67,C$2:C$291,1) -> 152 | E67: =VLOOKUP(A67,'Laboratory A'!A:V,22,0) -> 788 | F67: =_xlfn.RANK.AVG(E67,E$2:E$291,1) -> 260 | G67: =D67-F67 -> -108 | H67: =G67^2 -> 11664 | I67: =(C67+E67)/2 -> 424.5 | J67: =((C67-I67)^2+(E67-I67)^2)/2 -> 132132.25 | K67: =SQRT(J67) -> 363.5 | L67: =(K67/I67)*100 -> 85.630153 | M67: =(D67-$D$295) -> 20.5 | N67: =(M67)^2 -> 420.25 | O67: =(F67-$F$295) -> 128.5 | P67: =(O67)^2 -> 16512.25 | Q67: =(M67*O67) -> 2634.25
A68: Zeitler "Pinie" | B68: Roggen | C68: =VLOOKUP(A68,'Laboratory A'!A:V,20,0) -> 158 | D68: =_xlfn.RANK.AVG(C68,C$2:C$291,1) -> 200.5 | E68: =VLOOKUP(A68,'Laboratory A'!A:V,22,0) -> 54 | F68: =_xlfn.RANK.AVG(E68,E$2:E$291,1) -> 120.5 | G68: =D68-F68 -> 80 | H68: =G68^2 -> 6400 | I68: =(C68+E68)/2 -> 106 | J68: =((C68-I68)^2+(E68-I68)^2)/2 -> 2704 | K68: =SQRT(J68) -> 52 | L68: =(K68/I68)*100 -> 49.056604 | M68: =(D68-$D$295) -> 69 | N68: =(M68)^2 -> 4761 | O68: =(F68-$F$295) -> -11 | P68: =(O68)^2 -> 121 | Q68: =(M68*O68) -> -759
A69: Mutscheller "Mira" | B69: Roggen | C69: =VLOOKUP(A69,'Laboratory A'!A:V,20,0) -> 105 | D69: =_xlfn.RANK.AVG(C69,C$2:C$291,1) -> 187.5 | E69: =VLOOKUP(A69,'Laboratory A'!A:V,22,0) -> 61 | F69: =_xlfn.RANK.AVG(E69,E$2:E$291,1) -> 134 | G69: =D69-F69 -> 53.5 | H69: =G69^2 -> 2862.25 | I69: =(C69+E69)/2 -> 83 | J69: =((C69-I69)^2+(E69-I69)^2)/2 -> 484 | K69: =SQRT(J69) -> 22 | L69: =(K69/I69)*100 -> 26.506024 | M69: =(D69-$D$295) -> 56 | N69: =(M69)^2 -> 3136 | O69: =(F69-$F$295) -> 2.5 | P69: =(O69)^2 -> 6.25 | Q69: =(M69*O69) -> 140
A70: Kern "Wayty" | B70: Roggen | C70: =VLOOKUP(A70,'Laboratory A'!A:V,20,0) -> 147 | D70: =_xlfn.RANK.AVG(C70,C$2:C$291,1) -> 194 | E70: =VLOOKUP(A70,'Laboratory A'!A:V,22,0) -> 52 | F70: =_xlfn.RANK.AVG(E70,E$2:E$291,1) -> 115 | G70: =D70-F70 -> 79 | H70: =G70^2 -> 6241 | I70: =(C70+E70)/2 -> 99.5 | J70: =((C70-I70)^2+(E70-I70)^2)/2 -> 2256.25 | K70: =SQRT(J70) -> 47.5 | L70: =(K70/I70)*100 -> 47.738693 | M70: =(D70-$D$295) -> 62.5 | N70: =(M70)^2 -> 3906.25 | O70: =(F70-$F$295) -> -16.5 | P70: =(O70)^2 -> 272.25 | Q70: =(M70*O70) -> -1031.25
A71: Lang "Wenzl" | B71: Roggen | C71: =VLOOKUP(A71,'Laboratory A'!A:V,20,0) -> 15 | D71: =_xlfn.RANK.AVG(C71,C$2:C$291,1) -> 8 | E71: =VLOOKUP(A71,'Laboratory A'!A:V,22,0) -> 25 | F71: =_xlfn.RANK.AVG(E71,E$2:E$291,1) -> 40 | G71: =D71-F71 -> -32 | H71: =G71^2 -> 1024 | I71: =(C71+E71)/2 -> 20 | J71: =((C71-I71)^2+(E71-I71)^2)/2 -> 25 | K71: =SQRT(J71) -> 5 | L71: =(K71/I71)*100 -> 25 | M71: =(D71-$D$295) -> -123.5 | N71: =(M71)^2 -> 15252.25 | O71: =(F71-$F$295) -> -91.5 | P71: =(O71)^2 -> 8372.25 | Q71: =(M71*O71) -> 11300.25
A72: Engelhardt "Pepa" | B72: Roggen
A73: Valic "Eric" | B73: Speisemilbe (Tyrophagus putrescentiae) | C73: =VLOOKUP(A73,'Laboratory A'!A:Y,23,0) -> 61 | D73: =_xlfn.RANK.AVG(C73,C$2:C$291,1) -> 152 | E73: =VLOOKUP(A73,'Laboratory A'!A:Y,25,0) -> 176 | F73: =_xlfn.RANK.AVG(E73,E$2:E$291,1) -> 208 | G73: =D73-F73 -> -56 | H73: =G73^2 -> 3136 | I73: =(C73+E73)/2 -> 118.5 | J73: =((C73-I73)^2+(E73-I73)^2)/2 -> 3306.25 | K73: =SQRT(J73) -> 57.5 | L73: =(K73/I73)*100 -> 48.523207 | M73: =(D73-$D$295) -> 20.5 | N73: =(M73)^2 -> 420.25 | O73: =(F73-$F$295) -> 76.5 | P73: =(O73)^2 -> 5852.25 | Q73: =(M73*O73) -> 1568.25
A74: Klenk "Fiete" | B74: Speisemilbe | C74: =VLOOKUP(A74,'Laboratory A'!A:Y,23,0) -> 51 | D74: =_xlfn.RANK.AVG(C74,C$2:C$291,1) -> 129.5 | E74: =VLOOKUP(A74,'Laboratory A'!A:Y,25,0) -> 72 | F74: =_xlfn.RANK.AVG(E74,E$2:E$291,1) -> 154.5 | G74: =D74-F74 -> -25 | H74: =G74^2 -> 625 | I74: =(C74+E74)/2 -> 61.5 | J74: =((C74-I74)^2+(E74-I74)^2)/2 -> 110.25 | K74: =SQRT(J74) -> 10.5 | L74: =(K74/I74)*100 -> 17.073171 | M74: =(D74-$D$295) -> -2 | N74: =(M74)^2 -> 4 | O74: =(F74-$F$295) -> 23 | P74: =(O74)^2 -> 529 | Q74: =(M74*O74) -> -46
A75: Pintsch "Lilly" | B75: Speisemilbe | C75: =VLOOKUP(A75,'Laboratory A'!A:Y,23,0) -> 456 | D75: =_xlfn.RANK.AVG(C75,C$2:C$291,1) -> 248 | E75: =VLOOKUP(A75,'Laboratory A'!A:Y,25,0) -> 447 | F75: =_xlfn.RANK.AVG(E75,E$2:E$291,1) -> 254 | G75: =D75-F75 -> -6 | H75: =G75^2 -> 36 | I75: =(C75+E75)/2 -> 451.5 | J75: =((C75-I75)^2+(E75-I75)^2)/2 -> 20.25 | K75: =SQRT(J75) -> 4.5 | L75: =(K75/I75)*100 -> 0.99667774 | M75: =(D75-$D$295) -> 116.5 | N75: =(M75)^2 -> 13572.25 | O75: =(F75-$F$295) -> 122.5 | P75: =(O75)^2 -> 15006.25 | Q75: =(M75*O75) -> 14271.25
A76: Funken "Themba" | B76: Speisemilbe | C76: =VLOOKUP(A76,'Laboratory A'!A:Y,23,0) -> 455 | D76: =_xlfn.RANK.AVG(C76,C$2:C$291,1) -> 247 | E76: =VLOOKUP(A76,'Laboratory A'!A:Y,25,0) -> 421 | F76: =_xlfn.RANK.AVG(E76,E$2:E$291,1) -> 247.5 | G76: =D76-F76 -> -0.5 | H76: =G76^2 -> 0.25 | I76: =(C76+E76)/2 -> 438 | J76: =((C76-I76)^2+(E76-I76)^2)/2 -> 289 | K76: =SQRT(J76) -> 17 | L76: =(K76/I76)*100 -> 3.8812785 | M76: =(D76-$D$295) -> 115.5 | N76: =(M76)^2 -> 13340.25 | O76: =(F76-$F$295) -> 116 | P76: =(O76)^2 -> 13456 | Q76: =(M76*O76) -> 13398
A77: Tietzen "Oscar" | B77: Speisemilbe | C77: =VLOOKUP(A77,'Laboratory A'!A:Y,23,0) -> 411 | D77: =_xlfn.RANK.AVG(C77,C$2:C$291,1) -> 242 | E77: =VLOOKUP(A77,'Laboratory A'!A:Y,25,0) -> 316 | F77: =_xlfn.RANK.AVG(E77,E$2:E$291,1) -> 235 | G77: =D77-F77 -> 7 | H77: =G77^2 -> 49 | I77: =(C77+E77)/2 -> 363.5 | J77: =((C77-I77)^2+(E77-I77)^2)/2 -> 2256.25 | K77: =SQRT(J77) -> 47.5 | L77: =(K77/I77)*100 -> 13.0674 | M77: =(D77-$D$295) -> 110.5 | N77: =(M77)^2 -> 12210.25 | O77: =(F77-$F$295) -> 103.5 | P77: =(O77)^2 -> 10712.25 | Q77: =(M77*O77) -> 11436.75
A78: Zeitler "Pinie" | B78: Speisemilbe | C78: =VLOOKUP(A78,'Laboratory A'!A:Y,23,0) -> 187 | D78: =_xlfn.RANK.AVG(C78,C$2:C$291,1) -> 212 | E78: =VLOOKUP(A78,'Laboratory A'!A:Y,25,0) -> 202 | F78: =_xlfn.RANK.AVG(E78,E$2:E$291,1) -> 212 | G78: =D78-F78 -> 0 | H78: =G78^2 -> 0 | I78: =(C78+E78)/2 -> 194.5 | J78: =((C78-I78)^2+(E78-I78)^2)/2 -> 56.25 | K78: =SQRT(J78) -> 7.5 | L78: =(K78/I78)*100 -> 3.8560411 | M78: =(D78-$D$295) -> 80.5 | N78: =(M78)^2 -> 6480.25 | O78: =(F78-$F$295) -> 80.5 | P78: =(O78)^2 -> 6480.25 | Q78: =(M78*O78) -> 6480.25
A79: Mutscheller "Mira" | B79: Speisemilbe | C79: =VLOOKUP(A79,'Laboratory A'!A:Y,23,0) -> 618 | D79: =_xlfn.RANK.AVG(C79,C$2:C$291,1) -> 256 | E79: =VLOOKUP(A79,'Laboratory A'!A:Y,25,0) -> 377 | F79: =_xlfn.RANK.AVG(E79,E$2:E$291,1) -> 241 | G79: =D79-F79 -> 15 | H79: =G79^2 -> 225 | I79: =(C79+E79)/2 -> 497.5 | J79: =((C79-I79)^2+(E79-I79)^2)/2 -> 14520.25 | K79: =SQRT(J79) -> 120.5 | L79: =(K79/I79)*100 -> 24.221106 | M79: =(D79-$D$295) -> 124.5 | N79: =(M79)^2 -> 15500.25 | O79: =(F79-$F$295) -> 109.5 | P79: =(O79)^2 -> 11990.25 | Q79: =(M79*O79) -> 13632.75
A80: Kern "Wayty" | B80: Speisemilbe | C80: =VLOOKUP(A80,'Laboratory A'!A:Y,23,0) -> 56 | D80: =_xlfn.RANK.AVG(C80,C$2:C$291,1) -> 138.5 | E80: =VLOOKUP(A80,'Laboratory A'!A:Y,25,0) -> 45 | F80: =_xlfn.RANK.AVG(E80,E$2:E$291,1) -> 100.5 | G80: =D80-F80 -> 38 | H80: =G80^2 -> 1444 | I80: =(C80+E80)/2 -> 50.5 | J80: =((C80-I80)^2+(E80-I80)^2)/2 -> 30.25 | K80: =SQRT(J80) -> 5.5 | L80: =(K80/I80)*100 -> 10.891089 | M80: =(D80-$D$295) -> 7 | N80: =(M80)^2 -> 49 | O80: =(F80-$F$295) -> -31 | P80: =(O80)^2 -> 961 | Q80: =(M80*O80) -> -217
A81: Lang "Wenzl" | B81: Speisemilbe | C81: =VLOOKUP(A81,'Laboratory A'!A:Y,23,0) -> 33 | D81: =_xlfn.RANK.AVG(C81,C$2:C$291,1) -> 84.5 | E81: =VLOOKUP(A81,'Laboratory A'!A:Y,25,0) -> 19 | F81: =_xlfn.RANK.AVG(E81,E$2:E$291,1) -> 21 | G81: =D81-F81 -> 63.5 | H81: =G81^2 -> 4032.25 | I81: =(C81+E81)/2 -> 26 | J81: =((C81-I81)^2+(E81-I81)^2)/2 -> 49 | K81: =SQRT(J81) -> 7 | L81: =(K81/I81)*100 -> 26.923077 | M81: =(D81-$D$295) -> -47 | N81: =(M81)^2 -> 2209 | O81: =(F81-$F$295) -> -110.5 | P81: =(O81)^2 -> 12210.25 | Q81: =(M81*O81) -> 5193.5
A82: Engelhardt "Pepa" | B82: Speisemilbe
A83: Valic "Eric" | B83: Am. Hausstaubmilbe (D. farinae) | C83: =VLOOKUP(A83,'Laboratory A'!A:AB,26,0) -> 28 | D83: =_xlfn.RANK.AVG(C83,C$2:C$291,1) -> 57 | E83: =VLOOKUP(A83,'Laboratory A'!A:AB,28,0) -> 38 | F83: =_xlfn.RANK.AVG(E83,E$2:E$291,1) -> 89 | G83: =D83-F83 -> -32 | H83: =G83^2 -> 1024 | I83: =(C83+E83)/2 -> 33 | J83: =((C83-I83)^2+(E83-I83)^2)/2 -> 25 | K83: =SQRT(J83) -> 5 | L83: =(K83/I83)*100 -> 15.151515 | M83: =(D83-$D$295) -> -74.5 | N83: =(M83)^2 -> 5550.25 | O83: =(F83-$F$295) -> -42.5 | P83: =(O83)^2 -> 1806.25 | Q83: =(M83*O83) -> 3166.25
A84: Klenk "Fiete" | B84: Am. Hausstaubmilbe | C84: =VLOOKUP(A84,'Laboratory A'!A:AB,26,0) -> 32 | D84: =_xlfn.RANK.AVG(C84,C$2:C$291,1) -> 79.5 | E84: =VLOOKUP(A84,'Laboratory A'!A:AB,28,0) -> 77 | F84: =_xlfn.RANK.AVG(E84,E$2:E$291,1) -> 165 | G84: =D84-F84 -> -85.5 | H84: =G84^2 -> 7310.25 | I84: =(C84+E84)/2 -> 54.5 | J84: =((C84-I84)^2+(E84-I84)^2)/2 -> 506.25 | K84: =SQRT(J84) -> 22.5 | L84: =(K84/I84)*100 -> 41.284404 | M84: =(D84-$D$295) -> -52 | N84: =(M84)^2 -> 2704 | O84: =(F84-$F$295) -> 33.5 | P84: =(O84)^2 -> 1122.25 | Q84: =(M84*O84) -> -1742
A85: Pintsch "Lilly" | B85: Am. Hausstaubmilbe | C85: =VLOOKUP(A85,'Laboratory A'!A:AB,26,0) -> 199 | D85: =_xlfn.RANK.AVG(C85,C$2:C$291,1) -> 214 | E85: =VLOOKUP(A85,'Laboratory A'!A:AB,28,0) -> 275 | F85: =_xlfn.RANK.AVG(E85,E$2:E$291,1) -> 227 | G85: =D85-F85 -> -13 | H85: =G85^2 -> 169 | I85: =(C85+E85)/2 -> 237 | J85: =((C85-I85)^2+(E85-I85)^2)/2 -> 1444 | K85: =SQRT(J85) -> 38 | L85: =(K85/I85)*100 -> 16.033755 | M85: =(D85-$D$295) -> 82.5 | N85: =(M85)^2 -> 6806.25 | O85: =(F85-$F$295) -> 95.5 | P85: =(O85)^2 -> 9120.25 | Q85: =(M85*O85) -> 7878.75
A86: Funken "Themba" | B86: Am. Hausstaubmilbe | C86: =VLOOKUP(A86,'Laboratory A'!A:AB,26,0) -> 281 | D86: =_xlfn.RANK.AVG(C86,C$2:C$291,1) -> 233 | E86: =VLOOKUP(A86,'Laboratory A'!A:AB,28,0) -> 279 | F86: =_xlfn.RANK.AVG(E86,E$2:E$291,1) -> 228 | G86: =D86-F86 -> 5 | H86: =G86^2 -> 25 | I86: =(C86+E86)/2 -> 280 | J86: =((C86-I86)^2+(E86-I86)^2)/2 -> 1 | K86: =SQRT(J86) -> 1 | L86: =(K86/I86)*100 -> 0.35714286 | M86: =(D86-$D$295) -> 101.5 | N86: =(M86)^2 -> 10302.25 | O86: =(F86-$F$295) -> 96.5 | P86: =(O86)^2 -> 9312.25 | Q86: =(M86*O86) -> 9794.75
A87: Tietzen "Oscar" | B87: Am. Hausstaubmilbe | C87: =VLOOKUP(A87,'Laboratory A'!A:AB,26,0) -> 257 | D87: =_xlfn.RANK.AVG(C87,C$2:C$291,1) -> 228 | E87: =VLOOKUP(A87,'Laboratory A'!A:AB,28,0) -> 256 | F87: =_xlfn.RANK.AVG(E87,E$2:E$291,1) -> 224.5 | G87: =D87-F87 -> 3.5 | H87: =G87^2 -> 12.25 | I87: =(C87+E87)/2 -> 256.5 | J87: =((C87-I87)^2+(E87-I87)^2)/2 -> 0.25 | K87: =SQRT(J87) -> 0.5 | L87: =(K87/I87)*100 -> 0.19493177 | M87: =(D87-$D$295) -> 96.5 | N87: =(M87)^2 -> 9312.25 | O87: =(F87-$F$295) -> 93 | P87: =(O87)^2 -> 8649 | Q87: =(M87*O87) -> 8974.5
A88: Zeitler "Pinie" | B88: Am. Hausstaubmilbe | C88: =VLOOKUP(A88,'Laboratory A'!A:AB,26,0) -> 27 | D88: =_xlfn.RANK.AVG(C88,C$2:C$291,1) -> 51.5 | E88: =VLOOKUP(A88,'Laboratory A'!A:AB,28,0) -> 210 | F88: =_xlfn.RANK.AVG(E88,E$2:E$291,1) -> 215 | G88: =D88-F88 -> -163.5 | H88: =G88^2 -> 26732.25 | I88: =(C88+E88)/2 -> 118.5 | J88: =((C88-I88)^2+(E88-I88)^2)/2 -> 8372.25 | K88: =SQRT(J88) -> 91.5 | L88: =(K88/I88)*100 -> 77.21519 | M88: =(D88-$D$295) -> -80 | N88: =(M88)^2 -> 6400 | O88: =(F88-$F$295) -> 83.5 | P88: =(O88)^2 -> 6972.25 | Q88: =(M88*O88) -> -6680
A89: Mutscheller "Mira" | B89: Am. Hausstaubmilbe | C89: =VLOOKUP(A89,'Laboratory A'!A:AB,26,0) -> 279 | D89: =_xlfn.RANK.AVG(C89,C$2:C$291,1) -> 232 | E89: =VLOOKUP(A89,'Laboratory A'!A:AB,28,0) -> 213 | F89: =_xlfn.RANK.AVG(E89,E$2:E$291,1) -> 216 | G89: =D89-F89 -> 16 | H89: =G89^2 -> 256 | I89: =(C89+E89)/2 -> 246 | J89: =((C89-I89)^2+(E89-I89)^2)/2 -> 1089 | K89: =SQRT(J89) -> 33 | L89: =(K89/I89)*100 -> 13.414634 | M89: =(D89-$D$295) -> 100.5 | N89: =(M89)^2 -> 10100.25 | O89: =(F89-$F$295) -> 84.5 | P89: =(O89)^2 -> 7140.25 | Q89: =(M89*O89) -> 8492.25
A90: Kern "Wayty" | B90: Am. Hausstaubmilbe | C90: =VLOOKUP(A90,'Laboratory A'!A:AB,26,0) -> 34 | D90: =_xlfn.RANK.AVG(C90,C$2:C$291,1) -> 88 | E90: =VLOOKUP(A90,'Laboratory A'!A:AB,28,0) -> 33 | F90: =_xlfn.RANK.AVG(E90,E$2:E$291,1) -> 77 | G90: =D90-F90 -> 11 | H90: =G90^2 -> 121 | I90: =(C90+E90)/2 -> 33.5 | J90: =((C90-I90)^2+(E90-I90)^2)/2 -> 0.25 | K90: =SQRT(J90) -> 0.5 | L90: =(K90/I90)*100 -> 1.4925373 | M90: =(D90-$D$295) -> -43.5 | N90: =(M90)^2 -> 1892.25 | O90: =(F90-$F$295) -> -54.5 | P90: =(O90)^2 -> 2970.25 | Q90: =(M90*O90) -> 2370.75
A91: Lang "Wenzl" | B91: Am. Hausstaubmilbe | C91: =VLOOKUP(A91,'Laboratory A'!A:AB,26,0) -> 10 | D91: =_xlfn.RANK.AVG(C91,C$2:C$291,1) -> 3 | E91: =VLOOKUP(A91,'Laboratory A'!A:AB,28,0) -> 19 | F91: =_xlfn.RANK.AVG(E91,E$2:E$291,1) -> 21 | G91: =D91-F91 -> -18 | H91: =G91^2 -> 324 | I91: =(C91+E91)/2 -> 14.5 | J91: =((C91-I91)^2+(E91-I91)^2)/2 -> 20.25 | K91: =SQRT(J91) -> 4.5 | L91: =(K91/I91)*100 -> 31.034483 | M91: =(D91-$D$295) -> -128.5 | N91: =(M91)^2 -> 16512.25 | O91: =(F91-$F$295) -> -110.5 | P91: =(O91)^2 -> 12210.25 | Q91: =(M91*O91) -> 14199.25
A92: Engelhardt "Pepa" | B92: Am. Hausstaubmilbe
A93: Valic "Eric" | B93: Heumilbe (Lepidoglyphus destructor) | C93: =VLOOKUP(A93,'Laboratory A'!A:AE,29,0) -> 56 | D93: =_xlfn.RANK.AVG(C93,C$2:C$291,1) -> 138.5 | E93: =VLOOKUP(A93,'Laboratory A'!A:AE,31,0) -> 29 | F93: =_xlfn.RANK.AVG(E93,E$2:E$291,1) -> 60 | G93: =D93-F93 -> 78.5 | H93: =G93^2 -> 6162.25 | I93: =(C93+E93)/2 -> 42.5 | J93: =((C93-I93)^2+(E93-I93)^2)/2 -> 182.25 | K93: =SQRT(J93) -> 13.5 | L93: =(K93/I93)*100 -> 31.764706 | M93: =(D93-$D$295) -> 7 | N93: =(M93)^2 -> 49 | O93: =(F93-$F$295) -> -71.5 | P93: =(O93)^2 -> 5112.25 | Q93: =(M93*O93) -> -500.5
A94: Klenk "Fiete" | B94: Heumilbe | C94: =VLOOKUP(A94,'Laboratory A'!A:AE,29,0) -> 29 | D94: =_xlfn.RANK.AVG(C94,C$2:C$291,1) -> 63 | E94: =VLOOKUP(A94,'Laboratory A'!A:AE,31,0) -> 47 | F94: =_xlfn.RANK.AVG(E94,E$2:E$291,1) -> 103.5 | G94: =D94-F94 -> -40.5 | H94: =G94^2 -> 1640.25 | I94: =(C94+E94)/2 -> 38 | J94: =((C94-I94)^2+(E94-I94)^2)/2 -> 81 | K94: =SQRT(J94) -> 9 | L94: =(K94/I94)*100 -> 23.684211 | M94: =(D94-$D$295) -> -68.5 | N94: =(M94)^2 -> 4692.25 | O94: =(F94-$F$295) -> -28 | P94: =(O94)^2 -> 784 | Q94: =(M94*O94) -> 1918
A95: Pintsch "Lilly" | B95: Heumilbe | C95: =VLOOKUP(A95,'Laboratory A'!A:AE,29,0) -> 29 | D95: =_xlfn.RANK.AVG(C95,C$2:C$291,1) -> 63 | E95: =VLOOKUP(A95,'Laboratory A'!A:AE,31,0) -> 82 | F95: =_xlfn.RANK.AVG(E95,E$2:E$291,1) -> 169 | G95: =D95-F95 -> -106 | H95: =G95^2 -> 11236 | I95: =(C95+E95)/2 -> 55.5 | J95: =((C95-I95)^2+(E95-I95)^2)/2 -> 702.25 | K95: =SQRT(J95) -> 26.5 | L95: =(K95/I95)*100 -> 47.747748 | M95: =(D95-$D$295) -> -68.5 | N95: =(M95)^2 -> 4692.25 | O95: =(F95-$F$295) -> 37.5 | P95: =(O95)^2 -> 1406.25 | Q95: =(M95*O95) -> -2568.75
A96: Funken "Themba" | B96: Heumilbe | C96: =VLOOKUP(A96,'Laboratory A'!A:AE,29,0) -> 39 | D96: =_xlfn.RANK.AVG(C96,C$2:C$291,1) -> 99 | E96: =VLOOKUP(A96,'Laboratory A'!A:AE,31,0) -> 38 | F96: =_xlfn.RANK.AVG(E96,E$2:E$291,1) -> 89 | G96: =D96-F96 -> 10 | H96: =G96^2 -> 100 | I96: =(C96+E96)/2 -> 38.5 | J96: =((C96-I96)^2+(E96-I96)^2)/2 -> 0.25 | K96: =SQRT(J96) -> 0.5 | L96: =(K96/I96)*100 -> 1.2987013 | M96: =(D96-$D$295) -> -32.5 | N96: =(M96)^2 -> 1056.25 | O96: =(F96-$F$295) -> -42.5 | P96: =(O96)^2 -> 1806.25 | Q96: =(M96*O96) -> 1381.25
A97: Tietzen "Oscar" | B97: Heumilbe | C97: =VLOOKUP(A97,'Laboratory A'!A:AE,29,0) -> 22 | D97: =_xlfn.RANK.AVG(C97,C$2:C$291,1) -> 26.5 | E97: =VLOOKUP(A97,'Laboratory A'!A:AE,31,0) -> 27 | F97: =_xlfn.RANK.AVG(E97,E$2:E$291,1) -> 49 | G97: =D97-F97 -> -22.5 | H97: =G97^2 -> 506.25 | I97: =(C97+E97)/2 -> 24.5 | J97: =((C97-I97)^2+(E97-I97)^2)/2 -> 6.25 | K97: =SQRT(J97) -> 2.5 | L97: =(K97/I97)*100 -> 10.204082 | M97: =(D97-$D$295) -> -105 | N97: =(M97)^2 -> 11025 | O97: =(F97-$F$295) -> -82.5 | P97: =(O97)^2 -> 6806.25 | Q97: =(M97*O97) -> 8662.5
A98: Zeitler "Pinie" | B98: Heumilbe | C98: =VLOOKUP(A98,'Laboratory A'!A:AE,29,0) -> 17 | D98: =_xlfn.RANK.AVG(C98,C$2:C$291,1) -> 14.5 | E98: =VLOOKUP(A98,'Laboratory A'!A:AE,31,0) -> 22 | F98: =_xlfn.RANK.AVG(E98,E$2:E$291,1) -> 28 | G98: =D98-F98 -> -13.5 | H98: =G98^2 -> 182.25 | I98: =(C98+E98)/2 -> 19.5 | J98: =((C98-I98)^2+(E98-I98)^2)/2 -> 6.25 | K98: =SQRT(J98) -> 2.5 | L98: =(K98/I98)*100 -> 12.820513 | M98: =(D98-$D$295) -> -117 | N98: =(M98)^2 -> 13689 | O98: =(F98-$F$295) -> -103.5 | P98: =(O98)^2 -> 10712.25 | Q98: =(M98*O98) -> 12109.5
A99: Mutscheller "Mira" | B99: Heumilbe | C99: =VLOOKUP(A99,'Laboratory A'!A:AE,29,0) -> 40 | D99: =_xlfn.RANK.AVG(C99,C$2:C$291,1) -> 101 | E99: =VLOOKUP(A99,'Laboratory A'!A:AE,31,0) -> 23 | F99: =_xlfn.RANK.AVG(E99,E$2:E$291,1) -> 32.5 | G99: =D99-F99 -> 68.5 | H99: =G99^2 -> 4692.25 | I99: =(C99+E99)/2 -> 31.5 | J99: =((C99-I99)^2+(E99-I99)^2)/2 -> 72.25 | K99: =SQRT(J99) -> 8.5 | L99: =(K99/I99)*100 -> 26.984127 | M99: =(D99-$D$295) -> -30.5 | N99: =(M99)^2 -> 930.25 | O99: =(F99-$F$295) -> -99 | P99: =(O99)^2 -> 9801 | Q99: =(M99*O99) -> 3019.5
A100: Kern "Wayty" | B100: Heumilbe | C100: =VLOOKUP(A100,'Laboratory A'!A:AE,29,0) -> 66 | D100: =_xlfn.RANK.AVG(C100,C$2:C$291,1) -> 157 | E100: =VLOOKUP(A100,'Laboratory A'!A:AE,31,0) -> 27 | F100: =_xlfn.RANK.AVG(E100,E$2:E$291,1) -> 49 | G100: =D100-F100 -> 108 | H100: =G100^2 -> 11664 | I100: =(C100+E100)/2 -> 46.5 | J100: =((C100-I100)^2+(E100-I100)^2)/2 -> 380.25 | K100: =SQRT(J100) -> 19.5 | L100: =(K100/I100)*100 -> 41.935484 | M100: =(D100-$D$295) -> 25.5 | N100: =(M100)^2 -> 650.25 | O100: =(F100-$F$295) -> -82.5 | P100: =(O100)^2 -> 6806.25 | Q100: =(M100*O100) -> -2103.75
...

Sheet Laboratory B
A1: Hund (Dog) | B1: Birke (Betula) | E1: Erle (Alnus) | H1: Eiche (Quercus) | K1: Sumpfzypresse (Taxodium distichum) | N1: Haselstrauch (Corylus) | Q1: Ulme (Ulmus) | T1: Buche (Fagus sylvatica) | W1: Pappel (Populus) | Z1: Ahorn (Acer) | AC1: Weide (Salix) | AF1: Olive (Olea) | AI1: Wacholder (Juniperus virginiana) | AL1: 6-Gräser Mix (6-grass pollen mixture) | AO1: Straußgras (Agrostis alba) | AR1: Hundszahngras (Cynodon dactylon) | AU1: Aleppornohrenhirse (Sorghum halpense) | AX1: Sauerampfer (Rumex crispus) | BA1: Spitzwegerich (Plantago lanceolata) | BD1: Beifuß (Artemisia spp.) | BG1: Weißer Gänsefuß (Chenopodium spp.) | BJ1: Brennessel (Urtica dioica) | BM1: Traubenkraut (Ambrosia spp.) | BP1: Glaskraut (Parietaria jud.) | BS1: Kali-Salzkraut (Salsola kali) | BV1: Floh (Flea) | BY1: D. farinae | CB1: D. pteronyssinus | CE1: Tyrophagus putrescentiae | CH1: Lepidoglyphus destructor | CK1: Acarus siro | CN1: Kakerlake (Blatella germanica) | CQ1: Alternaria alternata | CT1: Cladosporium herbarum | CW1: Aspergillus fumigatus | CZ1: Penicillium notatum
A2: Boger "Baddy" | B2: 73 | C2: 72 | D2: 71 | E2: 11 | F2: 9 | G2: 18 | H2: 140 | I2: 146 | J2: 121 | K2: 0 | L2: 0 | M2: 0 | N2: 26 | O2: 24 | P2: 13 | Q2: 113 | R2: 97 | S2: 111 | T2: 77 | U2: 72 | V2: 83 | W2: 63 | X2: 49 | Y2: 80 | Z2: 16 | AA2: 5 | AB2: 35 | AC2: 69 | AD2: 63 | AE2: 59 | AF2: 79 | AG2: 70 | AH2: 73 | AI2: 9 | AJ2: 0 | AK2: 0 | AL2: 296 | AM2: 320 | AN2: 260 | AO2: 296 | AP2: 329 | AQ2: 282 | AR2: 296 | AS2: 313 | AT2: 286 | AU2: 286 | AV2: 297 | AW2: 257 | AX2: 206 | AY2: 231 | AZ2: 193 | BA2: 149 | BB2: 150 | BC2: 146 | BD2: 75 | BE2: 104 | BF2: 92 | BG2: 88 | BH2: 95 | BI2: 72 | BJ2: 0 | BK2: 0 | BL2: 0 | BM2: 111 | BN2: 127 | BO2: 101 | BP2: 58 | BQ2: 65 | BR2: 31 | BS2: 346 | BT2: 348 | BU2: 299 | BV2: 26 | BW2: 36 | BX2: 6 | BY2: 96 | BZ2: 108 | CA2: 46 | CB2: 14 | CC2: 25 | CD2: 18 | CE2: 69 | CF2: 73 | CG2: 61 | CH2: 6 | CI2: 17 | CJ2: 5 | CK2: 17 | CL2: 24 | CM2: 18 | CN2: 0 | CO2: 11 | CP2: 0 | CQ2: 0 | CR2: 2 | CS2: 0 | CT2: 7 | CU2: 18 | CV2: 0 | CW2: 37 | CX2: 46 | CY2: 10 | CZ2: 0 | DA2: 18 | DB2: 0
A3: Gut "Seven" | B3: 84 | C3: x | D3: 100 | E3: 38 | F3: x | G3: 49 | H3: 72 | I3: x | J3: 92 | K3: 0 | L3: x | M3: 0 | N3: 3 | O3: x | P3: 23 | Q3: 21 | R3: x | S3: 69 | T3: 16 | U3: x | V3: 56 | W3: 43 | X3: x | Y3: 64 | Z3: 54 | AA3: x | AB3: 82 | AC3: 56 | AD3: x | AE3: 86 | AF3: 53 | AG3: x | AH3: 79 | AI3: 0 | AJ3: x | AK3: 95 | AL3: 118 | AM3: 105 | AN3: 164 | AO3: 100 | AP3: 104 | AQ3: 152 | AR3: 80 | AS3: 72 | AT3: 105 | AU3: 96 | AV3: 84 | AW3: 147 | AX3: 89 | AY3: 73 | AZ3: 117 | BA3: 80 | BB3: 59 | BC3: 112 | BD3: 77 | BE3: 50 | BF3: 84 | BG3: 54 | BH3: 50 | BI3: 73 | BJ3: 0 | BK3: 0 | BL3: 4 | BM3: 54 | BN3: 39 | BO3: 92 | BP3: 33 | BQ3: 9 | BR3: 57 | BS3: 74 | BT3: 63 | BU3: 145 | BV3: 33 | BW3: 24 | BX3: 40 | BY3: 57 | BZ3: 46 | CA3: 51 | CB3: 29 | CC3: 28 | CD3: 37 | CE3: 34 | CF3: 44 | CG3: 63 | CH3: 34 | CI3: 24 | CJ3: 39 | CK3: 62 | CL3: 30 | CM3: 49 | CN3: 14 | CO3: 15 | CP3: 14 | CQ3: 36 | CR3: 29 | CS3: 72 | CT3: 52 | CU3: 46 | CV3: 83 | CW3: 47 | CX3: 39 | CY3: 104 | CZ3: 24 | DA3: 12 | DB3: 68
A4: Zelinskij "Cora" | B4: 69 | C4: 62 | D4: 56 | E4: 29 | F4: 29 | G4: 36 | H4: 53 | I4: 52 | J4: 82 | K4: 0 | L4: 0 | M4: 0 | N4: 32 | O4: 27 | P4: 51 | Q4: 48 | R4: 44 | S4: 33 | T4: 30 | U4: 28 | V4: 42 | W4: 47 | X4: 51 | Y4: 11 | Z4: 57 | AA4: 42 | AB4: 73 | AC4: 41 | AD4: 45 | AE4: 60 | AF4: 45 | AG4: 34 | AH4: 34 | AI4: 0 | AJ4: 0 | AK4: 0 | AL4: 190 | AM4: 177 | AN4: 193 | AO4: 754 | AP4: 719 | AQ4: 577 | AR4: 215 | AS4: 75 | AT4: 78 | AU4: 3442 | AV4: 3446 | AW4: 3280 | AX4: 33 | AY4: 34 | AZ4: 60 | BA4: 94 | BB4: 99 | BC4: 81 | BD4: 66 | BE4: 67 | BF4: 30 | BG4: 56 | BH4: 56 | BI4: 37 | BJ4: 0 | BK4: 0 | BL4: 0 | BM4: 124 | BN4: 94 | BO4: 83 | BP4: 34 | BQ4: 31 | BR4: 44 | BS4: 27 | BT4: 30 | BU4: 81 | BV4: 1289 | BW4: 1347 | BX4: 1773 | BY4: 3786 | BZ4: >4000 | CA4: 3734 | CB4: 1354 | CC4: 1105 | CD4: 1328 | CE4: 3982 | CF4: >4000 | CG4: 3720 | CH4: 1162 | CI4: 1150 | CJ4: 1042 | CK4: 3611 | CL4: 3577 | CM4: 3552 | CN4: 0 | CO4: 0 | CP4: 0 | CQ4: 25 | CR4: 37 | CS4: 23 | CT4: 42 | CU4: 51 | CV4: 35 | CW4: 92 | CX4: 82 | CY4: 54 | CZ4: 20 | DA4: 15 | DB4: 13
A5: Wandres "Henry" | B5: 36 | C5: 19 | D5: 101 | E5: 20 | F5: 28 | G5: 27 | H5: 52 | I5: 63 | J5: 78 | K5: 0 | L5: 0 | M5: 0 | N5: 19 | O5: 26 | P5: 21 | Q5: 38 | R5: 41 | S5: 34 | T5: 15 | U5: 25 | V5: 29 | W5: 28 | X5: 34 | Y5: 34 | Z5: 21 | AA5: 26 | AB5: 38 | AC5: 31 | AD5: 44 | AE5: 39 | AF5: 32 | AG5: 36 | AH5: 50 | AI5: 0 | AJ5: 0 | AK5: 0 | AL5: 256 | AM5: 219 | AN5: 187 | AO5: 222 | AP5: 310 | AQ5: 240 | AR5: 414 | AS5: 364 | AT5: 340 | AU5: 150 | AV5: 151 | AW5: 154 | AX5: 241 | AY5: 243 | AZ5: 212 | BA5: 75 | BB5: 76 | BC5: 75 | BD5: 63 | BE5: 64 | BF5: 55 | BG5: 52 | BH5: 46 | BI5: 50 | BJ5: 0 | BK5: 0 | BL5: 0 | BM5: 51 | BN5: 62 | BO5: 49 | BP5: 37 | BQ5: 31 | BR5: 32 | BS5: 306 | BT5: 333 | BU5: 315 | BV5: 25 | BW5: 28 | BX5: 16 | BY5: 35 | BZ5: 45 | CA5: 39 | CB5: 42 | CC5: 45 | CD5: 50 | CE5: 53 | CF5: 58 | CG5: 58 | CH5: 47 | CI5: 54 | CJ5: 40 | CK5: 33 | CL5: 35 | CM5: 37 | CN5: 0 | CO5: 7 | CP5: 0 | CQ5: 31 | CR5: 39 | CS5: 24 | CT5: 39 | CU5: 54 | CV5: 35 | CW5: 54 | CX5: 79 | CY5: 57 | CZ5: 18 | DA5: 34 | DB5: 24
A6: Mack "Willi" | B6: 1038 | C6: 1134 | D6: 1194 | E6: 256 | F6: 349 | G6: 343 | H6: 1783 | I6: 1891 | J6: 1910 | K6: 3159 | L6: 3142 | M6: 3205 | N6: 708 | O6: 765 | P6: 759 | Q6: 1033 | R6: 1195 | S6: 1097 | T6: 2432 | U6: 2565 | V6: 2442 | W6: 2087 | X6: 2198 | Y6: 2193 | Z6: 1446 | AA6: 1507 | AB6: 1863 | AC6: 1896 | AD6: 1946 | AE6: 1970 | AF6: 1418 | AG6: 1846 | AH6: 1701 | AI6: 2676 | AJ6: 2828 | AK6: 3036 | AL6: 3418 | AM6: 3441 | AN6: 3471 | AO6: 3456 | AP6: 3499 | AQ6: 3534 | AR6: 3382 | AS6: 3511 | AT6: 3546 | AU6: 3411 | AV6: 3440 | AW6: 3498 | AX6: 3283 | AY6: 3369 | AZ6: 3328 | BA6: 2170 | BB6: 2241 | BC6: 2692 | BD6: 507 | BE6: 491 | BF6: 529 | BG6: 2447 | BH6: 2540 | BI6: 2635 | BJ6: 149 | BK6: 150 | BL6: 360 | BM6: 652 | BN6: 705 | BO6: 688 | BP6: 825 | BQ6: 847 | BR6: 901 | BS6: 3131 | BT6: 3265 | BU6: 3234 | BV6: 104 | BW6: 152 | BX6: 124 | BY6: 1163 | BZ6: 1280 | CA6: 1210 | CB6: 92 | CC6: 231 | CD6: 109 | CE6: 154 | CF6: 162 | CG6: 216 | CH6: 101 | CI6: 98 | CJ6: 109 | CK6: 210 | CL6: 263 | CM6: 243 | CN6: 110 | CO6: 125 | CP6: 71 | CQ6: 24 | CR6: 42 | CS6: 21 | CT6: 25 | CU6: 34 | CV6: 27 | CW6: 39 | CX6: 55 | CY6: 60 | CZ6: 8 | DA6: 18 | DB6: 30
A7: Trosev "Bonny" | B7: 62 | C7: 87 | D7: 58 | E7: 35 | F7: 41 | G7: 47 | H7: 234 | I7: 241 | J7: 223 | K7: 0 | L7: 0 | M7: 0 | N7: 45 | O7: 33 | P7: 37 | Q7: 197 | R7: 189 | S7: 185 | T7: 295 | U7: 297 | V7: 294 | W7: 87 | X7: 84 | Y7: 82 | Z7: 216 | AA7: 231 | AB7: 219 | AC7: 185 | AD7: 181 | AE7: 160 | AF7: 174 | AG7: 194 | AH7: 143 | AI7: 0 | AJ7: 0 | AK7: 0 | AL7: 2328 | AM7: 2944 | AN7: 2304 | AO7: 1043 | AP7: 1294 | AQ7: 996 | AR7: 3141 | AS7: 3355 | AT7: 3067 | AU7: 2124 | AV7: 2471 | AW7: 2046 | AX7: 3132 | AY7: 3390 | AZ7: 3085 | BA7: 943 | BB7: 1131 | BC7: 826 | BD7: 347 | BE7: 473 | BF7: 338 | BG7: 179 | BH7: 369 | BI7: 170 | BJ7: 60 | BK7: 0 | BL7: 0 | BM7: 371 | BN7: 426 | BO7: 304 | BP7: 295 | BQ7: 468 | BR7: 304 | BS7: 2945 | BT7: 3234 | BU7: 3086 | BV7: 22 | BW7: 32 | BX7: 33 | BY7: 39 | BZ7: 50 | CA7: 67 | CB7: 26 | CC7: 32 | CD7: 31 | CE7: 34 | CF7: 34 | CG7: 38 | CH7: 26 | CI7: 27 | CJ7: 37 | CK7: 27 | CL7: 31 | CM7: 50 | CN7: 29 | CO7: 28 | CP7: 34 | CQ7: 21 | CR7: 21 | CS7: 26 | CT7: 24 | CU7: 26 | CV7: 32 | CW7: 31 | CX7: 29 | CY7: 46 | CZ7: 9 | DA7: 15 | DB7: 25
A8: Lindner "Trixi" | B8: 118 | C8: 180 | D8: 101 | E8: 70 | F8: 96 | G8: 86 | H8: 191 | I8: 196 | J8: 192 | K8: 241 | L8: 249 | M8: 193 | N8: 99 | O8: 100 | P8: 102 | Q8: 269 | R8: 268 | S8: 259 | T8: 325 | U8: 299 | V8: 287 | W8: 146 | X8: 126 | Y8: 111 | Z8: 154 | AA8: 151 | AB8: 172 | AC8: 170 | AD8: 168 | AE8: 199 | AF8: 190 | AG8: 187 | AH8: 184 | AI8: 111 | AJ8: 96 | AK8: 61 | AL8: 1259 | AM8: 1709 | AN8: 1805 | AO8: 1259 | AP8: 1519 | AQ8: 1464 | AR8: 1192 | AS8: 1764 | AT8: 1736 | AU8: 1613 | AV8: 1759 | AW8: 1664 | AX8: 2459 | AY8: 2277 | AZ8: 2012 | BA8: 546 | BB8: 571 | BC8: 552 | BD8: 212 | BE8: 218 | BF8: 183 | BG8: 315 | BH8: 353 | BI8: 293 | BJ8: 0 | BK8: 17 | BL8: 0 | BM8: 210 | BN8: 180 | BO8: 196 | BP8: 329 | BQ8: 221 | BR8: 250 | BS8: 2456 | BT8: 2242 | BU8: 2217 | BV8: 32 | BW8: 44 | BX8: 85 | BY8: 3430 | BZ8: 3377 | CA8: 3402 | CB8: 367 | CC8: 371 | CD8: 470 | CE8: 1590 | CF8: 1552 | CG8: 1837 | CH8: 9 | CI8: 0 | CJ8: 72 | CK8: 2333 | CL8: 2470 | CM8: 2871 | CN8: 0 | CO8: 0 | CP8: 21 | CQ8: 21 | CR8: 16 | CS8: 49 | CT8: 30 | CU8: 30 | CV8: 55 | CW8: 31 | CX8: 34 | CY8: 54 | CZ8: 45 | DA8: 23 | DB8: 35
A9: Schwab "Pito" | B9: 90 | C9: 99 | D9: x | E9: 74 | F9: 75 | G9: x | H9: 106 | I9: 107 | J9: x | K9: 35 | L9: 29 | M9: x | N9: 65 | O9: 62 | P9: x | Q9: 158 | R9: 136 | S9: x | T9: 30 | U9: 36 | V9: x | W9: 51 | X9: 44 | Y9: x | Z9: 85 | AA9: 99 | AB9: x | AC9: 756 | AD9: 714 | AE9: x | AF9: 69 | AG9: 77 | AH9: x | AI9: 43 | AJ9: 32 | AK9: x | AL9: 215 | AM9: 209 | AN9: 182 | AO9: 188 | AP9: 180 | AQ9: 199 | AR9: 196 | AS9: 196 | AT9: 185 | AU9: 192 | AV9: 182 | AW9: 188 | AX9: 244 | AY9: 238 | AZ9: 229 | BA9: 132 | BB9: 131 | BC9: 142 | BD9: 74 | BE9: 79 | BF9: 107 | BG9: 91 | BH9: 103 | BI9: 99 | BJ9: 0 | BK9: 0 | BL9: 0 | BM9: 72 | BN9: 102 | BO9: 115 | BP9: 58 | BQ9: 93 | BR9: 77 | BS9: 120 | BT9: 168 | BU9: 129 | BV9: 36 | BW9: 39 | BX9: 41 | BY9: 195 | BZ9: 203 | CA9: 185 | CB9: 57 | CC9: 73 | CD9: 43 | CE9: 164 | CF9: 169 | CG9: 174 | CH9: 56 | CI9: 62 | CJ9: 43 | CK9: 150 | CL9: 146 | CM9: 132 | CN9: 25 | CO9: 23 | CP9: 8 | CQ9: 35 | CR9: 38 | CS9: 28 | CT9: 72 | CU9: 67 | CV9: 45 | CW9: 94 | CX9: 84 | CY9: 68 | CZ9: 70 | DA9: 47 | DB9: 44
A10: Böhm "Snickers" | B10: 26 | C10: 43 | D10: 52 | E10: 0 | F10: 0 | G10: 24 | H10: 42 | I10: 42 | J10: 62 | K10: 27 | L10: 93 | M10: 19 | N10: 2 | O10: 0 | P10: 31 | Q10: 66 | R10: 68 | S10: 71 | T10: 0 | U10: 0 | V10: 3 | W10: 0 | X10: 2 | Y10: 21 | Z10: 0 | AA10: 0 | AB10: 43 | AC10: 174 | AD10: 243 | AE10: 52 | AF10: 4 | AG10: 20 | AH10: 30 | AI10: 26 | AJ10: 50 | AK10: 63 | AL10: 58 | AM10: 84 | AN10: 115 | AO10: 79 | AP10: 84 | AQ10: 186 | AR10: 89 | AS10: 131 | AT10: 106 | AU10: 79 | AV10: 169 | AW10: 99 | AX10: 58 | AY10: 113 | AZ10: 178 | BA10: 93 | BB10: 87 | BC10: 104 | BD10: 111 | BE10: 105 | BF10: 81 | BG10: 62 | BH10: 86 | BI10: 72 | BJ10: 0 | BK10: 27 | BL10: 0 | BM10: 38 | BN10: 67 | BO10: 72 | BP10: 28 | BQ10: 64 | BR10: 70 | BS10: 101 | BT10: 117 | BU10: 100 | BV10: 122 | BW10: 95 | BX10: 122 | BY10: 2507 | BZ10: 2595 | CA10: 2582 | CB10: 288 | CC10: 252 | CD10: 260 | CE10: 1205 | CF10: 1328 | CG10: 1610 | CH10: 114 | CI10: 72 | CJ10: 86 | CK10: 2481 | CL10: 2497 | CM10: 2513 | CN10: 44 | CO10: 5 | CP10: 7 | CQ10: 40 | CR10: 0 | CS10: 35 | CT10: 123 | CU10: 26 | CV10: 70 | CW10: 158 | CX10: 57 | CY10: 97 | CZ10: 135 | DA10: 57 | DB10: 45
A11: Savoca "Balou" | B11: 52 | C11: 57 | D11: 59 | E11: 13 | F11: 15 | G11: 31 | H11: 92 | I11: 96 | J11: 116 | K11: 0 | L11: 0 | M11: 0 | N11: 19 | O11: 20 | P11: 43 | Q11: 70 | R11: 62 | S11: 93 | T11: 64 | U11: 77 | V11: 114 | W11: 30 | X11: 26 | Y11: 57 | Z11: 53 | AA11: 50 | AB11: 54 | AC11: 51 | AD11: 50 | AE11: 46 | AF11: 14 | AG11: 99 | AH11: 29 | AI11: 0 | AJ11: 0 | AK11: 0 | AL11: 506 | AM11: 698 | AN11: 493 | AO11: 402 | AP11: 385 | AQ11: 398 | AR11: 962 | AS11: 985 | AT11: 961 | AU11: 542 | AV11: 595 | AW11: 556 | AX11: 1064 | AY11: 1104 | AZ11: 1076 | BA11: 294 | BB11: 315 | BC11: 312 | BD11: 135 | BE11: 169 | BF11: 125 | BG11: 225 | BH11: 250 | BI11: 226 | BJ11: 0 | BK11: 0 | BL11: 0 | BM11: 147 | BN11: 178 | BO11: 160 | BP11: 117 | BQ11: 130 | BR11: 118 | BS11: 1224 | BT11: 1128 | BU11: 1350 | BV11: 23 | BW11: 31 | BX11: 27 | BY11: 2387 | BZ11: 2427 | CA11: 2079 | CB11: 193 | CC11: 219 | CD11: 142 | CE11: 1477 | CF11: 1541 | CG11: 1492 | CH11: 18 | CI11: 29 | CJ11: 5 | CK11: 1248 | CL11: 1209 | CM11: 1471 | CN11: 1 | CO11: 4 | CP11: 0 | CQ11: 14 | CR11: 16 | CS11: 0 | CT11: 19 | CU11: 27 | CV11: 5 | CW11: 32 | CX11: 44 | CY11: 19 | CZ11: 2 | DA11: 6 | DB11: 7
A12: Decker "Lou Lou" | B12: 66 | C12: 115 | D12: 99 | E12: 121 | F12: 84 | G12: 0 | H12: 140 | I12: 180 | J12: 100 | K12: 25 | L12: 13 | M12: 47 | N12: 32 | O12: 23 | P12: 7 | Q12: 140 | R12: 82 | S12: 90 | T12: 0 | U12: 0 | V12: 0 | W12: 29 | X12: 22 | Y12: 65 | Z12: 67 | AA12: 51 | AB12: 53 | AC12: 362 | AD12: 331 | AE12: 365 | AF12: 59 | AG12: 19 | AH12: 20 | AI12: 2 | AJ12: 0 | AK12: 0 | AL12: 108 | AM12: 282 | AN12: 291 | AO12: 96 | AP12: 128 | AQ12: 202 | AR12: 117 | AS12: 146 | AT12: 195 | AU12: 88 | AV12: 117 | AW12: 149 | AX12: 91 | AY12: 120 | AZ12: 147 | BA12: 43 | BB12: 67 | BC12: 84 | BD12: 47 | BE12: 59 | BF12: 86 | BG12: 34 | BH12: 53 | BI12: 66 | BJ12: 0 | BK12: 0 | BL12: 0 | BM12: 66 | BN12: 135 | BO12: 127 | BP12: 13 | BQ12: 58 | BR12: 72 | BS12: 125 | BT12: 162 | BU12: 168 | BV12: 87 | BW12: 78 | BX12: 73 | BY12: 1102 | BZ12: 1049 | CA12: 1057 | CB12: 369 | CC12: 365 | CD12: 398 | CE12: 825 | CF12: 743 | CG12: 843 | CH12: 52 | CI12: 45 | CJ12: 42 | CK12: 1043 | CL12: 952 | CM12: 1013 | CN12: 0 | CO12: 0 | CP12: 0 | CQ12: 56 | CR12: 44 | CS12: 45 | CT12: 103 | CU12: 79 | CV12: 83 | CW12: 106 | CX12: 96 | CY12: 97 | CZ12: 69 | DA12: 46 | DB12: 64
A13: Haidl "Roxy" | B13: 56 | C13: 95 | D13: 84 | E13: 39 | F13: 15 | G13: 23 | H13: 188 | I13: 177 | J13: 137 | K13: 190 | L13: 129 | M13: 62 | N13: 56 | O13: 34 | P13: 40 | Q13: 136 | R13: 136 | S13: 108 | T13: 73 | U13: 121 | V13: 82 | W13: 66 | X13: 59 | Y13: 87 | Z13: 163 | AA13: 130 | AB13: 168 | AC13: 364 | AD13: 396 | AE13: 146 | AF13: 55 | AG13: 81 | AH13: 56 | AI13: 63 | AJ13: 25 | AK13: 0 | AL13: 322 | AM13: 380 | AN13: 299 | AO13: 179 | AP13: 217 | AQ13: 172 | AR13: 497 | AS13: 503 | AT13: 482 | AU13: 208 | AV13: 223 | AW13: 217 | AX13: 353 | AY13: 322 | AZ13: 365 | BA13: 292 | BB13: 258 | BC13: 274 | BD13: 106 | BE13: 94 | BF13: 118 | BG13: 74 | BH13: 73 | BI13: 131 | BJ13: 0 | BK13: 0 | BL13: 0 | BM13: 70 | BN13: 82 | BO13: 100 | BP13: 69 | BQ13: 79 | BR13: 106 | BS13: 420 | BT13: 442 | BU13: 453 | BV13: 45 | BW13: 297 | BX13: 330 | BY13: 76 | BZ13: 77 | CA13: 113 | CB13: 52 | CC13: 46 | CD13: 198 | CE13: 38 | CF13: 43 | CG13: 59 | CH13: 7 | CI13: 0 | CJ13: 44 | CK13: 23 | CL13: 26 | CM13: 64 | CN13: 0 | CO13: 0 | CP13: 20 | CQ13: 0 | CR13: 0 | CS13: 85 | CT13: 19 | CU13: 22 | CV13: 58 | CW13: 13 | CX13: 17 | CY13: 70 | CZ13: 53 | DA13: 43 | DB13: 82
B17: intra-assay | C17: inter-assay | D17: withdrawn
A19: Analysis: | B19: < 150 = 0 | C19: > 150 = 1
A20: Boger "Baddy" | B20: =IF(B2<=150,0,1) -> 0 | C20: =IF(C2<=150,0,1) -> 0 | D20: =IF(D2<=150,0,1) -> 0 | E20: =IF(E2<=150,0,1) -> 0 | F20: =IF(F2<=150,0,1) -> 0 | G20: =IF(G2<=150,0,1) -> 0 | H20: =IF(H2<=150,0,1) -> 0 | I20: =IF(I2<=150,0,1) -> 0 | ... DB20: =IF(DB2<=150,0,1) -> 0
A21: Gut "Seven" | B21: =IF(B3<=150,0,1) -> 0 | C21: x | D21: =IF(D3<=150,0,1) -> 0 | E21: =IF(E3<=150,0,1) -> 0 | F21: x | G21: =IF(G3<=150,0,1) -> 0 | H21: =IF(H3<=150,0,1) -> 0 | I21: x | J21: =IF(J3<=150,0,1) -> 0 | K21: =IF(K3<=150,0,1) -> 0 | L21: x | M21: =IF(M3<=150,0,1) -> 0 | N21: =IF(N3<=150,0,1) -> 0 | O21: x | P21: =IF(P3<=150,0,1) -> 0 | Q21: =IF(Q3<=150,0,1) -> 0 | R21: x | S21: =IF(S3<=150,0,1) -> 0 | T21: =IF(T3<=150,0,1) -> 0 | U21: x | V21: =IF(V3<=150,0,1) -> 0 | W21: =IF(W3<=150,0,1) -> 0 | X21: x | Y21: =IF(Y3<=150,0,1) -> 0 | Z21: =IF(Z3<=150,0,1) -> 0 | AA21: x | AB21: =IF(AB3<=150,0,1) -> 0 | AC21: =IF(AC3<=150,0,1) -> 0 | AD21: x | AE21: =IF(AE3<=150,0,1) -> 0 | AF21: =IF(AF3<=150,0,1) -> 0 | AG21: x | AH21: =IF(AH3<=150,0,1) -> 0 | AI21: =IF(AI3<=150,0,1) -> 0 | AJ21: x | AK21: =IF(AK3<=150,0,1) -> 0 | AL21: =IF(AL3<=150,0,1) -> 0 | AM21: =IF(AM3<=150,0,1) -> 0 | AN21: =IF(AN3<=150,0,1) -> 1 | AO21: =IF(AO3<=150,0,1) -> 0 | AP21: =IF(AP3<=150,0,1) -> 0 | AQ21: =IF(AQ3<=150,0,1) -> 1 | AR21: =IF(AR3<=150,0,1) -> 0 | ... DB21: =IF(DB3<=150,0,1) -> 0
A22: Zelinskij "Cora" | B22: =IF(B4<=150,0,1) -> 0 | C22: =IF(C4<=150,0,1) -> 0 | D22: =IF(D4<=150,0,1) -> 0 | E22: =IF(E4<=150,0,1) -> 0 | F22: =IF(F4<=150,0,1) -> 0 | G22: =IF(G4<=150,0,1) -> 0 | H22: =IF(H4<=150,0,1) -> 0 | I22: =IF(I4<=150,0,1) -> 0 | ... DB22: =IF(DB4<=150,0,1) -> 0
A23: Wandres "Henry" | B23: =IF(B5<=150,0,1) -> 0 | C23: =IF(C5<=150,0,1) -> 0 | D23: =IF(D5<=150,0,1) -> 0 | E23: =IF(E5<=150,0,1) -> 0 | F23: =IF(F5<=150,0,1) -> 0 | G23: =IF(G5<=150,0,1) -> 0 | H23: =IF(H5<=150,0,1) -> 0 | I23: =IF(I5<=150,0,1) -> 0 | ... DB23: =IF(DB5<=150,0,1) -> 0
A24: Mack "Willi" | B24: =IF(B6<=150,0,1) -> 1 | C24: =IF(C6<=150,0,1) -> 1 | D24: =IF(D6<=150,0,1) -> 1 | E24: =IF(E6<=150,0,1) -> 1 | F24: =IF(F6<=150,0,1) -> 1 | G24: =IF(G6<=150,0,1) -> 1 | H24: =IF(H6<=150,0,1) -> 1 | I24: =IF(I6<=150,0,1) -> 1 | ... DB24: =IF(DB6<=150,0,1) -> 0
A25: Trosev "Bonny" | B25: =IF(B7<=150,0,1) -> 0 | C25: =IF(C7<=150,0,1) -> 0 | D25: =IF(D7<=150,0,1) -> 0 | E25: =IF(E7<=150,0,1) -> 0 | F25: =IF(F7<=150,0,1) -> 0 | G25: =IF(G7<=150,0,1) -> 0 | H25: =IF(H7<=150,0,1) -> 1 | I25: =IF(I7<=150,0,1) -> 1 | ... DB25: =IF(DB7<=150,0,1) -> 0
A26: Lindner "Trixi" | B26: =IF(B8<=150,0,1) -> 0 | C26: =IF(C8<=150,0,1) -> 1 | D26: =IF(D8<=150,0,1) -> 0 | E26: =IF(E8<=150,0,1) -> 0 | F26: =IF(F8<=150,0,1) -> 0 | G26: =IF(G8<=150,0,1) -> 0 | H26: =IF(H8<=150,0,1) -> 1 | I26: =IF(I8<=150,0,1) -> 1 | ... DB26: =IF(DB8<=150,0,1) -> 0
A27: Schwab "Pito" | B27: =IF(B9<=150,0,1) -> 0 | C27: =IF(C9<=150,0,1) -> 0 | D27: x | E27: =IF(E9<=150,0,1) -> 0 | F27: =IF(F9<=150,0,1) -> 0 | G27: x | H27: =IF(H9<=150,0,1) -> 0 | I27: =IF(I9<=150,0,1) -> 0 | J27: x | K27: =IF(K9<=150,0,1) -> 0 | L27: =IF(L9<=150,0,1) -> 0 | M27: x | N27: =IF(N9<=150,0,1) -> 0 | O27: =IF(O9<=150,0,1) -> 0 | P27: x | Q27: =IF(Q9<=150,0,1) -> 1 | R27: =IF(R9<=150,0,1) -> 0 | S27: x | T27: =IF(T9<=150,0,1) -> 0 | U27: =IF(U9<=150,0,1) -> 0 | V27: x | W27: =IF(W9<=150,0,1) -> 0 | X27: =IF(X9<=150,0,1) -> 0 | Y27: x | Z27: =IF(Z9<=150,0,1) -> 0 | AA27: =IF(AA9<=150,0,1) -> 0 | AB27: x | AC27: =IF(AC9<=150,0,1) -> 1 | AD27: =IF(AD9<=150,0,1) -> 1 | AE27: x | AF27: =IF(AF9<=150,0,1) -> 0 | AG27: =IF(AG9<=150,0,1) -> 0 | AH27: x | AI27: =IF(AI9<=150,0,1) -> 0 | AJ27: =IF(AJ9<=150,0,1) -> 0 | AK27: x | AL27: =IF(AL9<=150,0,1) -> 1 | AM27: =IF(AM9<=150,0,1) -> 1 | AN27: =IF(AN9<=150,0,1) -> 1 | AO27: =IF(AO9<=150,0,1) -> 1 | AP27: =IF(AP9<=150,0,1) -> 1 | AQ27: =IF(AQ9<=150,0,1) -> 1 | AR27: =IF(AR9<=150,0,1) -> 1 | AS27: =IF(AS9<=150,0,1) -> 1 | ... DB27: =IF(DB9<=150,0,1) -> 0
A28: Böhm "Snickers" | B28: =IF(B10<=150,0,1) -> 0 | C28: =IF(C10<=150,0,1) -> 0 | D28: =IF(D10<=150,0,1) -> 0 | E28: =IF(E10<=150,0,1) -> 0 | F28: =IF(F10<=150,0,1) -> 0 | G28: =IF(G10<=150,0,1) -> 0 | H28: =IF(H10<=150,0,1) -> 0 | I28: =IF(I10<=150,0,1) -> 0 | ... DB28: =IF(DB10<=150,0,1) -> 0
A29: Savoca "Balou" | B29: =IF(B11<=150,0,1) -> 0 | C29: =IF(C11<=150,0,1) -> 0 | D29: =IF(D11<=150,0,1) -> 0 | E29: =IF(E11<=150,0,1) -> 0 | F29: =IF(F11<=150,0,1) -> 0 | G29: =IF(G11<=150,0,1) -> 0 | H29: =IF(H11<=150,0,1) -> 0 | I29: =IF(I11<=150,0,1) -> 0 | ... DB29: =IF(DB11<=150,0,1) -> 0
A30: Decker "Lou Lou" | B30: =IF(B12<=150,0,1) -> 0 | C30: =IF(C12<=150,0,1) -> 0 | D30: =IF(D12<=150,0,1) -> 0 | E30: =IF(E12<=150,0,1) -> 0 | F30: =IF(F12<=150,0,1) -> 0 | G30: =IF(G12<=150,0,1) -> 0 | H30: =IF(H12<=150,0,1) -> 0 | I30: =IF(I12<=150,0,1) -> 1 | ... DB30: =IF(DB12<=150,0,1) -> 0
A31: Haidl "Roxy" | B31: =IF(B13<=150,0,1) -> 0 | C31: =IF(C13<=150,0,1) -> 0 | D31: =IF(D13<=150,0,1) -> 0 | E31: =IF(E13<=150,0,1) -> 0 | F31: =IF(F13<=150,0,1) -> 0 | G31: =IF(G13<=150,0,1) -> 0 | H31: =IF(H13<=150,0,1) -> 1 | I31: =IF(I13<=150,0,1) -> 1 | ... DB31: =IF(DB13<=150,0,1) -> 0
A34: INTRA-Assay | E34: INTER-Assay
A35: in total = | B35: =(12*35)-12 -> 408
A36: p0= 391/408 | B36: =391/B35 -> 0.95833333 | E36: p0= 387/408 | F36: =387/B35 -> 0.94852941
A37: pe= 0,5 | E37: pe= 0,5
A38: Cohen's Kappa= | B38: =(B36-0.5)/0.5 -> 0.91666667 | E38: Cohen's Kappa= | F38: =(F36-0.5)/0.5 -> 0.89705882

Sheet Spearman rank Laboratory B, 1-2
A1: Hund (Dog) | B1: Allergen | C1: Wert 1 (Value 1) | D1: Rang,x (Rank,x) | E1: Wert 2 (Value 2) | F1: Rang,y (Rank,y) | G1: Diff (d) | H1: d^2 | I1: Mittelwert (mean value) | J1: Varianz (Variance) | K1: Standabw (Standard deviation) | L1: Variationskoeff. In % (Coefficient of variation in %) | M1: Subtraktion x (Subtraction x) | N1: Subtraktion y (Subtraction y) | O1: Subtraktion x^2 (subtraction x^2) | P1: Subtraktion y^2 (Subtraction y^2) | Q1: Multiplikation (Multiplication)
A2: Boger "Baddy" | B2: Birke (Betula) | C2: =VLOOKUP(A2,'Laboratory B'!A:D,2,0) -> 73 | D2: =_xlfn.RANK.AVG(C2,C$2:C$419,1) -> 204.5 | E2: =VLOOKUP(A2,'Laboratory B'!A:D,3,0) -> 72 | F2: =_xlfn.RANK.AVG(E2,E$2:E$419,1) -> 192.5 | G2: =D2-F2 -> 12 | H2: =G2^2 -> 144 | I2: =(C2+E2)/2 -> 72.5 | J2: =((C2-I2)^2+(E2-I2)^2)/2 -> 0.25 | K2: =SQRT(J2) -> 0.5 | L2: =(K2/I2)*100 -> 0.68965517 | M2: =(D2-$D$425) -> 1.129902 | N2: =(F2-$F$425) -> -10.685049 | O2: =(M2)^2 -> 1.2766784 | P2: =(N2)^2 -> 114.17027 | Q2: =(M2*N2) -> -12.073058
A3: Gut "Seven" | B3: Birke
A4: Zelinskij "Cora" | B4: Birke | C4: =VLOOKUP(A4,'Laboratory B'!A:D,2,0) -> 69 | D4: =_xlfn.RANK.AVG(C4,C$2:C$419,1) -> 195 | E4: =VLOOKUP(A4,'Laboratory B'!A:D,3,0) -> 62 | F4: =_xlfn.RANK.AVG(E4,E$2:E$419,1) -> 176 | G4: =D4-F4 -> 19 | H4: =G4^2 -> 361 | I4: =(C4+E4)/2 -> 65.5 | J4: =((C4-I4)^2+(E4-I4)^2)/2 -> 12.25 | K4: =SQRT(J4) -> 3.5 | L4: =(K4/I4)*100 -> 5.3435115 | M4: =(D4-$D$425) -> -8.370098 | N4: =(F4-$F$425) -> -27.185049 | O4: =(M4)^2 -> 70.058541 | P4: =(N4)^2 -> 739.02689 | Q4: =(M4*N4) -> 227.54153
A5: Wandres "Henry" | B5: Birke | C5: =VLOOKUP(A5,'Laboratory B'!A:D,2,0) -> 36 | D5: =_xlfn.RANK.AVG(C5,C$2:C$419,1) -> 121 | E5: =VLOOKUP(A5,'Laboratory B'!A:D,3,0) -> 19 | F5: =_xlfn.RANK.AVG(E5,E$2:E$419,1) -> 59.5 | G5: =D5-F5 -> 61.5 | H5: =G5^2 -> 3782.25 | I5: =(C5+E5)/2 -> 27.5 | J5: =((C5-I5)^2+(E5-I5)^2)/2 -> 72.25 | K5: =SQRT(J5) -> 8.5 | L5: =(K5/I5)*100 -> 30.909091 | M5: =(D5-$D$425) -> -82.370098 | N5: =(F5-$F$425) -> -143.68505 | O5: =(M5)^2 -> 6784.8331 | P5: =(N5)^2 -> 20645.393 | Q5: =(M5*N5) -> 11835.352
A6: Mack "Willi" | B6: Birke | C6: =VLOOKUP(A6,'Laboratory B'!A:D,2,0) -> 1038 | D6: =_xlfn.RANK.AVG(C6,C$2:C$419,1) -> 357 | E6: =VLOOKUP(A6,'Laboratory B'!A:D,3,0) -> 1134 | F6: =_xlfn.RANK.AVG(E6,E$2:E$419,1) -> 365 | G6: =D6-F6 -> -8 | H6: =G6^2 -> 64 | I6: =(C6+E6)/2 -> 1086 | J6: =((C6-I6)^2+(E6-I6)^2)/2 -> 2304 | K6: =SQRT(J6) -> 48 | L6: =(K6/I6)*100 -> 4.4198895 | M6: =(D6-$D$425) -> 153.6299 | N6: =(F6-$F$425) -> 161.81495 | O6: =(M6)^2 -> 23602.147 | P6: =(N6)^2 -> 26184.078 | Q6: =(M6*N6) -> 24859.615
A7: Trosev "Bonny" | B7: Birke | C7: =VLOOKUP(A7,'Laboratory B'!A:D,2,0) -> 62 | D7: =_xlfn.RANK.AVG(C7,C$2:C$419,1) -> 180 | E7: =VLOOKUP(A7,'Laboratory B'!A:D,3,0) -> 87 | F7: =_xlfn.RANK.AVG(E7,E$2:E$419,1) -> 221.5 | G7: =D7-F7 -> -41.5 | H7: =G7^2 -> 1722.25 | I7: =(C7+E7)/2 -> 74.5 | J7: =((C7-I7)^2+(E7-I7)^2)/2 -> 156.25 | K7: =SQRT(J7) -> 12.5 | L7: =(K7/I7)*100 -> 16.778523 | M7: =(D7-$D$425) -> -23.370098 | N7: =(F7-$F$425) -> 18.314951 | O7: =(M7)^2 -> 546.16148 | P7: =(N7)^2 -> 335.43743 | Q7: =(M7*N7) -> -428.0222
A8: Lindner "Trixi" | B8: Birke | C8: =VLOOKUP(A8,'Laboratory B'!A:D,2,0) -> 118 | D8: =_xlfn.RANK.AVG(C8,C$2:C$419,1) -> 257.5 | E8: =VLOOKUP(A8,'Laboratory B'!A:D,3,0) -> 180 | F8: =_xlfn.RANK.AVG(E8,E$2:E$419,1) -> 284.5 | G8: =D8-F8 -> -27 | H8: =G8^2 -> 729 | I8: =(C8+E8)/2 -> 149 | J8: =((C8-I8)^2+(E8-I8)^2)/2 -> 961 | K8: =SQRT(J8) -> 31 | L8: =(K8/I8)*100 -> 20.805369 | M8: =(D8-$D$425) -> 54.129902 | N8: =(F8-$F$425) -> 81.314951 | O8: =(M8)^2 -> 2930.0463 | P8: =(N8)^2 -> 6612.1213 | Q8: =(M8*N8) -> 4401.5703
A9: Schwab "Pito" | B9: Birke | C9: =VLOOKUP(A9,'Laboratory B'!A:D,2,0) -> 90 | D9: =_xlfn.RANK.AVG(C9,C$2:C$419,1) -> 227 | E9: =VLOOKUP(A9,'Laboratory B'!A:D,3,0) -> 99 | F9: =_xlfn.RANK.AVG(E9,E$2:E$419,1) -> 237.5 | G9: =D9-F9 -> -10.5 | H9: =G9^2 -> 110.25 | I9: =(C9+E9)/2 -> 94.5 | J9: =((C9-I9)^2+(E9-I9)^2)/2 -> 20.25 | K9: =SQRT(J9) -> 4.5 | L9: =(K9/I9)*100 -> 4.7619048 | M9: =(D9-$D$425) -> 23.629902 | N9: =(F9-$F$425) -> 34.314951 | O9: =(M9)^2 -> 558.37227 | P9: =(N9)^2 -> 1177.5159 | Q9: =(M9*N9) -> 810.85893
A10: Böhm "Snickers" | B10: Birke | C10: =VLOOKUP(A10,'Laboratory B'!A:D,2,0) -> 26 | D10: =_xlfn.RANK.AVG(C10,C$2:C$419,1) -> 81.5 | E10: =VLOOKUP(A10,'Laboratory B'!A:D,3,0) -> 43 | F10: =_xlfn.RANK.AVG(E10,E$2:E$419,1) -> 132 | G10: =D10-F10 -> -50.5 | H10: =G10^2 -> 2550.25 | I10: =(C10+E10)/2 -> 34.5 | J10: =((C10-I10)^2+(E10-I10)^2)/2 -> 72.25 | K10: =SQRT(J10) -> 8.5 | L10: =(K10/I10)*100 -> 24.637681 | M10: =(D10-$D$425) -> -121.8701 | N10: =(F10-$F$425) -> -71.185049 | O10: =(M10)^2 -> 14852.321 | P10: =(N10)^2 -> 5067.3112 | Q10: =(M10*N10) -> 8675.3289
A11: Savoca "Balou" | B11: Birke | C11: =VLOOKUP(A11,'Laboratory B'!A:D,2,0) -> 52 | D11: =_xlfn.RANK.AVG(C11,C$2:C$419,1) -> 154.5 | E11: =VLOOKUP(A11,'Laboratory B'!A:D,3,0) -> 57 | F11: =_xlfn.RANK.AVG(E11,E$2:E$419,1) -> 168 | G11: =D11-F11 -> -13.5 | H11: =G11^2 -> 182.25 | I11: =(C11+E11)/2 -> 54.5 | J11: =((C11-I11)^2+(E11-I11)^2)/2 -> 6.25 | K11: =SQRT(J11) -> 2.5 | L11: =(K11/I11)*100 -> 4.587156 | M11: =(D11-$D$425) -> -48.870098 | N11: =(F11-$F$425) -> -35.185049 | O11: =(M11)^2 -> 2388.2865 | P11: =(N11)^2 -> 1237.9877 | Q11: =(M11*N11) -> 1719.4968
A12: Decker "Lou Lou" | B12: Birke | C12: =VLOOKUP(A12,'Laboratory B'!A:D,2,0) -> 66 | D12: =_xlfn.RANK.AVG(C12,C$2:C$419,1) -> 189 | E12: =VLOOKUP(A12,'Laboratory B'!A:D,3,0) -> 115 | F12: =_xlfn.RANK.AVG(E12,E$2:E$419,1) -> 250 | G12: =D12-F12 -> -61 | H12: =G12^2 -> 3721 | I12: =(C12+E12)/2 -> 90.5 | J12: =((C12-I12)^2+(E12-I12)^2)/2 -> 600.25 | K12: =SQRT(J12) -> 24.5 | L12: =(K12/I12)*100 -> 27.071823 | M12: =(D12-$D$425) -> -14.370098 | N12: =(F12-$F$425) -> 46.814951 | O12: =(M12)^2 -> 206.49972 | P12: =(N12)^2 -> 2191.6396 | Q12: =(M12*N12) -> -672.73544
A13: Haidl "Roxy" | B13: Birke | C13: =VLOOKUP(A13,'Laboratory B'!A:D,2,0) -> 56 | D13: =_xlfn.RANK.AVG(C13,C$2:C$419,1) -> 167 | E13: =VLOOKUP(A13,'Laboratory B'!A:D,3,0) -> 95 | F13: =_xlfn.RANK.AVG(E13,E$2:E$419,1) -> 228 | G13: =D13-F13 -> -61 | H13: =G13^2 -> 3721 | I13: =(C13+E13)/2 -> 75.5 | J13: =((C13-I13)^2+(E13-I13)^2)/2 -> 380.25 | K13: =SQRT(J13) -> 19.5 | L13: =(K13/I13)*100 -> 25.827815 | M13: =(D13-$D$425) -> -36.370098 | N13: =(F13-$F$425) -> 24.814951 | O13: =(M13)^2 -> 1322.784 | P13: =(N13)^2 -> 615.78179 | Q13: =(M13*N13) -> -902.5222
A14: Boger "Baddy" | B14: Erle (Alnus) | C14: =VLOOKUP(A14,'Laboratory B'!A:G,5,0) -> 11 | D14: =_xlfn.RANK.AVG(C14,C$2:C$419,1) -> 46 | E14: =VLOOKUP(A14,'Laboratory B'!A:G,6,0) -> 9 | F14: =_xlfn.RANK.AVG(E14,E$2:E$419,1) -> 41.5 | G14: =D14-F14 -> 4.5 | H14: =G14^2 -> 20.25 | I14: =(C14+E14)/2 -> 10 | J14: =((C14-I14)^2+(E14-I14)^2)/2 -> 1 | K14: =SQRT(J14) -> 1 | L14: =(K14/I14)*100 -> 10 | M14: =(D14-$D$425) -> -157.3701 | N14: =(F14-$F$425) -> -161.68505 | O14: =(M14)^2 -> 24765.348 | P14: =(N14)^2 -> 26142.055 | Q14: =(M14*N14) -> 25444.392
A15: Gut "Seven" | B15: Erle
A16: Zelinskij "Cora" | B16: Erle | C16: =VLOOKUP(A16,'Laboratory B'!A:G,5,0) -> 29 | D16: =_xlfn.RANK.AVG(C16,C$2:C$419,1) -> 91.5 | E16: =VLOOKUP(A16,'Laboratory B'!A:G,6,0) -> 29 | F16: =_xlfn.RANK.AVG(E16,E$2:E$419,1) -> 95 | G16: =D16-F16 -> -3.5 | H16: =G16^2 -> 12.25 | I16: =(C16+E16)/2 -> 29 | J16: =((C16-I16)^2+(E16-I16)^2)/2 -> 0 | K16: =SQRT(J16) -> 0 | L16: =(K16/I16)*100 -> 0 | M16: =(D16-$D$425) -> -111.8701 | N16: =(F16-$F$425) -> -108.18505 | O16: =(M16)^2 -> 12514.919 | P16: =(N16)^2 -> 11704.005 | Q16: =(M16*N16) -> 12102.672
A17: Wandres "Henry" | B17: Erle | C17: =VLOOKUP(A17,'Laboratory B'!A:G,5,0) -> 20 | D17: =_xlfn.RANK.AVG(C17,C$2:C$419,1) -> 63.5 | E17: =VLOOKUP(A17,'Laboratory B'!A:G,6,0) -> 28 | F17: =_xlfn.RANK.AVG(E17,E$2:E$419,1) -> 89.5 | G17: =D17-F17 -> -26 | H17: =G17^2 -> 676 | I17: =(C17+E17)/2 -> 24 | J17: =((C17-I17)^2+(E17-I17)^2)/2 -> 16 | K17: =SQRT(J17) -> 4 | L17: =(K17/I17)*100 -> 16.666667 | M17: =(D17-$D$425) -> -139.8701 | N17: =(F17-$F$425) -> -113.68505 | O17: =(M17)^2 -> 19563.644 | P17: =(N17)^2 -> 12924.29 | Q17: =(M17*N17) -> 15901.139
A18: Mack "Willi" | B18: Erle | C18: =VLOOKUP(A18,'Laboratory B'!A:G,5,0) -> 256 | D18: =_xlfn.RANK.AVG(C18,C$2:C$419,1) -> 315.5 | E18: =VLOOKUP(A18,'Laboratory B'!A:G,6,0) -> 349 | F18: =_xlfn.RANK.AVG(E18,E$2:E$419,1) -> 332 | G18: =D18-F18 -> -16.5 | H18: =G18^2 -> 272.25 | I18: =(C18+E18)/2 -> 302.5 | J18: =((C18-I18)^2+(E18-I18)^2)/2 -> 2162.25 | K18: =SQRT(J18) -> 46.5 | L18: =(K18/I18)*100 -> 15.371901 | M18: =(D18-$D$425) -> 112.1299 | N18: =(F18-$F$425) -> 128.81495 | O18: =(M18)^2 -> 12573.115 | P18: =(N18)^2 -> 16593.292 | Q18: =(M18*N18) -> 14444.008
A19: Trosev "Bonny" | B19: Erle | C19: =VLOOKUP(A19,'Laboratory B'!A:G,5,0) -> 35 | D19: =_xlfn.RANK.AVG(C19,C$2:C$419,1) -> 117.5 | E19: =VLOOKUP(A19,'Laboratory B'!A:G,6,0) -> 41 | F19: =_xlfn.RANK.AVG(E19,E$2:E$419,1) -> 127.5 | G19: =D19-F19 -> -10 | H19: =G19^2 -> 100 | I19: =(C19+E19)/2 -> 38 | J19: =((C19-I19)^2+(E19-I19)^2)/2 -> 9 | K19: =SQRT(J19) -> 3 | L19: =(K19/I19)*100 -> 7.8947368 | M19: =(D19-$D$425) -> -85.870098 | N19: =(F19-$F$425) -> -75.685049 | O19: =(M19)^2 -> 7373.6737 | P19: =(N19)^2 -> 5728.2266 | Q19: =(M19*N19) -> 6499.0826
A20: Lindner "Trixi" | B20: Erle | C20: =VLOOKUP(A20,'Laboratory B'!A:G,5,0) -> 70 | D20: =_xlfn.RANK.AVG(C20,C$2:C$419,1) -> 199.5 | E20: =VLOOKUP(A20,'Laboratory B'!A:G,6,0) -> 96 | F20: =_xlfn.RANK.AVG(E20,E$2:E$419,1) -> 231.5 | G20: =D20-F20 -> -32 | H20: =G20^2 -> 1024 | I20: =(C20+E20)/2 -> 83 | J20: =((C20-I20)^2+(E20-I20)^2)/2 -> 169 | K20: =SQRT(J20) -> 13 | L20: =(K20/I20)*100 -> 15.662651 | M20: =(D20-$D$425) -> -3.870098 | N20: =(F20-$F$425) -> 28.314951 | O20: =(M20)^2 -> 14.977659 | P20: =(N20)^2 -> 801.73645 | Q20: =(M20*N20) -> -109.58164
A21: Schwab "Pito" | B21: Erle | C21: =VLOOKUP(A21,'Laboratory B'!A:G,5,0) -> 74 | D21: =_xlfn.RANK.AVG(C21,C$2:C$419,1) -> 207.5 | E21: =VLOOKUP(A21,'Laboratory B'!A:G,6,0) -> 75 | F21: =_xlfn.RANK.AVG(E21,E$2:E$419,1) -> 199.5 | G21: =D21-F21 -> 8 | H21: =G21^2 -> 64 | I21: =(C21+E21)/2 -> 74.5 | J21: =((C21-I21)^2+(E21-I21)^2)/2 -> 0.25 | K21: =SQRT(J21) -> 0.5 | L21: =(K21/I21)*100 -> 0.67114094 | M21: =(D21-$D$425) -> 4.129902 | N21: =(F21-$F$425) -> -3.685049 | O21: =(M21)^2 -> 17.05609 | P21: =(N21)^2 -> 13.579586 | Q21: =(M21*N21) -> -15.218891
A22: Böhm "Snickers" | B22: Erle | C22: =VLOOKUP(A22,'Laboratory B'!A:G,5,0) -> 0 | D22: =_xlfn.RANK.AVG(C22,C$2:C$419,1) -> 17 | E22: =VLOOKUP(A22,'Laboratory B'!A:G,6,0) -> 0 | F22: =_xlfn.RANK.AVG(E22,E$2:E$419,1) -> 17 | G22: =D22-F22 -> 0 | H22: =G22^2 -> 0 | I22: =(C22+E22)/2 -> 0 | J22: =((C22-I22)^2+(E22-I22)^2)/2 -> 0 | K22: =SQRT(J22) -> 0 | L22: 0 | M22: =(D22-$D$425) -> -186.3701 | N22: =(F22-$F$425) -> -186.18505 | O22: =(M22)^2 -> 34733.813 | P22: =(N22)^2 -> 34664.872 | Q22: =(M22*N22) -> 34699.326
A23: Savoca "Balou" | B23: Erle | C23: =VLOOKUP(A23,'Laboratory B'!A:G,5,0) -> 13 | D23: =_xlfn.RANK.AVG(C23,C$2:C$419,1) -> 48 | E23: =VLOOKUP(A23,'Laboratory B'!A:G,6,0) -> 15 | F23: =_xlfn.RANK.AVG(E23,E$2:E$419,1) -> 48 | G23: =D23-F23 -> 0 | H23: =G23^2 -> 0 | I23: =(C23+E23)/2 -> 14 | J23: =((C23-I23)^2+(E23-I23)^2)/2 -> 1 | K23: =SQRT(J23) -> 1 | L23: 0 | M23: =(D23-$D$425) -> -155.3701 | N23: =(F23-$F$425) -> -155.18505 | O23: =(M23)^2 -> 24139.867 | P23: =(N23)^2 -> 24082.399 | Q23: =(M23*N23) -> 24111.116
A24: Decker "Lou Lou" | B24: Erle | C24: =VLOOKUP(A24,'Laboratory B'!A:G,5,0) -> 121 | D24: =_xlfn.RANK.AVG(C24,C$2:C$419,1) -> 260 | E24: =VLOOKUP(A24,'Laboratory B'!A:G,6,0) -> 84 | F24: =_xlfn.RANK.AVG(E24,E$2:E$419,1) -> 216.5 | G24: =D24-F24 -> 43.5 | H24: =G24^2 -> 1892.25 | I24: =(C24+E24)/2 -> 102.5 | J24: =((C24-I24)^2+(E24-I24)^2)/2 -> 342.25 | K24: =SQRT(J24) -> 18.5 | L24: 0 | M24: =(D24-$D$425) -> 56.629902 | N24: =(F24-$F$425) -> 13.314951 | O24: =(M24)^2 -> 3206.9458 | P24: =(N24)^2 -> 177.28792 | Q24: =(M24*N24) -> 754.02437
A25: Haidl "Roxy" | B25: Erle | C25: =VLOOKUP(A25,'Laboratory B'!A:G,5,0) -> 39 | D25: =_xlfn.RANK.AVG(C25,C$2:C$419,1) -> 129.5 | E25: =VLOOKUP(A25,'Laboratory B'!A:G,6,0) -> 15 | F25: =_xlfn.RANK.AVG(E25,E$2:E$419,1) -> 48 | G25: =D25-F25 -> 81.5 | H25: =G25^2 -> 6642.25 | I25: =(C25+E25)/2 -> 27 | J25: =((C25-I25)^2+(E25-I25)^2)/2 -> 144 | K25: =SQRT(J25) -> 12 | L25: 0 | M25: =(D25-$D$425) -> -73.870098 | N25: =(F25-$F$425) -> -155.18505 | O25: =(M25)^2 -> 5456.7914 | P25: =(N25)^2 -> 24082.399 | Q25: =(M25*N25) -> 11463.535
A26: Boger "Baddy" | B26: Eiche (Quercus) | C26: =VLOOKUP(A26,'Laboratory B'!A:J,8,0) -> 140 | D26: =_xlfn.RANK.AVG(C26,C$2:C$419,1) -> 270 | E26: =VLOOKUP(A26,'Laboratory B'!A:J,9,0) -> 146 | F26: =_xlfn.RANK.AVG(E26,E$2:E$419,1) -> 268 | G26: =D26-F26 -> 2 | H26: =G26^2 -> 4 | I26: =(C26+E26)/2 -> 143 | J26: =((C26-I26)^2+(E26-I26)^2)/2 -> 9 | K26: =SQRT(J26) -> 3 | L26: =(K26/I26)*100 -> 2.0979021 | M26: =(D26-$D$425) -> 66.629902 | N26: =(F26-$F$425) -> 64.814951 | O26: =(M26)^2 -> 4439.5438 | P26: =(N26)^2 -> 4200.9779 | Q26: =(M26*N26) -> 4318.6138
A27: Gut "Seven" | B27: Eiche
A28: Zelinskij "Cora" | B28: Eiche | C28: =VLOOKUP(A28,'Laboratory B'!A:J,8,0) -> 53 | D28: =_xlfn.RANK.AVG(C28,C$2:C$419,1) -> 159 | E28: =VLOOKUP(A28,'Laboratory B'!A:J,9,0) -> 52 | F28: =_xlfn.RANK.AVG(E28,E$2:E$419,1) -> 161 | G28: =D28-F28 -> -2 | H28: =G28^2 -> 4 | I28: =(C28+E28)/2 -> 52.5 | J28: =((C28-I28)^2+(E28-I28)^2)/2 -> 0.25 | K28: =SQRT(J28) -> 0.5 | L28: =(K28/I28)*100 -> 0.95238095 | M28: =(D28-$D$425) -> -44.370098 | N28: =(F28-$F$425) -> -42.185049 | O28: =(M28)^2 -> 1968.7056 | P28: =(N28)^2 -> 1779.5784 | Q28: =(M28*N28) -> 1871.7548
A29: Wandres "Henry" | B29: Eiche | C29: =VLOOKUP(A29,'Laboratory B'!A:J,8,0) -> 52 | D29: =_xlfn.RANK.AVG(C29,C$2:C$419,1) -> 154.5 | E29: =VLOOKUP(A29,'Laboratory B'!A:J,9,0) -> 63 | F29: =_xlfn.RANK.AVG(E29,E$2:E$419,1) -> 180 | G29: =D29-F29 -> -25.5 | H29: =G29^2 -> 650.25 | I29: =(C29+E29)/2 -> 57.5 | J29: =((C29-I29)^2+(E29-I29)^2)/2 -> 30.25 | K29: =SQRT(J29) -> 5.5 | L29: =(K29/I29)*100 -> 9.5652174 | M29: =(D29-$D$425) -> -48.870098 | N29: =(F29-$F$425) -> -23.185049 | O29: =(M29)^2 -> 2388.2865 | P29: =(N29)^2 -> 537.5465 | Q29: =(M29*N29) -> 1133.0556
A30: Mack "Willi" | B30: Eiche | C30: =VLOOKUP(A30,'Laboratory B'!A:J,8,0) -> 1783 | D30: =_xlfn.RANK.AVG(C30,C$2:C$419,1) -> 377 | E30: =VLOOKUP(A30,'Laboratory B'!A:J,9,0) -> 1891 | F30: =_xlfn.RANK.AVG(E30,E$2:E$419,1) -> 378 | G30: =D30-F30 -> -1 | H30: =G30^2 -> 1 | I30: =(C30+E30)/2 -> 1837 | J30: =((C30-I30)^2+(E30-I30)^2)/2 -> 2916 | K30: =SQRT(J30) -> 54 | L30: =(K30/I30)*100 -> 2.9395754 | M30: =(D30-$D$425) -> 173.6299 | N30: =(F30-$F$425) -> 174.81495 | O30: =(M30)^2 -> 30147.343 | P30: =(N30)^2 -> 30560.267 | Q30: =(M30*N30) -> 30353.103
A31: Trosev "Bonny" | B31: Eiche | C31: =VLOOKUP(A31,'Laboratory B'!A:J,8,0) -> 234 | D31: =_xlfn.RANK.AVG(C31,C$2:C$419,1) -> 311 | E31: =VLOOKUP(A31,'Laboratory B'!A:J,9,0) -> 241 | F31: =_xlfn.RANK.AVG(E31,E$2:E$419,1) -> 308 | G31: =D31-F31 -> 3 | H31: =G31^2 -> 9 | I31: =(C31+E31)/2 -> 237.5 | J31: =((C31-I31)^2+(E31-I31)^2)/2 -> 12.25 | K31: =SQRT(J31) -> 3.5 | L31: =(K31/I31)*100 -> 1.4736842 | M31: =(D31-$D$425) -> 107.6299 | N31: =(F31-$F$425) -> 104.81495 | O31: =(M31)^2 -> 11584.196 | P31: =(N31)^2 -> 10986.174 | Q31: =(M31*N31) -> 11281.223
A32: Lindner "Trixi" | B32: Eiche | C32: =VLOOKUP(A32,'Laboratory B'!A:J,8,0) -> 191 | D32: =_xlfn.RANK.AVG(C32,C$2:C$419,1) -> 295 | E32: =VLOOKUP(A32,'Laboratory B'!A:J,9,0) -> 196 | F32: =_xlfn.RANK.AVG(E32,E$2:E$419,1) -> 292.5 | G32: =D32-F32 -> 2.5 | H32: =G32^2 -> 6.25 | I32: =(C32+E32)/2 -> 193.5 | J32: =((C32-I32)^2+(E32-I32)^2)/2 -> 6.25 | K32: =SQRT(J32) -> 2.5 | L32: =(K32/I32)*100 -> 1.2919897 | M32: =(D32-$D$425) -> 91.629902 | N32: =(F32-$F$425) -> 89.314951 | O32: =(M32)^2 -> 8396.0389 | P32: =(N32)^2 -> 7977.1605 | Q32: =(M32*N32) -> 8183.9202
A33: Schwab "Pito" | B33: Eiche | C33: =VLOOKUP(A33,'Laboratory B'!A:J,8,0) -> 106 | D33: =_xlfn.RANK.AVG(C33,C$2:C$419,1) -> 246 | E33: =VLOOKUP(A33,'Laboratory B'!A:J,9,0) -> 107 | F33: =_xlfn.RANK.AVG(E33,E$2:E$419,1) -> 247 | G33: =D33-F33 -> -1 | H33: =G33^2 -> 1 | I33: =(C33+E33)/2 -> 106.5 | J33: =((C33-I33)^2+(E33-I33)^2)/2 -> 0.25 | K33: =SQRT(J33) -> 0.5 | L33: =(K33/I33)*100 -> 0.46948357 | M33: =(D33-$D$425) -> 42.629902 | N33: =(F33-$F$425) -> 43.814951 | O33: =(M33)^2 -> 1817.3085 | P33: =(N33)^2 -> 1919.7499 | Q33: =(M33*N33) -> 1867.8271
A34: Böhm "Snickers" | B34: Eiche | C34: =VLOOKUP(A34,'Laboratory B'!A:J,8,0) -> 42 | D34: =_xlfn.RANK.AVG(C34,C$2:C$419,1) -> 135 | E34: =VLOOKUP(A34,'Laboratory B'!A:J,9,0) -> 42 | F34: =_xlfn.RANK.AVG(E34,E$2:E$419,1) -> 130 | G34: =D34-F34 -> 5 | H34: =G34^2 -> 25 | I34: =(C34+E34)/2 -> 42 | J34: =((C34-I34)^2+(E34-I34)^2)/2 -> 0 | K34: =SQRT(J34) -> 0 | L34: =(K34/I34)*100 -> 0 | M34: =(D34-$D$425) -> -68.370098 | N34: =(F34-$F$425) -> -73.185049 | O34: =(M34)^2 -> 4674.4703 | P34: =(N34)^2 -> 5356.0514 | Q34: =(M34*N34) -> 5003.669
A35: Savoca "Balou" | B35: Eiche | C35: =VLOOKUP(A35,'Laboratory B'!A:J,8,0) -> 92 | D35: =_xlfn.RANK.AVG(C35,C$2:C$419,1) -> 231 | E35: =VLOOKUP(A35,'Laboratory B'!A:J,9,0) -> 96 | F35: =_xlfn.RANK.AVG(E35,E$2:E$419,1) -> 231.5 | G35: =D35-F35 -> -0.5 | H35: =G35^2 -> 0.25 | I35: =(C35+E35)/2 -> 94 | J35: =((C35-I35)^2+(E35-I35)^2)/2 -> 4 | K35: =SQRT(J35) -> 2 | L35: =(K35/I35)*100 -> 2.1276596 | M35: =(D35-$D$425) -> 27.629902 | N35: =(F35-$F$425) -> 28.314951 | O35: =(M35)^2 -> 763.41148 | P35: =(N35)^2 -> 801.73645 | Q35: =(M35*N35) -> 782.33932
A36: Decker "Lou Lou" | B36: Eiche | C36: =VLOOKUP(A36,'Laboratory B'!A:J,8,0) -> 140 | D36: =_xlfn.RANK.AVG(C36,C$2:C$419,1) -> 270 | E36: =VLOOKUP(A36,'Laboratory B'!A:J,9,0) -> 180 | F36: =_xlfn.RANK.AVG(E36,E$2:E$419,1) -> 284.5 | G36: =D36-F36 -> -14.5 | H36: =G36^2 -> 210.25 | I36: =(C36+E36)/2 -> 160 | J36: =((C36-I36)^2+(E36-I36)^2)/2 -> 400 | K36: =SQRT(J36) -> 20 | L36: =(K36/I36)*100 -> 12.5 | M36: =(D36-$D$425) -> 66.629902 | N36: =(F36-$F$425) -> 81.314951 | O36: =(M36)^2 -> 4439.5438 | P36: =(N36)^2 -> 6612.1213 | Q36: =(M36*N36) -> 5418.0072
A37: Haidl "Roxy" | B37: Eiche | C37: =VLOOKUP(A37,'Laboratory B'!A:J,8,0) -> 188 | D37: =_xlfn.RANK.AVG(C37,C$2:C$419,1) -> 290.5 | E37: =VLOOKUP(A37,'Laboratory B'!A:J,9,0) -> 177 | F37: =_xlfn.RANK.AVG(E37,E$2:E$419,1) -> 280.5 | G37: =D37-F37 -> 10 | H37: =G37^2 -> 100 | I37: =(C37+E37)/2 -> 182.5 | J37: =((C37-I37)^2+(E37-I37)^2)/2 -> 30.25 | K37: =SQRT(J37) -> 5.5 | L37: =(K37/I37)*100 -> 3.0136986 | M37: =(D37-$D$425) -> 87.129902 | N37: =(F37-$F$425) -> 77.314951 | O37: =(M37)^2 -> 7591.6198 | P37: =(N37)^2 -> 5977.6016 | Q37: =(M37*N37) -> 6736.4441
A38: Boger "Baddy" | B38: Sumpfzypresse (Taxodium distichum) | C38: =VLOOKUP(A38,'Laboratory B'!A:M,11,0) -> 0 | D38: =_xlfn.RANK.AVG(C38,C$2:C$419,1) -> 17 | E38: =VLOOKUP(A38,'Laboratory B'!A:M,12,0) -> 0 | F38: =_xlfn.RANK.AVG(E38,E$2:E$419,1) -> 17 | G38: =D38-F38 -> 0 | H38: =G38^2 -> 0 | I38: =(C38+E38)/2 -> 0 | J38: =((C38-I38)^2+(E38-I38)^2)/2 -> 0 | K38: =SQRT(J38) -> 0 | L38: 0 | M38: =(D38-$D$425) -> -186.3701 | N38: =(F38-$F$425) -> -186.18505 | O38: =(M38)^2 -> 34733.813 | P38: =(N38)^2 -> 34664.872 | Q38: =(M38*N38) -> 34699.326
A39: Gut "Seven" | B39: Sumpfzypresse
